Felt | Verdi |
AlreadyApplied | True |
Aperture | 20.0 |
ApertureValue | 20.0 |
ApproximateFocusDistance | 4294967295 |
AutoLateralCA | 1 |
AutoWhiteVersion | 134348800 |
BitsPerSample | 8 |
Blacks2012 | -62 |
BlueHue | 0 |
BlueSaturation | 0 |
CameraProfile | Adobe Standard |
CFAPattern | [Red,Green][Green,Blue] |
CircleOfConfusion | 0.030 mm |
Clarity2012 | +19 |
ColorComponents | 3 |
ColorNoiseReduction | 25 |
ColorNoiseReductionDetail | 50 |
ColorNoiseReductionSmoothness | 50 |
ColorTemperature | 9210 |
ColorTransform | YCbCr |
Contrast | Normal |
Contrast2012 | +4 |
ConvertToGrayscale | False |
CreateDate (1) | 2015:02:25 17:50:50.20 |
CreateDate | 2015:02:25 17:50:50 |
CreatorTool | Adobe Photoshop Lightroom 5.7 (Macintosh) |
CropAngle | 0.697084 |
CropBottom | 0.991822 |
CropConstrainToWarp | 0 |
CropLeft | 0.012876 |
CropRight | 0.971343 |
CropTop | 0.00789 |
CustomRendered | Normal |
DateCreated (1) | 2015:02:25 |
DateCreated | 2015:02:25 17:50:50.20 |
DateTimeOriginal | 2015:02:25 17:50:50 |
DefringeGreenAmount | 0 |
DefringeGreenHueHi | 60 |
DefringeGreenHueLo | 40 |
DefringePurpleAmount | 0 |
DefringePurpleHueHi | 70 |
DefringePurpleHueLo | 30 |
DigitalZoomRatio | 1 |
DOF | inf (0.54 m - inf) |
Exposure2012 | 0.00 |
ExposureCompensation | 0 |
ExposureMode | Manual |
ExposureProgram | Manual |
ExposureTime | 1.6 |
Flash | Off, Did not fire |
FNumber | 20.0 |
FocalLength | 18.0 mm |
FocalLength35efl | 18.0 mm (35 mm equivalent: 18.0 mm) |
FocalLengthIn35mmFormat | 18 mm |
Format | image/jpeg |
FOV | 90.0 deg |
GainControl | None |
GradientBasedCorrActive | true |
GradientBasedCorrAmount | 1.000000 |
GradientBasedCorrBrightness | 0.000000 |
GradientBasedCorrClarity2012 | 0.500000 |
GradientBasedCorrContrast2012 | 0.000000 |
GradientBasedCorrDefringe | 0.000000 |
GradientBasedCorrExposure2012 | 0.000000 |
GradientBasedCorrHighlights2012 | -1.000000 |
GradientBasedCorrHue | 19.203100 |
GradientBasedCorrLuminanceNoise | 0.000000 |
GradientBasedCorrMaskFullX | 0.435486 |
GradientBasedCorrMaskFullY | 0.012238 |
GradientBasedCorrMaskValue | 1.000000 |
GradientBasedCorrMaskWhat | Mask/Gradient |
GradientBasedCorrMaskZeroX | 0.425912 |
GradientBasedCorrMaskZeroY | 0.657197 |
GradientBasedCorrMoire | 0.000000 |
GradientBasedCorrSaturation (1) | 0.000000 |
GradientBasedCorrSaturation | 0.086016 |
GradientBasedCorrShadows2012 | 1.000000 |
GradientBasedCorrSharpness | 0.000000 |
GradientBasedCorrTemperature | 0.000000 |
GradientBasedCorrTint | 0.000000 |
GradientBasedCorrWhat | Correction |
GrainAmount | 0 |
GreenHue | 0 |
GreenSaturation | 0 |
HasCrop | True |
HasExtendedXMP | F0C348F9E120C79F2F424311E96E099F |
HasSettings | True |
Highlights2012 | -100 |
HueAdjustmentAqua | +8 |
HueAdjustmentBlue | +11 |
HueAdjustmentGreen | 0 |
HueAdjustmentMagenta | -13 |
HueAdjustmentOrange | -4 |
HueAdjustmentPurple | -18 |
HueAdjustmentRed | -10 |
HueAdjustmentYellow | -16 |
HyperfocalDistance | 0.54 m |
ImageHeight | 4747 |
ImageNumber | 3731 |
ImageSize | 7113x4747 |
ImageWidth | 7113 |
ISO | 160 |
Lens | 14.0-24.0 mm f/2.8 |
LensID (1) | 146 |
LensID | AF-S Zoom-Nikkor 14-24mm f/2.8G ED |
LensInfo | 14-24mm f/2.8 |
LensManualDistortionAmount | 0 |
LensModel | 14.0-24.0 mm f/2.8 |
LensProfileChromaticAberrationScale | 100 |
LensProfileDistortionScale | 100 |
LensProfileEnable | 1 |
LensProfileFilename | NIKON D3X (Nikon FX 14-24mm f2.8 G ED) - RAW.lcp |
LensProfileName | Adobe (Nikon AF-S NIKKOR 14-24mm f/2.8G ED) |
LensProfileSetup | LensDefaults |
LensProfileVignettingScale | 100 |
LightSource | Shade |
LightValue | 7.3 |
LuminanceAdjustmentAqua | 0 |
LuminanceAdjustmentBlue | -7 |
LuminanceAdjustmentGreen | 0 |
LuminanceAdjustmentMagenta | -9 |
LuminanceAdjustmentOrange | -6 |
LuminanceAdjustmentPurple | -11 |
LuminanceAdjustmentRed | -10 |
LuminanceAdjustmentYellow | -9 |
LuminanceSmoothing | 0 |
Make | NIKON CORPORATION |
MaxApertureValue | 2.8 |
Megapixels | 33.8 |
MeteringMode | Spot |
Model | NIKON D800 |
ModifyDate (1) | 2015:02:26 10:40:42+01:00 |
ModifyDate | 2015:02:26 10:40:42 |
PaintCorrectionActive | true |
PaintCorrectionAmount | 1.000000 |
PaintCorrectionBrightness | 0.000000 |
PaintCorrectionClarity2012 (1) | 1.000000 |
PaintCorrectionClarity2012 | 0.000000 |
PaintCorrectionContrast2012 (1) | 0.072610 |
PaintCorrectionContrast2012 (3) | 0.250000 |
PaintCorrectionContrast2012 | 0.000000 |
PaintCorrectionDefringe | 0.000000 |
PaintCorrectionExposure2012 (1) | -0.020588 |
PaintCorrectionExposure2012 (2) | -0.030882 |
PaintCorrectionExposure2012 (3) | 0.000000 |
PaintCorrectionExposure2012 (4) | -0.037224 |
PaintCorrectionExposure2012 | 0.018750 |
PaintCorrectionHighlights2012 (1) | -1.000000 |
PaintCorrectionHighlights2012 | 0.000000 |
PaintCorrectionHue | 240.000000 |
PaintCorrectionLuminanceNoise | 0.000000 |
PaintCorrectionMaskCenterWeight | 0.060917 |
PaintCorrectionMaskFlow | 1.000000 |
PaintCorrectionMaskRadius (1) | 0.034877 |
PaintCorrectionMaskRadius (10) | 0.012297 |
PaintCorrectionMaskRadius (11) | 0.012166 |
PaintCorrectionMaskRadius (12) | 0.012077 |
PaintCorrectionMaskRadius (13) | 0.012073 |
PaintCorrectionMaskRadius (14) | 0.012227 |
PaintCorrectionMaskRadius (15) | 0.012250 |
PaintCorrectionMaskRadius (16) | 0.012014 |
PaintCorrectionMaskRadius (17) | 0.012006 |
PaintCorrectionMaskRadius (18) | 0.012098 |
PaintCorrectionMaskRadius (19) | 0.012093 |
PaintCorrectionMaskRadius (2) | 0.035271 |
PaintCorrectionMaskRadius (20) | 0.012134 |
PaintCorrectionMaskRadius (21) | 0.012255 |
PaintCorrectionMaskRadius (22) | 0.012059 |
PaintCorrectionMaskRadius (23) | 0.012071 |
PaintCorrectionMaskRadius (24) | 0.052635 |
PaintCorrectionMaskRadius (25) | 0.053615 |
PaintCorrectionMaskRadius (26) | 0.035267 |
PaintCorrectionMaskRadius (27) | 0.034462 |
PaintCorrectionMaskRadius (28) | 0.035134 |
PaintCorrectionMaskRadius (29) | 0.034993 |
PaintCorrectionMaskRadius (3) | 0.035072 |
PaintCorrectionMaskRadius (30) | 0.034666 |
PaintCorrectionMaskRadius (31) | 0.034478 |
PaintCorrectionMaskRadius (32) | 0.035297 |
PaintCorrectionMaskRadius (33) | 0.035147 |
PaintCorrectionMaskRadius (34) | 0.035098 |
PaintCorrectionMaskRadius (35) | 0.035248 |
PaintCorrectionMaskRadius (36) | 0.041236 |
PaintCorrectionMaskRadius (37) | 0.040815 |
PaintCorrectionMaskRadius (38) | 0.023118 |
PaintCorrectionMaskRadius (39) | 0.023136 |
PaintCorrectionMaskRadius (4) | 0.006773 |
PaintCorrectionMaskRadius (40) | 0.023149 |
PaintCorrectionMaskRadius (41) | 0.023570 |
PaintCorrectionMaskRadius (42) | 0.023463 |
PaintCorrectionMaskRadius (43) | 0.023237 |
PaintCorrectionMaskRadius (44) | 0.023565 |
PaintCorrectionMaskRadius (45) | 0.022902 |
PaintCorrectionMaskRadius (46) | 0.022774 |
PaintCorrectionMaskRadius (47) | 0.023538 |
PaintCorrectionMaskRadius (48) | 0.040278 |
PaintCorrectionMaskRadius (49) | 0.041269 |
PaintCorrectionMaskRadius (5) | 0.006731 |
PaintCorrectionMaskRadius (50) | 0.041277 |
PaintCorrectionMaskRadius (51) | 0.041266 |
PaintCorrectionMaskRadius (52) | 0.041256 |
PaintCorrectionMaskRadius (53) | 0.006612 |
PaintCorrectionMaskRadius (54) | 0.006611 |
PaintCorrectionMaskRadius (55) | 0.012159 |
PaintCorrectionMaskRadius (56) | 0.011957 |
PaintCorrectionMaskRadius (57) | 0.011893 |
PaintCorrectionMaskRadius (58) | 0.039884 |
PaintCorrectionMaskRadius (59) | 0.064171 |
PaintCorrectionMaskRadius (6) | 0.006702 |
PaintCorrectionMaskRadius (60) | 0.058953 |
PaintCorrectionMaskRadius (61) | 0.058968 |
PaintCorrectionMaskRadius (62) | 0.058934 |
PaintCorrectionMaskRadius (63) | 0.059041 |
PaintCorrectionMaskRadius (64) | 0.058993 |
PaintCorrectionMaskRadius (65) | 0.058972 |
PaintCorrectionMaskRadius (66) | 0.058952 |
PaintCorrectionMaskRadius (67) | 0.017465 |
PaintCorrectionMaskRadius (68) | 0.011937 |
PaintCorrectionMaskRadius (69) | 0.006627 |
PaintCorrectionMaskRadius (7) | 0.006775 |
PaintCorrectionMaskRadius (70) | 0.006629 |
PaintCorrectionMaskRadius (71) | 0.006674 |
PaintCorrectionMaskRadius (72) | 0.006669 |
PaintCorrectionMaskRadius (73) | 0.006681 |
PaintCorrectionMaskRadius (74) | 0.006625 |
PaintCorrectionMaskRadius (75) | 0.006593 |
PaintCorrectionMaskRadius (76) | 0.006617 |
PaintCorrectionMaskRadius (77) | 0.011961 |
PaintCorrectionMaskRadius (8) | 0.006732 |
PaintCorrectionMaskRadius (9) | 0.012119 |
PaintCorrectionMaskRadius | 0.011960 |
PaintCorrectionMaskValue | 1.000000 |
PaintCorrectionMaskWhat | Mask/Paint |
PaintCorrectionMoire | 0.000000 |
PaintCorrectionSaturation | 0.000000 |
PaintCorrectionShadows2012 (1) | -1.000000 |
PaintCorrectionShadows2012 | 0.000000 |
PaintCorrectionSharpness | 0.000000 |
PaintCorrectionTemperature | 0.000000 |
PaintCorrectionTint | 0.000000 |
PaintCorrectionWhat | Correction |
ParametricDarks | +2 |
ParametricHighlights | +52 |
ParametricHighlightSplit | 75 |
ParametricLights | +13 |
ParametricMidtoneSplit | 50 |
ParametricShadows | 0 |
ParametricShadowSplit | 25 |
PerspectiveAspect | 0 |
PerspectiveHorizontal | 0 |
PerspectiveRotate | 0.0 |
PerspectiveScale | 100 |
PerspectiveUpright | 0 |
PerspectiveVertical | 0 |
PostCropVignetteAmount | 0 |
ProcessVersion | 6.7 |
ProfileDescription | Adobe RGB (1998) |
RedHue | 0 |
RedSaturation | 0 |
Saturation (1) | 0 |
Saturation | Normal |
SaturationAdjustmentAqua | +10 |
SaturationAdjustmentBlue | +12 |
SaturationAdjustmentGreen | 0 |
SaturationAdjustmentMagenta | +10 |
SaturationAdjustmentOrange | +6 |
SaturationAdjustmentPurple | +6 |
SaturationAdjustmentRed | +8 |
SaturationAdjustmentYellow | +14 |
ScaleFactor35efl | 1.0 |
SceneCaptureType | Landscape |
SceneType | Directly photographed |
SensingMethod | One-chip color area |
SensitivityType | Recommended Exposure Index |
SerialNumber | 6044631 |
Shadows2012 | +100 |
ShadowTint | 0 |
SharpenDetail | 100 |
SharpenEdgeMasking | 50 |
SharpenRadius | +3.0 |
Sharpness (1) | 64 |
Sharpness | Normal |
ShutterSpeed | 1.6 |
ShutterSpeedValue | 1.6 |
Software | Adobe Photoshop Lightroom 5.7 (Macintosh) |
SplitToningBalance | 0 |
SplitToningHighlightHue | 12 |
SplitToningHighlightSaturation | 6 |
SplitToningShadowHue | 0 |
SplitToningShadowSaturation | 0 |
SubjectDistanceRange | Unknown |
Tint | +14 |
ToneCurve | 0, 0, 255, 255 |
ToneCurveBlue | 0, 0, 255, 255 |
ToneCurveGreen | 0, 0, 255, 255 |
ToneCurveName | Linear |
ToneCurveName2012 | Linear |
ToneCurvePV2012 | 0, 0, 255, 255 |
ToneCurvePV2012Blue | 0, 0, 255, 255 |
ToneCurvePV2012Green | 0, 0, 255, 255 |
ToneCurvePV2012Red | 0, 0, 255, 255 |
ToneCurveRed | 0, 0, 255, 255 |
Version | 8.7 |
Vibrance | +10 |
VignetteAmount | 0 |
WhiteBalance (1) | Custom |
WhiteBalance | Manual |
Whites2012 | -100 |