Felt | Verdi |
AlreadyApplied | True |
Aperture | 11.0 |
ApertureValue | 11.0 |
Artist | 373051003880 |
AutoLateralCA | 1 |
AutoWhiteVersion | 134348800 |
BitsPerSample | 8 |
Blacks2012 | +14 |
BlueHue | 0 |
BlueSaturation | 0 |
By-line | 373051003880 |
CameraProfile | Embedded |
CircleOfConfusion | 0.027 mm |
Clarity2012 | +7 |
ColorComponents | 3 |
ColorNoiseReduction | 21 |
ColorNoiseReductionDetail | 50 |
ColorNoiseReductionSmoothness | 50 |
ColorSpace | sRGB |
ColorTransform | YCbCr |
Contrast2012 | +5 |
ConvertToGrayscale | False |
CreateDate | 2016:09:21 15:14:39 |
Creator | 373051003880 |
CreatorTool | Adobe Photoshop Lightroom 5.7.1 (Macintosh) |
CropAngle | 0 |
CropBottom | 0.777816 |
CropConstrainToWarp | 0 |
CropLeft | 0.042006 |
CropRight | 0.973354 |
CropTop | 0 |
CustomRendered | Normal |
DateCreated (1) | 2016:09:21 |
DateCreated | 2016:09:21 15:14:39 |
DateTimeOriginal | 2016:09:21 15:14:39 |
DefringeGreenAmount | 0 |
DefringeGreenHueHi | 60 |
DefringeGreenHueLo | 40 |
DefringePurpleAmount | 0 |
DefringePurpleHueHi | 70 |
DefringePurpleHueLo | 30 |
Exposure2012 | -0.25 |
ExposureCompensation | 0 |
ExposureMode | Manual |
ExposureProgram | Manual |
ExposureTime | 1/100 |
Firmware | Firmware Version 1.1.6 |
Flash | Off, Did not fire |
FlashCompensation | 0 |
FNumber | 11.0 |
FocalLength | 24.0 mm |
FocalLength35efl | 24.0 mm (35 mm equivalent: 26.7 mm) |
Format | image/jpeg |
FOV | 67.9 deg |
GrainAmount | 0 |
GreenHue | 0 |
GreenSaturation | 0 |
HasCrop | True |
HasSettings | True |
Highlights2012 | -71 |
HueAdjustmentAqua | 0 |
HueAdjustmentBlue | 0 |
HueAdjustmentGreen | 0 |
HueAdjustmentMagenta | 0 |
HueAdjustmentOrange | 0 |
HueAdjustmentPurple | 0 |
HueAdjustmentRed | 0 |
HueAdjustmentYellow | 0 |
HyperfocalDistance | 1.94 m |
ImageHeight | 2837 |
ImageSize | 5095x2837 |
ImageWidth | 5095 |
IncrementalTemperature | 0 |
IncrementalTint | 0 |
ISO | 100 |
Lens | Canon EF 24-70mm f/2.8L II USM |
LensID (1) | 495 |
LensID | Canon EF 24-70mm f/2.8L II USM |
LensInfo | 24-70mm f/? |
LensManualDistortionAmount | 0 |
LensModel | Canon EF 24-70mm f/2.8L II USM |
LensProfileEnable | 1 |
LensProfileSetup | LensDefaults |
LensSerialNumber | 3630000901 |
LightValue | 13.6 |
LuminanceAdjustmentAqua | +2 |
LuminanceAdjustmentBlue | -26 |
LuminanceAdjustmentGreen | +27 |
LuminanceAdjustmentMagenta | 0 |
LuminanceAdjustmentOrange | +24 |
LuminanceAdjustmentPurple | +44 |
LuminanceAdjustmentRed | +6 |
LuminanceAdjustmentYellow | +20 |
LuminanceNoiseReductionContrast | 18 |
LuminanceNoiseReductionDetail | 50 |
LuminanceSmoothing | 16 |
Make | Canon |
MaxApertureValue | 2.7 |
Megapixels | 14.5 |
MeteringMode | Multi-segment |
Model | Canon EOS 6D |
ModifyDate (1) | 2016:09:21 19:33:36+02:00 |
ModifyDate | 2016:09:21 19:33:36 |
OwnerName | 373051003880 |
ParametricDarks | -3 |
ParametricHighlights | +21 |
ParametricHighlightSplit | 75 |
ParametricLights | +23 |
ParametricMidtoneSplit | 50 |
ParametricShadows | +27 |
ParametricShadowSplit | 25 |
PerspectiveAspect | 0 |
PerspectiveHorizontal | 0 |
PerspectiveRotate | 0.0 |
PerspectiveScale | 100 |
PerspectiveUpright | 1 |
PerspectiveVertical | 0 |
PostCropVignetteAmount | 0 |
ProcessVersion | 6.7 |
ProfileDescription | sRGB IEC61966-2.1 |
RedHue | 0 |
RedSaturation | 0 |
Saturation | 0 |
SaturationAdjustmentAqua | 0 |
SaturationAdjustmentBlue | +38 |
SaturationAdjustmentGreen | +41 |
SaturationAdjustmentMagenta | 0 |
SaturationAdjustmentOrange | +12 |
SaturationAdjustmentPurple | -67 |
SaturationAdjustmentRed | +7 |
SaturationAdjustmentYellow | +13 |
ScaleFactor35efl | 1.1 |
SceneCaptureType | Standard |
SerialNumber | 373051003880 |
Shadows2012 | +28 |
ShadowTint | 0 |
SharpenDetail | 41 |
SharpenEdgeMasking | 0 |
SharpenRadius | +1.0 |
Sharpness | 51 |
ShutterSpeed | 1/100 |
ShutterSpeedValue | 1/100 |
Software | Adobe Photoshop Lightroom 5.7.1 (Macintosh) |
SplitToningBalance | 0 |
SplitToningHighlightHue | 0 |
SplitToningHighlightSaturation | 0 |
SplitToningShadowHue | 0 |
SplitToningShadowSaturation | 0 |
ToneCurve | 0, 0, 255, 255 |
ToneCurveBlue | 0, 0, 255, 255 |
ToneCurveGreen | 0, 0, 255, 255 |
ToneCurveName | Linear |
ToneCurveName2012 | Linear |
ToneCurvePV2012 | 0, 0, 255, 255 |
ToneCurvePV2012Blue | 0, 0, 255, 255 |
ToneCurvePV2012Green | 0, 0, 255, 255 |
ToneCurvePV2012Red | 0, 0, 255, 255 |
ToneCurveRed | 0, 0, 255, 255 |
Version | 8.7.1 |
Vibrance | 0 |
VignetteAmount | 0 |
WhiteBalance (1) | As Shot |
WhiteBalance | Manual |
Whites2012 | +37 |