Felt | Verdi |
AlreadyApplied | True |
Aperture | 1.8 |
ApertureValue | 1.8 |
ApproximateFocusDistance | 4294967295 |
AutoLateralCA | 0 |
AutoWhiteVersion | 134348800 |
BitsPerSample | 8 |
Blacks2012 | -2 |
BlueHue | 0 |
BlueSaturation | 0 |
CameraProfile | Adobe Standard |
CFAPattern | [Red,Green][Green,Blue] |
CircGradBasedCorrActive | true |
CircGradBasedCorrAmount | 1.000000 |
CircGradBasedCorrBrightness | 0.000000 |
CircGradBasedCorrClarity2012 | 0.000000 |
CircGradBasedCorrContrast2012 | 0.000000 |
CircGradBasedCorrDefringe | 0.000000 |
CircGradBasedCorrExposure2012 | -0.023750 |
CircGradBasedCorrHighlights2012 | 0.000000 |
CircGradBasedCorrHue | 0.000000 |
CircGradBasedCorrLuminanceNoise | 0.000000 |
CircGradBasedCorrMaskAngle | -1.000000 |
CircGradBasedCorrMaskBottom | 0.906899 |
CircGradBasedCorrMaskFeather | +50 |
CircGradBasedCorrMaskFlipped | false |
CircGradBasedCorrMaskLeft | 0.024623 |
CircGradBasedCorrMaskMidpoint | +50 |
CircGradBasedCorrMaskRight | 0.304485 |
CircGradBasedCorrMaskRoundness | 0 |
CircGradBasedCorrMaskTop | 0.464867 |
CircGradBasedCorrMaskValue | 1.000000 |
CircGradBasedCorrMaskVersion | +2 |
CircGradBasedCorrMaskWhat | Mask/CircularGradient |
CircGradBasedCorrMoire | 0.000000 |
CircGradBasedCorrSaturation | 0.000000 |
CircGradBasedCorrShadows2012 | 0.000000 |
CircGradBasedCorrSharpness | 0.000000 |
CircGradBasedCorrTemperature | 0.000000 |
CircGradBasedCorrTint | 0.000000 |
CircGradBasedCorrWhat | Correction |
CircleOfConfusion | 0.020 mm |
Clarity2012 | +36 |
ColorComponents | 3 |
ColorNoiseReduction | 25 |
ColorNoiseReductionDetail | 50 |
ColorNoiseReductionSmoothness | 50 |
ColorTemperature | 4288 |
ColorTransform | YCbCr |
Contrast | Normal |
Contrast2012 | 0 |
ConvertToGrayscale | False |
CreateDate (1) | 2015:03:11 19:16:32.80 |
CreateDate | 2015:03:11 19:16:32 |
CreatorTool | Adobe Photoshop Lightroom 5.7.1 (Windows) |
CropAngle | 0.1 |
CropBottom | 0.972334 |
CropConstrainToWarp | 0 |
CropLeft | 0.014935 |
CropRight | 0.970838 |
CropTop | 0 |
CustomRendered | Normal |
DateCreated (1) | 2015:03:11 |
DateCreated | 2015:03:11 19:16:32.80 |
DateTimeOriginal | 2015:03:11 19:16:32 |
DefringeGreenAmount | 0 |
DefringeGreenHueHi | 60 |
DefringeGreenHueLo | 40 |
DefringePurpleAmount | 0 |
DefringePurpleHueHi | 70 |
DefringePurpleHueLo | 30 |
DigitalZoomRatio | 1 |
DOF | inf (8.99 m - inf) |
Exposure2012 | 0.00 |
ExposureCompensation | 0 |
ExposureMode | Manual |
ExposureProgram | Manual |
ExposureTime | 30 |
Flash | Off, Did not fire |
FNumber | 1.8 |
FocalLength | 18.0 mm |
FocalLength35efl | 18.0 mm (35 mm equivalent: 27.0 mm) |
FocalLengthIn35mmFormat | 27 mm |
Format | image/jpeg |
FOV | 67.4 deg |
GainControl | None |
GradientBasedCorrActive | true |
GradientBasedCorrAmount | 1.000000 |
GradientBasedCorrBrightness | 0.000000 |
GradientBasedCorrClarity2012 (1) | 0.190480 |
GradientBasedCorrClarity2012 | 0.309520 |
GradientBasedCorrContrast2012 (1) | 0.095240 |
GradientBasedCorrContrast2012 | 0.190480 |
GradientBasedCorrDefringe | 0.000000 |
GradientBasedCorrExposure2012 (1) | -0.175000 |
GradientBasedCorrExposure2012 | -0.023750 |
GradientBasedCorrHighlights2012 (1) | -0.190480 |
GradientBasedCorrHighlights2012 | 0.166670 |
GradientBasedCorrHue | 0.000000 |
GradientBasedCorrLuminanceNoise (1) | 0.000000 |
GradientBasedCorrLuminanceNoise | 0.047620 |
GradientBasedCorrMaskFullX (1) | 0.493660 |
GradientBasedCorrMaskFullX | 0.490684 |
GradientBasedCorrMaskFullY (1) | 1.000240 |
GradientBasedCorrMaskFullY | 0.006817 |
GradientBasedCorrMaskValue | 1.000000 |
GradientBasedCorrMaskWhat | Mask/Gradient |
GradientBasedCorrMaskZeroX (1) | 0.475298 |
GradientBasedCorrMaskZeroX | 0.508742 |
GradientBasedCorrMaskZeroY (1) | 0.025943 |
GradientBasedCorrMaskZeroY | 1.022080 |
GradientBasedCorrMoire | 0.000000 |
GradientBasedCorrSaturation (1) | 0.166670 |
GradientBasedCorrSaturation (3) | 0.142860 |
GradientBasedCorrSaturation | 0.000000 |
GradientBasedCorrShadows2012 (1) | -0.357140 |
GradientBasedCorrShadows2012 | 0.000000 |
GradientBasedCorrSharpness | 0.238100 |
GradientBasedCorrTemperature (1) | 0.190480 |
GradientBasedCorrTemperature | -0.117620 |
GradientBasedCorrTint (1) | 0.000000 |
GradientBasedCorrTint | -0.071430 |
GradientBasedCorrWhat | Correction |
GrainAmount | 0 |
GreenHue | 0 |
GreenSaturation | 0 |
HasCrop | True |
HasSettings | True |
Highlights2012 | -2 |
HueAdjustmentAqua | 0 |
HueAdjustmentBlue | 0 |
HueAdjustmentGreen | 0 |
HueAdjustmentMagenta | 0 |
HueAdjustmentOrange | 0 |
HueAdjustmentPurple | -100 |
HueAdjustmentRed | 0 |
HueAdjustmentYellow | 0 |
HyperfocalDistance | 8.99 m |
ImageHeight | 4000 |
ImageNumber | 4652 |
ImageSize | 5921x4000 |
ImageWidth | 5921 |
ISO | 200 |
Keywords | Djupholla, Europa, Finnmark, Fylker, Geografi, Norge, Vadsø, Vestre Jakobselv |
Lens | 18.0-35.0 mm f/1.8 |
LensID (1) | 139 |
LensID | Sigma 18-35mm F1.8 DC HSM |
LensInfo | 18-35mm f/1.8 |
LensManualDistortionAmount | -18 |
LensModel | 18.0-35.0 mm f/1.8 |
LensProfileEnable | 0 |
LensProfileSetup | LensDefaults |
LightSource | Unknown |
LightValue | -4.2 |
LuminanceAdjustmentAqua | 0 |
LuminanceAdjustmentBlue | 0 |
LuminanceAdjustmentGreen | 0 |
LuminanceAdjustmentMagenta | 0 |
LuminanceAdjustmentOrange | 0 |
LuminanceAdjustmentPurple | -29 |
LuminanceAdjustmentRed | 0 |
LuminanceAdjustmentYellow | 0 |
LuminanceSmoothing | 0 |
Make | NIKON CORPORATION |
MaxApertureValue | 1.7 |
Megapixels | 23.7 |
MeteringMode | Multi-segment |
Model | NIKON D7100 |
ModifyDate (1) | 2015:08:16 12:59:31+02:00 |
ModifyDate | 2015:08:16 12:59:31 |
PaintCorrectionActive | true |
PaintCorrectionAmount | 1.000000 |
PaintCorrectionBrightness | 0.000000 |
PaintCorrectionClarity2012 (2) | 0.285710 |
PaintCorrectionClarity2012 | 0.000000 |
PaintCorrectionContrast2012 (1) | 0.000000 |
PaintCorrectionContrast2012 (2) | -0.309520 |
PaintCorrectionContrast2012 | 0.452380 |
PaintCorrectionDefringe | 0.000000 |
PaintCorrectionExposure2012 (1) | -0.104750 |
PaintCorrectionExposure2012 (2) | 0.071500 |
PaintCorrectionExposure2012 | -0.357250 |
PaintCorrectionHighlights2012 (1) | -0.166670 |
PaintCorrectionHighlights2012 (2) | 0.285710 |
PaintCorrectionHighlights2012 | -0.119050 |
PaintCorrectionHue | 0.000000 |
PaintCorrectionLuminanceNoise | 0.000000 |
PaintCorrectionMaskCenterWeight (2) | 0.000000 |
PaintCorrectionMaskCenterWeight | 0.140221 |
PaintCorrectionMaskFlow | 1.000000 |
PaintCorrectionMaskRadius (1) | 0.148684 |
PaintCorrectionMaskRadius | 0.047118 |
PaintCorrectionMaskValue | 1.000000 |
PaintCorrectionMaskWhat | Mask/Paint |
PaintCorrectionMoire | 0.000000 |
PaintCorrectionSaturation (1) | -0.166670 |
PaintCorrectionSaturation (3) | 0.166670 |
PaintCorrectionSaturation | 0.000000 |
PaintCorrectionShadows2012 (1) | 0.000000 |
PaintCorrectionShadows2012 (2) | 0.166670 |
PaintCorrectionShadows2012 | -0.404760 |
PaintCorrectionSharpness | 0.000000 |
PaintCorrectionTemperature (2) | 0.642860 |
PaintCorrectionTemperature | 0.000000 |
PaintCorrectionTint (2) | 0.200000 |
PaintCorrectionTint | 0.000000 |
PaintCorrectionWhat | Correction |
ParametricDarks | 0 |
ParametricHighlights | 0 |
ParametricHighlightSplit | 75 |
ParametricLights | 0 |
ParametricMidtoneSplit | 50 |
ParametricShadows | 0 |
ParametricShadowSplit | 25 |
PerspectiveAspect | +7 |
PerspectiveHorizontal | -1 |
PerspectiveRotate | 0.0 |
PerspectiveScale | 100 |
PerspectiveUpright | 0 |
PerspectiveVertical | -5 |
PostCropVignetteAmount | 0 |
ProcessVersion | 6.7 |
ProfileDescription | sRGB IEC61966-2.1 |
RedHue | 0 |
RedSaturation | 0 |
Saturation (1) | 0 |
Saturation | Normal |
SaturationAdjustmentAqua | +18 |
SaturationAdjustmentBlue | +40 |
SaturationAdjustmentGreen | +11 |
SaturationAdjustmentMagenta | -100 |
SaturationAdjustmentOrange | +22 |
SaturationAdjustmentPurple | -100 |
SaturationAdjustmentRed | +47 |
SaturationAdjustmentYellow | -11 |
ScaleFactor35efl | 1.5 |
SceneCaptureType | Standard |
SceneType | Directly photographed |
SensingMethod | One-chip color area |
SensitivityType | Recommended Exposure Index |
SerialNumber | 4401095 |
Shadows2012 | 0 |
ShadowTint | 0 |
SharpenDetail | 43 |
SharpenEdgeMasking | 70 |
SharpenRadius | +0.7 |
Sharpness (1) | 41 |
Sharpness | Normal |
ShutterSpeed | 30 |
ShutterSpeedValue | 30 |
Software | Adobe Photoshop Lightroom 5.7.1 (Windows) |
SplitToningBalance | 0 |
SplitToningHighlightHue | 0 |
SplitToningHighlightSaturation | 0 |
SplitToningShadowHue | 0 |
SplitToningShadowSaturation | 0 |
Subject | Djupholla, Europa, Finnmark, Fylker, Geografi, Norge, Vadsø, Vestre Jakobselv |
SubjectDistanceRange | Unknown |
Tint | +29 |
ToneCurve | 0, 0, 255, 255 |
ToneCurveBlue | 0, 0, 255, 255 |
ToneCurveGreen | 0, 0, 255, 255 |
ToneCurveName | Linear |
ToneCurveName2012 | Linear |
ToneCurvePV2012 | 0, 0, 255, 255 |
ToneCurvePV2012Blue | 0, 0, 255, 255 |
ToneCurvePV2012Green | 0, 0, 255, 255 |
ToneCurvePV2012Red | 0, 0, 255, 255 |
ToneCurveRed | 0, 0, 255, 255 |
Version | 8.7.1 |
Vibrance | +50 |
VignetteAmount | 0 |
WhiteBalance (1) | Custom |
WhiteBalance | Auto |
Whites2012 | -38 |