Felt | Verdi |
AlreadyApplied | True |
Aperture | 11.0 |
ApertureValue | 11.0 |
Artist | Arild Thingvoll |
AutoLateralCA | 1 |
AutoWhiteVersion | 134348800 |
BitsPerSample | 8 |
Blacks2012 | -27 |
BlueHue | 0 |
BlueSaturation | 0 |
BrightnessValue | 7.5 |
By-line | Arild Thingvoll |
CameraProfile | Adobe Standard |
CircleOfConfusion | 0.020 mm |
Clarity2012 | +100 |
ColorComponents | 3 |
ColorNoiseReduction | 25 |
ColorNoiseReductionDetail | 50 |
ColorNoiseReductionSmoothness | 50 |
ColorSpace | sRGB |
ColorTemperature | 5350 |
ColorTransform | YCbCr |
Contrast2012 | +7 |
ConvertToGrayscale | True |
Copyright | © Arild Thingvoll |
CopyrightNotice | © Arild Thingvoll |
CreateDate | 2015:10:08 17:08:12 |
Creator | Arild Thingvoll |
CreatorAddress | Ligtvor |
CreatorCity | Vik i Sogn |
CreatorCountry | Norway |
CreatorPostalCode | 6893 |
CreatorRegion | Sogn og Fjordane |
CreatorTool | Adobe Photoshop Lightroom 6.8 (Windows) |
CreatorWorkEmail | athingvoll@gmail.com |
CreatorWorkTelephone | 91584513 |
CropAngle | 0 |
CropBottom | 0.668528 |
CropConstrainToWarp | 0 |
CropLeft | 0.183208 |
CropRight | 0.598015 |
CropTop | 0.070765 |
CustomRendered | Normal |
DateCreated (1) | 2015:10:08 |
DateCreated | 2015:10:08 17:08:12 |
DateTimeOriginal | 2015:10:08 17:08:12 |
Dehaze | 0 |
Exposure2012 | -1.59 |
ExposureCompensation | 0 |
ExposureMode | Auto |
ExposureProgram | Aperture-priority AE |
ExposureTime | 1/50 |
Flash | Off, Did not fire |
FNumber | 11.0 |
FocalLength | 18.0 mm |
FocalLength35efl | 18.0 mm (35 mm equivalent: 27.0 mm) |
FocalLengthIn35mmFormat | 27 mm |
Format | image/jpeg |
FOV | 67.4 deg |
GradientBasedCorrActive | true |
GradientBasedCorrAmount | 1.000000 |
GradientBasedCorrBrightness | 0.000000 |
GradientBasedCorrClarity2012 | -0.032970 |
GradientBasedCorrContrast2012 | 0.208790 |
GradientBasedCorrDefringe | 0.000000 |
GradientBasedCorrExposure2012 | -0.071500 |
GradientBasedCorrHighlights2012 | -0.208790 |
GradientBasedCorrHue | 240.000000 |
GradientBasedCorrLocalBlacks2012 | -0.076920 |
GradientBasedCorrLocalWhites2012 | -0.230770 |
GradientBasedCorrLuminanceNoise | 0.000000 |
GradientBasedCorrMaskFullX | 0.874640 |
GradientBasedCorrMaskFullY | 0.476713 |
GradientBasedCorrMaskValue | 1.000000 |
GradientBasedCorrMaskWhat | Mask/Gradient |
GradientBasedCorrMaskZeroX | 0.492521 |
GradientBasedCorrMaskZeroY | 0.488904 |
GradientBasedCorrMoire | 0.000000 |
GradientBasedCorrSaturation | 0.000000 |
GradientBasedCorrShadows2012 | 0.000000 |
GradientBasedCorrSharpness | 0.000000 |
GradientBasedCorrTemperature | -0.098900 |
GradientBasedCorrTint | 0.000000 |
GradientBasedCorrWhat | Correction |
GrainAmount | 0 |
GrayMixerAqua | +100 |
GrayMixerBlue | -24 |
GrayMixerGreen | +15 |
GrayMixerMagenta | +34 |
GrayMixerOrange | +73 |
GrayMixerPurple | -17 |
GrayMixerRed | +73 |
GrayMixerYellow | +53 |
GreenHue | 0 |
GreenSaturation | 0 |
HasCrop | True |
HasExtendedXMP | 20E88FCA3B4887663DF75F03C2E68AC2 |
HasSettings | True |
Highlights2012 | +2 |
HyperfocalDistance | 1.47 m |
ImageHeight | 750 |
ImageSize | 721x750 |
ImageWidth | 721 |
ISO | 200 |
Keywords | Trondheim, havn, landskap, nytt utsnitt, svart/kvitt |
Lens | XF18-55mmF2.8-4 R LM OIS |
LensInfo | 18-55mm f/2.8-4 |
LensMake | FUJIFILM |
LensManualDistortionAmount | 0 |
LensModel | XF18-55mmF2.8-4 R LM OIS |
LensProfileEnable | 1 |
LensProfileSetup | LensDefaults |
LensSerialNumber | 45A07419 |
LightSource | Unknown |
LightValue | 11.6 |
LuminanceNoiseReductionContrast | 0 |
LuminanceNoiseReductionDetail | 50 |
LuminanceSmoothing | 44 |
Make | FUJIFILM |
MaxApertureValue | 2.8 |
Megapixels | 0.541 |
MeteringMode | Multi-segment |
Model | X-T1 |
ModifyDate (1) | 2016:12:20 19:52:14+01:00 |
ModifyDate | 2016:12:20 19:52:14 |
PaintCorrectionActive | true |
PaintCorrectionAmount | 1.000000 |
PaintCorrectionBrightness | 0.000000 |
PaintCorrectionClarity2012 (3) | 0.742420 |
PaintCorrectionClarity2012 | 0.000000 |
PaintCorrectionContrast2012 (1) | 0.393940 |
PaintCorrectionContrast2012 (3) | 0.515150 |
PaintCorrectionContrast2012 (8) | 0.318180 |
PaintCorrectionContrast2012 | 0.000000 |
PaintCorrectionDefringe | 0.000000 |
PaintCorrectionExposure2012 (1) | -0.257500 |
PaintCorrectionExposure2012 (2) | 0.166750 |
PaintCorrectionExposure2012 (7) | 0.515250 |
PaintCorrectionExposure2012 (8) | 0.000000 |
PaintCorrectionExposure2012 | 0.030250 |
PaintCorrectionHighlights2012 (1) | 0.060610 |
PaintCorrectionHighlights2012 | 0.000000 |
PaintCorrectionHue | 240.000000 |
PaintCorrectionLocalBlacks2012 (3) | 0.000000 |
PaintCorrectionLocalBlacks2012 | -0.590910 |
PaintCorrectionLocalDehaze (3) | 0.257580 |
PaintCorrectionLocalDehaze | 0.000000 |
PaintCorrectionLocalWhites2012 (1) | 0.000000 |
PaintCorrectionLocalWhites2012 | 0.363640 |
PaintCorrectionLuminanceNoise | 0.000000 |
PaintCorrectionMaskCenterWeight | 0.021471 |
PaintCorrectionMaskFlow | 0.758000 |
PaintCorrectionMaskRadius (1) | 0.194413 |
PaintCorrectionMaskRadius (10) | 0.033777 |
PaintCorrectionMaskRadius (11) | 0.028850 |
PaintCorrectionMaskRadius (12) | 0.037305 |
PaintCorrectionMaskRadius (13) | 0.037639 |
PaintCorrectionMaskRadius (14) | 0.037549 |
PaintCorrectionMaskRadius (15) | 0.045040 |
PaintCorrectionMaskRadius (16) | 0.045638 |
PaintCorrectionMaskRadius (17) | 0.037203 |
PaintCorrectionMaskRadius (18) | 0.040200 |
PaintCorrectionMaskRadius (19) | 0.083755 |
PaintCorrectionMaskRadius (2) | 0.215335 |
PaintCorrectionMaskRadius (20) | 0.085902 |
PaintCorrectionMaskRadius (21) | 0.057241 |
PaintCorrectionMaskRadius (22) | 0.057237 |
PaintCorrectionMaskRadius (23) | 0.056087 |
PaintCorrectionMaskRadius (24) | 0.051664 |
PaintCorrectionMaskRadius (25) | 0.035458 |
PaintCorrectionMaskRadius (26) | 0.035066 |
PaintCorrectionMaskRadius (27) | 0.027152 |
PaintCorrectionMaskRadius (3) | 0.217634 |
PaintCorrectionMaskRadius (4) | 0.121705 |
PaintCorrectionMaskRadius (5) | 0.121808 |
PaintCorrectionMaskRadius (6) | 0.075961 |
PaintCorrectionMaskRadius (7) | 0.103248 |
PaintCorrectionMaskRadius (8) | 0.042447 |
PaintCorrectionMaskRadius (9) | 0.042578 |
PaintCorrectionMaskRadius | 0.063164 |
PaintCorrectionMaskValue | 0.494000 |
PaintCorrectionMaskWhat | Mask/Paint |
PaintCorrectionMoire | 0.000000 |
PaintCorrectionSaturation | 0.000000 |
PaintCorrectionShadows2012 (1) | -0.045450 |
PaintCorrectionShadows2012 (2) | 0.151520 |
PaintCorrectionShadows2012 (3) | 0.045450 |
PaintCorrectionShadows2012 (5) | 0.393940 |
PaintCorrectionShadows2012 (6) | 0.000000 |
PaintCorrectionShadows2012 (9) | 0.909090 |
PaintCorrectionShadows2012 | 0.621210 |
PaintCorrectionSharpness | 0.000000 |
PaintCorrectionTemperature | 0.000000 |
PaintCorrectionTint | 0.000000 |
PaintCorrectionWhat | Correction |
ParametricDarks | +14 |
ParametricHighlights | +1 |
ParametricHighlightSplit | 75 |
ParametricLights | +72 |
ParametricMidtoneSplit | 50 |
ParametricShadows | +100 |
ParametricShadowSplit | 25 |
PerspectiveAspect | 0 |
PerspectiveHorizontal | 0 |
PerspectiveRotate | 0.0 |
PerspectiveScale | 100 |
PerspectiveUpright | 2 |
PerspectiveVertical | 0 |
PerspectiveX | 0.00 |
PerspectiveY | 0.00 |
PostCropVignetteAmount | 0 |
ProcessVersion | 6.7 |
ProfileDescription | sRGB IEC61966-2.1 |
RedHue | 0 |
RedSaturation | 0 |
Rights | © Arild Thingvoll |
ScaleFactor35efl | 1.5 |
SceneCaptureType | Standard |
SceneType | Directly photographed |
SensingMethod | One-chip color area |
SensitivityType | Standard Output Sensitivity |
Shadows2012 | +13 |
ShadowTint | 0 |
SharpenDetail | 29 |
SharpenEdgeMasking | 0 |
SharpenRadius | +1.0 |
Sharpness (1) | 109 |
Sharpness | Normal |
ShutterSpeed | 1/50 |
ShutterSpeedValue | 1/50 |
Software | Adobe Photoshop Lightroom 6.8 (Windows) |
SplitToningBalance | 0 |
SplitToningHighlightHue | 0 |
SplitToningHighlightSaturation | 0 |
SplitToningShadowHue | 0 |
SplitToningShadowSaturation | 0 |
Subject | Trondheim, havn, landskap, nytt utsnitt, svart/kvitt |
SubjectDistanceRange | Unknown |
Tint | +3 |
ToneCurve | 0, 0, 255, 255 |
ToneCurveBlue | 0, 0, 255, 255 |
ToneCurveGreen | 0, 0, 255, 255 |
ToneCurveName | Linear |
ToneCurveName2012 | Linear |
ToneCurvePV2012 | 0, 0, 255, 255 |
ToneCurvePV2012Blue | 0, 0, 255, 255 |
ToneCurvePV2012Green | 0, 0, 255, 255 |
ToneCurvePV2012Red | 0, 0, 255, 255 |
ToneCurveRed | 0, 0, 255, 255 |
ToneMapStrength | 0 |
Version | 9.8 |
VignetteAmount | 0 |
WhiteBalance (1) | As Shot |
WhiteBalance | Auto |
Whites2012 | +50 |