Felt | Verdi |
AlreadyApplied | True |
Aperture | 2.8 |
ApertureValue | 2.8 |
AutoLateralCA | 1 |
AutoWhiteVersion | 134348800 |
BitsPerSample | 8 |
Blacks2012 | 0 |
BlueHue | 0 |
BlueSaturation | 0 |
BrightnessValue | -9.63515625 |
CameraProfile | Embedded |
CircGradBasedCorrActive | true |
CircGradBasedCorrAmount | 1.000000 |
CircGradBasedCorrBrightness | 0.000000 |
CircGradBasedCorrClarity | 0.000000 |
CircGradBasedCorrClarity2012 | 0.000000 |
CircGradBasedCorrContrast | 0.000000 |
CircGradBasedCorrContrast2012 | 0.000000 |
CircGradBasedCorrDefringe | 0.000000 |
CircGradBasedCorrExposure | 0.000000 |
CircGradBasedCorrExposure2012 | 0.250000 |
CircGradBasedCorrHighlights2012 | 0.000000 |
CircGradBasedCorrHue | 240.000000 |
CircGradBasedCorrLocalBlacks2012 | 0.000000 |
CircGradBasedCorrLocalWhites2012 | 0.000000 |
CircGradBasedCorrLuminanceNoise | 0.000000 |
CircGradBasedCorrMaskAngle | 0.000000 |
CircGradBasedCorrMaskBottom | 1.379400 |
CircGradBasedCorrMaskFeather | +100 |
CircGradBasedCorrMaskFlipped | false |
CircGradBasedCorrMaskLeft | -0.009378 |
CircGradBasedCorrMaskMidpoint | +50 |
CircGradBasedCorrMaskRight | 1.022430 |
CircGradBasedCorrMaskRoundness | 0 |
CircGradBasedCorrMaskTop | -0.158063 |
CircGradBasedCorrMaskValue | 1.000000 |
CircGradBasedCorrMaskVersion | +2 |
CircGradBasedCorrMaskWhat | Mask/CircularGradient |
CircGradBasedCorrMoire | 0.000000 |
CircGradBasedCorrSaturation | 0.000000 |
CircGradBasedCorrShadows2012 | 0.000000 |
CircGradBasedCorrSharpness | 0.000000 |
CircGradBasedCorrTemperature | 0.000000 |
CircGradBasedCorrTint | 0.000000 |
CircGradBasedCorrWhat | Correction |
CircleOfConfusion | 0.030 mm |
Clarity2012 | 0 |
ColorComponents | 3 |
ColorMode | RGB |
ColorNoiseReduction | 35 |
ColorNoiseReductionDetail | 50 |
ColorNoiseReductionSmoothness | 50 |
ColorSpace | sRGB |
ColorTransform | YCbCr |
Contrast | Normal |
Contrast2012 | -10 |
ConvertToGrayscale | False |
CreateDate | 2016:04:07 04:41:02 |
CreatorTool | LIBFORMAT (c) Pierre-e Gougelet |
CropAngle | 0 |
CropBottom | 0.995 |
CropConstrainToWarp | 0 |
CropLeft | 0.028065 |
CropRight | 0.913905 |
CropTop | 0.005478 |
CustomRendered | Normal |
DateCreated (1) | 2016:04:07 |
DateCreated | 2016:04:07 04:41:02 |
DateTimeOriginal | 2016:04:07 04:41:02 |
DefringeGreenAmount | 0 |
DefringeGreenHueHi | 60 |
DefringeGreenHueLo | 40 |
DefringePurpleAmount | 0 |
DefringePurpleHueHi | 70 |
DefringePurpleHueLo | 30 |
Dehaze | 0 |
DigitalZoomRatio | 1 |
ExifImageHeight | 900 |
ExifImageWidth | 1600 |
Exposure2012 | -1.30 |
ExposureCompensation | 0 |
ExposureMode | Manual |
ExposureProgram | Manual |
ExposureTime | 20 |
Flash | Off, Did not fire |
FNumber | 2.8 |
FocalLength | 21.0 mm |
FocalLength35efl | 21.0 mm (35 mm equivalent: 21.0 mm) |
FocalLengthIn35mmFormat | 21 mm |
Format | image/jpeg |
FOV | 81.2 deg |
GradientBasedCorrActive | true |
GradientBasedCorrAmount | 1.000000 |
GradientBasedCorrBrightness | 0.000000 |
GradientBasedCorrClarity | 0.000000 |
GradientBasedCorrClarity2012 | 0.000000 |
GradientBasedCorrContrast | 0.000000 |
GradientBasedCorrContrast2012 (6) | 0.300000 |
GradientBasedCorrContrast2012 | 0.000000 |
GradientBasedCorrDefringe | 0.000000 |
GradientBasedCorrExposure | 0.000000 |
GradientBasedCorrExposure2012 (4) | -0.100000 |
GradientBasedCorrExposure2012 (5) | 0.000000 |
GradientBasedCorrExposure2012 (6) | -0.050000 |
GradientBasedCorrExposure2012 | 0.050000 |
GradientBasedCorrHighlights2012 | 0.000000 |
GradientBasedCorrHue | 240.000000 |
GradientBasedCorrLocalBlacks2012 | 0.000000 |
GradientBasedCorrLocalWhites2012 | 0.000000 |
GradientBasedCorrLuminanceNoise | 0.000000 |
GradientBasedCorrMaskFullX (1) | 0.152568 |
GradientBasedCorrMaskFullX (2) | 0.142534 |
GradientBasedCorrMaskFullX (3) | 0.556911 |
GradientBasedCorrMaskFullX (4) | 0.524001 |
GradientBasedCorrMaskFullX (5) | 0.156014 |
GradientBasedCorrMaskFullX (6) | 0.453961 |
GradientBasedCorrMaskFullX | 0.075451 |
GradientBasedCorrMaskFullY (1) | 0.833812 |
GradientBasedCorrMaskFullY (2) | 0.523558 |
GradientBasedCorrMaskFullY (3) | 0.883928 |
GradientBasedCorrMaskFullY (4) | 0.162940 |
GradientBasedCorrMaskFullY (5) | 0.429078 |
GradientBasedCorrMaskFullY (6) | 0.131313 |
GradientBasedCorrMaskFullY | 0.985708 |
GradientBasedCorrMaskValue | 1.000000 |
GradientBasedCorrMaskWhat | Mask/Gradient |
GradientBasedCorrMaskZeroX (1) | 0.262180 |
GradientBasedCorrMaskZeroX (2) | 0.308221 |
GradientBasedCorrMaskZeroX (3) | 0.554926 |
GradientBasedCorrMaskZeroX (4) | 0.521271 |
GradientBasedCorrMaskZeroX (5) | 0.212698 |
GradientBasedCorrMaskZeroX (6) | 0.453648 |
GradientBasedCorrMaskZeroX | 0.113988 |
GradientBasedCorrMaskZeroY (1) | 0.481176 |
GradientBasedCorrMaskZeroY (2) | 0.477132 |
GradientBasedCorrMaskZeroY (3) | 0.676449 |
GradientBasedCorrMaskZeroY (4) | 0.583135 |
GradientBasedCorrMaskZeroY (5) | 0.429118 |
GradientBasedCorrMaskZeroY (6) | 0.507242 |
GradientBasedCorrMaskZeroY | 0.823245 |
GradientBasedCorrMoire | 0.000000 |
GradientBasedCorrSaturation | 0.000000 |
GradientBasedCorrShadows2012 (6) | 0.100000 |
GradientBasedCorrShadows2012 | 0.000000 |
GradientBasedCorrSharpness | 0.000000 |
GradientBasedCorrTemperature | 0.000000 |
GradientBasedCorrTint (2) | 0.100000 |
GradientBasedCorrTint (5) | 0.050000 |
GradientBasedCorrTint | 0.000000 |
GradientBasedCorrWhat | Correction |
GrainAmount | 0 |
GreenHue | 0 |
GreenSaturation | 0 |
HasCrop | True |
HasSettings | True |
Highlights2012 | 0 |
HueAdjustmentAqua | 0 |
HueAdjustmentBlue | 0 |
HueAdjustmentGreen | 0 |
HueAdjustmentMagenta | 0 |
HueAdjustmentOrange | 0 |
HueAdjustmentPurple | 0 |
HueAdjustmentRed | 0 |
HueAdjustmentYellow | 0 |
HyperfocalDistance | 5.24 m |
ICCProfileName | sRGB IEC61966-2.1 |
ImageHeight | 900 |
ImageSize | 1600x900 |
ImageWidth | 1600 |
IncrementalTemperature | +10 |
IncrementalTint | -21 |
ISO | 2000 |
Label | |
LateralChromaticAberrationCorrectionAlreadyApplied | True |
Lens | E 21mm F2.8 |
LensDistortInfo | 33199/32768 -63647025/1073741824 60966362/1073741824 -13102931/1073741824 |
LensInfo | 21mm f/2.8 |
LensManualDistortionAmount | 0 |
LensModel | E 21mm F2.8 |
LensProfileEnable | 0 |
LensProfileSetup | LensDefaults |
LightSource | Unknown |
LightValue | -5.7 |
LuminanceAdjustmentAqua | 0 |
LuminanceAdjustmentBlue | 0 |
LuminanceAdjustmentGreen | 0 |
LuminanceAdjustmentMagenta | 0 |
LuminanceAdjustmentOrange | 0 |
LuminanceAdjustmentPurple | 0 |
LuminanceAdjustmentRed | 0 |
LuminanceAdjustmentYellow | 0 |
LuminanceNoiseReductionContrast | 0 |
LuminanceNoiseReductionDetail | 50 |
LuminanceSmoothing | 30 |
Make | SONY |
MaxApertureValue | 2.8 |
Megapixels | 1.4 |
MeteringMode | Multi-segment |
Model | ILCE-7RM2 |
ModifyDate (1) | 2016:04:15 08:18:28+02:00 |
ModifyDate | 2016:04:15 08:18:28 |
Orientation | Horizontal (normal) |
PaintCorrectionActive | true |
PaintCorrectionAmount | 1.000000 |
PaintCorrectionBrightness | 0.000000 |
PaintCorrectionClarity | 0.000000 |
PaintCorrectionClarity2012 (17) | 0.200000 |
PaintCorrectionClarity2012 | 0.000000 |
PaintCorrectionContrast | 0.000000 |
PaintCorrectionContrast2012 (18) | -0.400000 |
PaintCorrectionContrast2012 | 0.000000 |
PaintCorrectionDefringe | 0.000000 |
PaintCorrectionExposure | 0.000000 |
PaintCorrectionExposure2012 (12) | -0.025000 |
PaintCorrectionExposure2012 (13) | -0.012500 |
PaintCorrectionExposure2012 (19) | 0.012500 |
PaintCorrectionExposure2012 (2) | 0.000000 |
PaintCorrectionExposure2012 (3) | 0.075000 |
PaintCorrectionExposure2012 (9) | 0.025000 |
PaintCorrectionExposure2012 | -0.050000 |
PaintCorrectionHighlights2012 | 0.000000 |
PaintCorrectionHue | 240.000000 |
PaintCorrectionLocalBlacks2012 | 0.000000 |
PaintCorrectionLocalWhites2012 | 0.000000 |
PaintCorrectionLuminanceNoise | 0.000000 |
PaintCorrectionMaskCenterWeight | 0.000000 |
PaintCorrectionMaskFlow | 1.000000 |
PaintCorrectionMaskRadius (1) | 0.231085 |
PaintCorrectionMaskRadius (13) | 0.210098 |
PaintCorrectionMaskRadius (16) | 0.108372 |
PaintCorrectionMaskRadius (18) | 0.056131 |
PaintCorrectionMaskRadius (21) | 0.171339 |
PaintCorrectionMaskRadius (27) | 0.064003 |
PaintCorrectionMaskRadius (28) | 0.111752 |
PaintCorrectionMaskRadius (31) | 0.109464 |
PaintCorrectionMaskRadius (32) | 0.060092 |
PaintCorrectionMaskRadius (34) | 0.064592 |
PaintCorrectionMaskRadius (36) | 0.109823 |
PaintCorrectionMaskRadius (37) | 0.157790 |
PaintCorrectionMaskRadius (39) | 0.121168 |
PaintCorrectionMaskRadius (41) | 0.188333 |
PaintCorrectionMaskRadius (5) | 0.233298 |
PaintCorrectionMaskRadius (8) | 0.148914 |
PaintCorrectionMaskRadius | 0.077371 |
PaintCorrectionMaskValue (1) | 0.285110 |
PaintCorrectionMaskValue | 1.000000 |
PaintCorrectionMaskWhat | Mask/Paint |
PaintCorrectionMoire | 0.000000 |
PaintCorrectionSaturation (25) | -0.090000 |
PaintCorrectionSaturation (3) | -0.170541 |
PaintCorrectionSaturation | 0.000000 |
PaintCorrectionShadows2012 (18) | 0.300000 |
PaintCorrectionShadows2012 (20) | 0.100000 |
PaintCorrectionShadows2012 | 0.000000 |
PaintCorrectionSharpness | 0.000000 |
PaintCorrectionTemperature | 0.000000 |
PaintCorrectionTint (13) | -0.090000 |
PaintCorrectionTint | 0.000000 |
PaintCorrectionWhat | Correction |
ParametricDarks | -35 |
ParametricHighlights | +59 |
ParametricHighlightSplit | 78 |
ParametricLights | +14 |
ParametricMidtoneSplit | 50 |
ParametricShadows | -16 |
ParametricShadowSplit | 10 |
PerspectiveAspect | 0 |
PerspectiveHorizontal | 0 |
PerspectiveRotate | 0.0 |
PerspectiveScale | 100 |
PerspectiveUpright | 0 |
PerspectiveVertical | 0 |
PostCropVignetteAmount | 0 |
ProcessVersion | 6.7 |
ProfileDescription | sRGB IEC61966-2.1 |
Rating | 4 |
RawFileName | Hollandia.tif |
RecommendedExposureIndex | 2000 |
RedHue | 0 |
RedSaturation | 0 |
Saturation (1) | -66 |
Saturation | Normal |
SaturationAdjustmentAqua | -10 |
SaturationAdjustmentBlue | -10 |
SaturationAdjustmentGreen | 0 |
SaturationAdjustmentMagenta | -5 |
SaturationAdjustmentOrange | +42 |
SaturationAdjustmentPurple | -12 |
SaturationAdjustmentRed | +10 |
SaturationAdjustmentYellow | +34 |
ScaleFactor35efl | 1.0 |
SceneCaptureType | Standard |
SceneType | Directly photographed |
SensitivityType | Recommended Exposure Index |
Shadows2012 | +45 |
ShadowTint | 0 |
SharpenDetail | 25 |
SharpenEdgeMasking | 0 |
SharpenRadius | +1.0 |
Sharpness (1) | 30 |
Sharpness | Normal |
ShutterSpeed | 20 |
ShutterSpeedValue | 20 |
Software | Adobe Photoshop CS6 (Macintosh) |
SplitToningBalance | +4 |
SplitToningHighlightHue | 0 |
SplitToningHighlightSaturation | 0 |
SplitToningShadowHue | 176 |
SplitToningShadowSaturation | 0 |
ToneCurve | 0, 0, 255, 255 |
ToneCurveBlue | 0, 0, 255, 255 |
ToneCurveGreen | 0, 0, 255, 255 |
ToneCurveName | Linear |
ToneCurveName2012 | Medium Contrast |
ToneCurvePV2012 | 0, 0, 32, 22, 64, 56, 128, 128, 192, 196, 255, 255 |
ToneCurvePV2012Blue | 0, 0, 255, 255 |
ToneCurvePV2012Green | 0, 0, 255, 255 |
ToneCurvePV2012Red | 0, 0, 255, 255 |
ToneCurveRed | 0, 0, 255, 255 |
ToneMapStrength | 0 |
URL_List | |
UserComment | Kolor stitching | 4 pictures | Size: 14320 x 7211 | Lens: Standard | RMS: 2.49 | FOV: 158.97 x 68.54 ~ 7.45 | Projection: Cylindrical | Color: LDR | |
Version | 9.1.1 |
Vibrance | +40 |
VignetteAmount | 0 |
WhiteBalance (1) | Custom |
WhiteBalance | Auto |
Whites2012 | 0 |