Felt | Verdi |
AlreadyApplied | True |
Aperture | 10.0 |
ApertureValue | 10.0 |
ApproximateFocusDistance | 206 |
AutoLateralCA | 1 |
AutoWhiteVersion | 134348800 |
BitsPerSample | 8 |
Blacks2012 | +17 |
BlueHue | 0 |
BlueSaturation | 0 |
CameraProfile | Adobe Standard |
CircGradBasedCorrActive | true |
CircGradBasedCorrAmount | 1.000000 |
CircGradBasedCorrBrightness | 0.000000 |
CircGradBasedCorrClarity2012 (1) | 0.076490 |
CircGradBasedCorrClarity2012 (2) | 0.028525 |
CircGradBasedCorrClarity2012 (3) | 0.000000 |
CircGradBasedCorrClarity2012 | 0.052598 |
CircGradBasedCorrContrast2012 (1) | 0.163699 |
CircGradBasedCorrContrast2012 (2) | 0.134357 |
CircGradBasedCorrContrast2012 (3) | 0.138445 |
CircGradBasedCorrContrast2012 | 0.192315 |
CircGradBasedCorrDefringe | 0.000000 |
CircGradBasedCorrExposure2012 (1) | -0.109829 |
CircGradBasedCorrExposure2012 (2) | 0.195312 |
CircGradBasedCorrExposure2012 (3) | -0.009175 |
CircGradBasedCorrExposure2012 | 0.020894 |
CircGradBasedCorrHighlights2012 (1) | -0.050781 |
CircGradBasedCorrHighlights2012 (2) | 0.092751 |
CircGradBasedCorrHighlights2012 (3) | 0.111919 |
CircGradBasedCorrHighlights2012 | 0.062318 |
CircGradBasedCorrHue (1) | 50.000000 |
CircGradBasedCorrHue (2) | 0.000000 |
CircGradBasedCorrHue | 230.000000 |
CircGradBasedCorrLocalBlacks2012 (2) | 0.000000 |
CircGradBasedCorrLocalBlacks2012 | 0.016988 |
CircGradBasedCorrLocalDehaze (2) | 0.000000 |
CircGradBasedCorrLocalDehaze | 0.038608 |
CircGradBasedCorrLocalWhites2012 (2) | 0.065861 |
CircGradBasedCorrLocalWhites2012 (3) | 0.000000 |
CircGradBasedCorrLocalWhites2012 | 0.135174 |
CircGradBasedCorrLuminanceNoise | 0.000000 |
CircGradBasedCorrMaskAngle (1) | -0.256064 |
CircGradBasedCorrMaskAngle (2) | 4.320950 |
CircGradBasedCorrMaskAngle (3) | 1.984970 |
CircGradBasedCorrMaskAngle | -0.807204 |
CircGradBasedCorrMaskBottom (1) | 0.514484 |
CircGradBasedCorrMaskBottom (2) | 0.917368 |
CircGradBasedCorrMaskBottom (3) | 0.634130 |
CircGradBasedCorrMaskBottom | 0.565235 |
CircGradBasedCorrMaskFeather | +73 |
CircGradBasedCorrMaskFlipped | true |
CircGradBasedCorrMaskLeft (1) | -0.408431 |
CircGradBasedCorrMaskLeft (2) | -0.090942 |
CircGradBasedCorrMaskLeft (3) | 0.524364 |
CircGradBasedCorrMaskLeft | -0.204068 |
CircGradBasedCorrMaskMidpoint | +50 |
CircGradBasedCorrMaskRight (1) | 1.269450 |
CircGradBasedCorrMaskRight (2) | 1.049890 |
CircGradBasedCorrMaskRight (3) | 1.135700 |
CircGradBasedCorrMaskRight | 0.362899 |
CircGradBasedCorrMaskRoundness | 0 |
CircGradBasedCorrMaskTop (1) | -0.004716 |
CircGradBasedCorrMaskTop (2) | 0.503304 |
CircGradBasedCorrMaskTop (3) | 0.473319 |
CircGradBasedCorrMaskTop | 0.509356 |
CircGradBasedCorrMaskValue | 1.000000 |
CircGradBasedCorrMaskVersion | +2 |
CircGradBasedCorrMaskWhat | Mask/CircularGradient |
CircGradBasedCorrMoire | 0.000000 |
CircGradBasedCorrSaturation (1) | 0.123910 |
CircGradBasedCorrSaturation (2) | 0.317799 |
CircGradBasedCorrSaturation (3) | 0.033612 |
CircGradBasedCorrSaturation (4) | 0.000000 |
CircGradBasedCorrSaturation (6) | 0.215579 |
CircGradBasedCorrSaturation (7) | 0.072220 |
CircGradBasedCorrSaturation | 0.102065 |
CircGradBasedCorrShadows2012 (1) | 0.199582 |
CircGradBasedCorrShadows2012 (2) | 0.142442 |
CircGradBasedCorrShadows2012 (3) | 0.137355 |
CircGradBasedCorrShadows2012 | 0.000000 |
CircGradBasedCorrSharpness (1) | 0.094113 |
CircGradBasedCorrSharpness (2) | 0.021893 |
CircGradBasedCorrSharpness (3) | 0.070767 |
CircGradBasedCorrSharpness | 0.058230 |
CircGradBasedCorrTemperature | 0.000000 |
CircGradBasedCorrTint | 0.000000 |
CircGradBasedCorrWhat | Correction |
CircleOfConfusion | 0.028 mm |
Clarity2012 | +9 |
ColorComponents | 3 |
ColorNoiseReduction | 15 |
ColorNoiseReductionDetail | 50 |
ColorNoiseReductionSmoothness | 50 |
ColorSpace | sRGB |
ColorTemperature | 5100 |
ColorTransform | YCbCr |
Contrast2012 | +17 |
ConvertToGrayscale | False |
CreateDate (1) | 2017:09:11 09:06:53.00 |
CreateDate | 2017:09:11 09:06:53 |
CreatorTool | Adobe Photoshop Lightroom 6.12 (Macintosh) |
CropAngle | -0.996094 |
CropBottom | 0.839508 |
CropConstrainToWarp | 0 |
CropLeft | 0.00706 |
CropRight | 0.991374 |
CropTop | 0.025417 |
CustomRendered | Normal |
DateCreated (1) | 2017:09:11 |
DateCreated | 2017:09:11 09:06:53.00 |
DateTimeOriginal | 2017:09:11 09:06:53 |
DefringeGreenAmount | 0 |
DefringeGreenHueHi | 60 |
DefringeGreenHueLo | 40 |
DefringePurpleAmount | 0 |
DefringePurpleHueHi | 70 |
DefringePurpleHueLo | 30 |
Dehaze | 0 |
DistortionCorrectionAlreadyApplied | True |
DOF | inf (16.08 m - inf) |
Exposure2012 | +0.40 |
ExposureCompensation | 0 |
ExposureMode | Manual |
ExposureProgram | Manual |
ExposureTime | 1/250 |
Firmware | 1.1.6 |
Flash | Off, Did not fire |
FlashCompensation | 0 |
FNumber | 10.0 |
FocalLength | 70.0 mm |
FocalLength35efl | 70.0 mm (35 mm equivalent: 74.8 mm) |
Format | image/jpeg |
FOV | 27.0 deg |
GrainAmount | 0 |
GreenHue | 0 |
GreenSaturation | 0 |
HasCrop | True |
HasSettings | True |
Highlights2012 | -38 |
HueAdjustmentAqua | 0 |
HueAdjustmentBlue | 0 |
HueAdjustmentGreen | 0 |
HueAdjustmentMagenta | 0 |
HueAdjustmentOrange | 0 |
HueAdjustmentPurple | 0 |
HueAdjustmentRed | 0 |
HueAdjustmentYellow | 0 |
HyperfocalDistance | 17.44 m |
ImageHeight | 3063 |
ImageNumber | 0 |
ImageSize | 5334x3063 |
ImageWidth | 5334 |
ISO | 100 |
LateralChromaticAberrationCorrectionAlreadyApplied | True |
Lens | EF24-70mm f/2.8L II USM |
LensID (1) | 495 |
LensID | Canon EF 24-70mm f/2.8L II USM |
LensInfo | 24-70mm f/? |
LensManualDistortionAmount | 0 |
LensModel | EF24-70mm f/2.8L II USM |
LensProfileChromaticAberrationScale | 100 |
LensProfileDistortionScale | 100 |
LensProfileEnable | 1 |
LensProfileFilename | Canon EOS 5D Mark II (Canon EF 24-70mm f2.8 L II USM) - RAW.lcp |
LensProfileName | Adobe (Canon EF 24-70mm f/2.8 L II USM) |
LensProfileSetup | LensDefaults |
LensProfileVignettingScale | 100 |
LensSerialNumber | 3630000901 |
LightValue | 14.6 |
LuminanceAdjustmentAqua | +17 |
LuminanceAdjustmentBlue | +7 |
LuminanceAdjustmentGreen | +20 |
LuminanceAdjustmentMagenta | 0 |
LuminanceAdjustmentOrange | +12 |
LuminanceAdjustmentPurple | +11 |
LuminanceAdjustmentRed | +16 |
LuminanceAdjustmentYellow | +16 |
LuminanceNoiseReductionContrast | 14 |
LuminanceNoiseReductionDetail | 50 |
LuminanceSmoothing | 15 |
Make | Canon |
MaxApertureValue | 2.8 |
Megapixels | 16.3 |
MeteringMode | Multi-segment |
Model | Canon EOS 6D |
ModifyDate (1) | 2017:09:11 21:39:28+02:00 |
ModifyDate | 2017:09:11 21:39:28 |
ParametricDarks | -4 |
ParametricHighlights | +6 |
ParametricHighlightSplit | 75 |
ParametricLights | +13 |
ParametricMidtoneSplit | 50 |
ParametricShadows | +8 |
ParametricShadowSplit | 25 |
PerspectiveAspect | 0 |
PerspectiveHorizontal | 0 |
PerspectiveRotate | 0.0 |
PerspectiveScale | 100 |
PerspectiveUpright | 0 |
PerspectiveVertical | 0 |
PerspectiveX | 0.00 |
PerspectiveY | 0.00 |
PostCropVignetteAmount | 0 |
ProcessVersion | 6.7 |
ProfileDescription | sRGB IEC61966-2.1 |
RecommendedExposureIndex | 100 |
RedHue | 0 |
RedSaturation | 0 |
Saturation | +9 |
SaturationAdjustmentAqua | +4 |
SaturationAdjustmentBlue | +12 |
SaturationAdjustmentGreen | +12 |
SaturationAdjustmentMagenta | 0 |
SaturationAdjustmentOrange | +20 |
SaturationAdjustmentPurple | +7 |
SaturationAdjustmentRed | +11 |
SaturationAdjustmentYellow | +8 |
ScaleFactor35efl | 1.1 |
SceneCaptureType | Standard |
SensitivityType | Recommended Exposure Index |
SerialNumber | 373051003880 |
Shadows2012 | +7 |
ShadowTint | 0 |
SharpenDetail | 16 |
SharpenEdgeMasking | 0 |
SharpenRadius | +1.0 |
Sharpness | 97 |
ShutterSpeed | 1/250 |
ShutterSpeedValue | 1/250 |
Software | Adobe Photoshop Lightroom 6.12 (Macintosh) |
SplitToningBalance | 0 |
SplitToningHighlightHue | 37 |
SplitToningHighlightSaturation | 22 |
SplitToningShadowHue | 0 |
SplitToningShadowSaturation | 0 |
Tint | +9 |
ToneCurve | 0, 0, 255, 255 |
ToneCurveBlue | 0, 0, 255, 255 |
ToneCurveGreen | 0, 0, 255, 255 |
ToneCurveName | Linear |
ToneCurveName2012 | Custom |
ToneCurvePV2012 | 0, 0, 66, 56, 133, 122, 194, 171, 255, 255 |
ToneCurvePV2012Blue | 0, 0, 255, 255 |
ToneCurvePV2012Green | 0, 0, 255, 255 |
ToneCurvePV2012Red | 0, 0, 255, 255 |
ToneCurveRed | 0, 0, 255, 255 |
ToneMapStrength | 0 |
Version | 9.12 |
Vibrance | +10 |
VignetteAmount | 0 |
VignetteCorrectionAlreadyApplied | True |
WhiteBalance (1) | As Shot |
WhiteBalance | Auto |
Whites2012 | +10 |