Felt | Verdi |
AlreadyApplied | True |
Aperture | 10.0 |
ApertureValue | 10.0 |
ApproximateFocusDistance | 2.37 |
AutoLateralCA | 0 |
BitsPerSample | 8 |
Blacks2012 | -19 |
BlueHue | 0 |
BlueSaturation | 0 |
CameraProfile | Adobe Standard |
CFAPattern | [Red,Green][Green,Blue] |
CircleOfConfusion | 0.025 mm |
Clarity2012 | +57 |
ColorComponents | 3 |
ColorMode | RGB |
ColorNoiseReduction | 25 |
ColorNoiseReductionDetail | 50 |
ColorNoiseReductionSmoothness | 50 |
ColorSpace | sRGB |
ColorTemperature | 4550 |
ColorTransform | YCbCr |
Contrast | Normal |
Contrast2012 | +35 |
ConvertToGrayscale | False |
CreateDate (1) | 2018:01:29 12:38:25+05:30 |
CreateDate | 2018:01:29 12:38:25 |
CreatorTool | NIKON D750 Ver.1.12 |
CustomRendered | Normal |
DateCreated (1) | 2018:01:29 |
DateCreated | 2018:01:29 12:38:25.092 |
DateTimeOriginal | 2018:01:29 12:38:25 |
DefringeGreenAmount | 0 |
DefringeGreenHueHi | 60 |
DefringeGreenHueLo | 40 |
DefringePurpleAmount | 0 |
DefringePurpleHueHi | 70 |
DefringePurpleHueLo | 30 |
Dehaze | 0 |
DigitalZoomRatio | 1.2 |
DOF | 2.93 m (1.60 - 4.53 m) |
ExifImageHeight | 4811 |
ExifImageWidth | 3336 |
Exposure2012 | 0.00 |
ExposureCompensation | 0 |
ExposureMode | Auto |
ExposureProgram | Aperture-priority AE |
ExposureTime | 1/40 |
Flash | Off, Did not fire |
FNumber | 10.0 |
FocalLength | 35.0 mm |
FocalLength35efl | 35.0 mm (35 mm equivalent: 42.0 mm) |
FocalLengthIn35mmFormat | 42 mm |
Format | image/jpeg |
FOV | 46.4 deg |
GainControl | Low gain up |
GrainAmount | 0 |
GreenHue | 0 |
GreenSaturation | 0 |
HasCrop | False |
HasSettings | True |
Highlights2012 | -43 |
HueAdjustmentAqua | 0 |
HueAdjustmentBlue | 0 |
HueAdjustmentGreen | 0 |
HueAdjustmentMagenta | 0 |
HueAdjustmentOrange | 0 |
HueAdjustmentPurple | 0 |
HueAdjustmentRed | 0 |
HueAdjustmentYellow | 0 |
HyperfocalDistance | 4.89 m |
ICCProfileName | sRGB IEC61966-2.1 |
ImageHeight | 4811 |
ImageNumber | 80 |
ImageSize | 3336x4811 |
ImageWidth | 3336 |
ISO | 560 |
Lens | 24.0-120.0 mm f/4.0 |
LensID (1) | 170 |
LensID | AF-S Nikkor 24-120mm f/4G ED VR |
LensInfo | 24-120mm f/4 |
LensManualDistortionAmount | 0 |
LensModel | 24.0-120.0 mm f/4.0 |
LensProfileEnable | 0 |
LensProfileSetup | LensDefaults |
LightSource | Unknown |
LightValue | 9.5 |
LuminanceAdjustmentAqua | 0 |
LuminanceAdjustmentBlue | 0 |
LuminanceAdjustmentGreen | 0 |
LuminanceAdjustmentMagenta | 0 |
LuminanceAdjustmentOrange | 0 |
LuminanceAdjustmentPurple | 0 |
LuminanceAdjustmentRed | 0 |
LuminanceAdjustmentYellow | 0 |
LuminanceSmoothing | 0 |
Make | NIKON CORPORATION |
MaxApertureValue | 4.0 |
Megapixels | 16.0 |
MeteringMode | Multi-segment |
Model | NIKON D750 |
ModifyDate (1) | 2018:01:29 16:38:17+05:30 |
ModifyDate | 2018:01:29 16:38:17 |
Orientation | Horizontal (normal) |
ParametricDarks | 0 |
ParametricHighlights | 0 |
ParametricHighlightSplit | 75 |
ParametricLights | 0 |
ParametricMidtoneSplit | 50 |
ParametricShadows | 0 |
ParametricShadowSplit | 25 |
PerspectiveAspect | 0 |
PerspectiveHorizontal | 0 |
PerspectiveRotate | 0.0 |
PerspectiveScale | 100 |
PerspectiveUpright | 0 |
PerspectiveVertical | 0 |
PerspectiveX | 0.00 |
PerspectiveY | 0.00 |
PostCropVignetteAmount | 0 |
ProcessVersion | 10.0 |
ProfileDescription | sRGB IEC61966-2.1 |
Rating | 0 |
RawFileName | KNR_0076.NEF |
RedHue | 0 |
RedSaturation | 0 |
Saturation (1) | +21 |
Saturation | Normal |
SaturationAdjustmentAqua | 0 |
SaturationAdjustmentBlue | 0 |
SaturationAdjustmentGreen | 0 |
SaturationAdjustmentMagenta | 0 |
SaturationAdjustmentOrange | 0 |
SaturationAdjustmentPurple | 0 |
SaturationAdjustmentRed | 0 |
SaturationAdjustmentYellow | 0 |
ScaleFactor35efl | 1.2 |
SceneCaptureType | Standard |
SceneType | Directly photographed |
SensingMethod | One-chip color area |
SensitivityType | Recommended Exposure Index |
SerialNumber | 8825541 |
Shadows2012 | +35 |
ShadowTint | 0 |
SharpenDetail | 25 |
SharpenEdgeMasking | 0 |
SharpenRadius | +1.0 |
Sharpness (1) | 25 |
Sharpness | Normal |
ShutterSpeed | 1/40 |
ShutterSpeedValue | 1/40 |
Software | Adobe Photoshop Elements 16.0 (Windows) |
SplitToningBalance | 0 |
SplitToningHighlightHue | 0 |
SplitToningHighlightSaturation | 0 |
SplitToningShadowHue | 0 |
SplitToningShadowSaturation | 0 |
SubjectDistanceRange | Unknown |
Tint | +1 |
ToneCurve | 0, 0, 32, 22, 64, 56, 128, 128, 192, 196, 255, 255 |
ToneCurveBlue | 0, 0, 255, 255 |
ToneCurveGreen | 0, 0, 255, 255 |
ToneCurveName | Medium Contrast |
ToneCurveName2012 | Linear |
ToneCurvePV2012 | 0, 0, 255, 255 |
ToneCurvePV2012Blue | 0, 0, 255, 255 |
ToneCurvePV2012Green | 0, 0, 255, 255 |
ToneCurvePV2012Red | 0, 0, 255, 255 |
ToneCurveRed | 0, 0, 255, 255 |
URL_List | |
Version | 10.0 |
Vibrance | 0 |
VignetteAmount | 0 |
WhiteBalance (1) | As Shot |
WhiteBalance | Auto |
Whites2012 | 0 |