Felt | Verdi |
AlreadyApplied | True |
Aperture | 5.6 |
ApertureValue | 5.6 |
AutoLateralCA | 0 |
BitsPerSample | 8 |
Blacks2012 | -46 |
BlueHue | 0 |
BlueSaturation | -29 |
CameraProfile | Embedded |
CircleOfConfusion | 0.019 mm |
Clarity2012 | -13 |
ColorComponents | 3 |
ColorNoiseReduction | 0 |
ColorSpace | sRGB |
ColorTransform | YCbCr |
Contrast2012 | +16 |
ConvertToGrayscale | False |
CreateDate (1) | 2019:11:16 16:50:28.41 |
CreateDate | 2019:11:16 16:50:28 |
CreatorTool | Adobe Photoshop Lightroom Classic 9.0 (Windows) |
CustomRendered | Normal |
DateCreated (1) | 2019:11:16 |
DateCreated | 2019:11:16 16:50:28.41 |
DateTimeOriginal | 2019:11:16 16:50:28 |
DefringeGreenAmount | 0 |
DefringeGreenHueHi | 60 |
DefringeGreenHueLo | 40 |
DefringePurpleAmount | 0 |
DefringePurpleHueHi | 70 |
DefringePurpleHueLo | 30 |
Dehaze | 0 |
Exposure2012 | 0.00 |
ExposureCompensation | 0 |
ExposureMode | Manual |
ExposureProgram | Manual |
ExposureTime | 0.5 |
Flash | Off, Did not fire |
FNumber | 5.6 |
FocalLength | 55.0 mm |
FocalLength35efl | 55.0 mm (35 mm equivalent: 87.4 mm) |
Format | image/jpeg |
FOV | 23.3 deg |
GradientBasedCorrActive | true |
GradientBasedCorrAmount | 1.000000 |
GradientBasedCorrBrightness | 0.000000 |
GradientBasedCorrClarity2012 | 0.000000 |
GradientBasedCorrContrast2012 | 0.000000 |
GradientBasedCorrCorrectionRangeMaskColorAmount | 0.500000 |
GradientBasedCorrCorrectionRangeMaskDepthFeather | 0.500000 |
GradientBasedCorrCorrectionRangeMaskDepthMax | 1.000000 |
GradientBasedCorrCorrectionRangeMaskDepthMin | 0.000000 |
GradientBasedCorrCorrectionRangeMaskLumFeather | 0.500000 |
GradientBasedCorrCorrectionRangeMaskLumMax | 1.000000 |
GradientBasedCorrCorrectionRangeMaskLumMin | 0.000000 |
GradientBasedCorrCorrectionRangeMaskType | 0 |
GradientBasedCorrCorrectionRangeMaskVersion | +1 |
GradientBasedCorrDefringe | 0.000000 |
GradientBasedCorrExposure2012 | -0.075000 |
GradientBasedCorrHighlights2012 | 0.000000 |
GradientBasedCorrHue | 240.000000 |
GradientBasedCorrLocalBlacks2012 | 0.000000 |
GradientBasedCorrLocalDehaze | 0.000000 |
GradientBasedCorrLocalWhites2012 | 0.000000 |
GradientBasedCorrLuminanceNoise | 0.000000 |
GradientBasedCorrMaskFullX (1) | 0.601514 |
GradientBasedCorrMaskFullX | 0.598701 |
GradientBasedCorrMaskFullY (1) | 0.996287 |
GradientBasedCorrMaskFullY | 0.081551 |
GradientBasedCorrMaskValue | 1.000000 |
GradientBasedCorrMaskWhat | Mask/Gradient |
GradientBasedCorrMaskZeroX (1) | 0.606996 |
GradientBasedCorrMaskZeroX | 0.599222 |
GradientBasedCorrMaskZeroY (1) | 0.628016 |
GradientBasedCorrMaskZeroY | 0.340537 |
GradientBasedCorrMoire | 0.000000 |
GradientBasedCorrSaturation | 0.000000 |
GradientBasedCorrShadows2012 | 0.000000 |
GradientBasedCorrSharpness | 0.000000 |
GradientBasedCorrTemperature | 0.000000 |
GradientBasedCorrTint | 0.000000 |
GradientBasedCorrWhat | Correction |
GrainAmount | 0 |
GreenHue | 0 |
GreenSaturation | 0 |
HasCrop | False |
HasSettings | True |
Highlights2012 | -19 |
HueAdjustmentAqua | 0 |
HueAdjustmentBlue | 0 |
HueAdjustmentGreen | -10 |
HueAdjustmentMagenta | +18 |
HueAdjustmentOrange | +5 |
HueAdjustmentPurple | +9 |
HueAdjustmentRed | 0 |
HueAdjustmentYellow | +9 |
HyperfocalDistance | 28.55 m |
ImageHeight | 3626 |
ImageSize | 5439x3626 |
ImageWidth | 5439 |
IncrementalTemperature | 0 |
IncrementalTint | 0 |
ISO | 100 |
Lens | EF-S18-55mm f/3.5-5.6 III |
LensInfo | 18-55mm f/? |
LensManualDistortionAmount | 0 |
LensModel | EF-S18-55mm f/3.5-5.6 III |
LensProfileEnable | 0 |
LensProfileSetup | LensDefaults |
LensSerialNumber | 0000033eea |
LightValue | 6.0 |
LookName | |
LuminanceAdjustmentAqua | 0 |
LuminanceAdjustmentBlue | -11 |
LuminanceAdjustmentGreen | -17 |
LuminanceAdjustmentMagenta | 0 |
LuminanceAdjustmentOrange | +19 |
LuminanceAdjustmentPurple | -16 |
LuminanceAdjustmentRed | +8 |
LuminanceAdjustmentYellow | +12 |
LuminanceSmoothing | 0 |
Make | Canon |
Megapixels | 19.7 |
MeteringMode | Center-weighted average |
Model | Canon EOS 750D |
ModifyDate (1) | 2019:11:16 20:25:46+01:00 |
ModifyDate | 2019:11:16 20:25:46 |
OverrideLookVignette | True |
ParametricDarks | 0 |
ParametricHighlights | 0 |
ParametricHighlightSplit | 75 |
ParametricLights | 0 |
ParametricMidtoneSplit | 50 |
ParametricShadows | 0 |
ParametricShadowSplit | 25 |
PerspectiveAspect | 0 |
PerspectiveHorizontal | 0 |
PerspectiveRotate | 0.0 |
PerspectiveScale | 100 |
PerspectiveUpright | 0 |
PerspectiveVertical | 0 |
PerspectiveX | 0.00 |
PerspectiveY | 0.00 |
PostCropVignetteAmount | -15 |
PostCropVignetteFeather | 68 |
PostCropVignetteHighlightContrast | 4 |
PostCropVignetteMidpoint | 45 |
PostCropVignetteRoundness | -5 |
PostCropVignetteStyle | 1 |
PreservedFileName | IMG_4879 (2).JPG |
ProcessVersion | 11.0 |
ProfileDescription | sRGB IEC61966-2.1 |
RawFileName | |
RecommendedExposureIndex | 100 |
RedHue | 0 |
RedSaturation | 0 |
Saturation | -13 |
SaturationAdjustmentAqua | -23 |
SaturationAdjustmentBlue | -40 |
SaturationAdjustmentGreen | -61 |
SaturationAdjustmentMagenta | -24 |
SaturationAdjustmentOrange | -6 |
SaturationAdjustmentPurple | -28 |
SaturationAdjustmentRed | -7 |
SaturationAdjustmentYellow | -38 |
ScaleFactor35efl | 1.6 |
SceneCaptureType | Standard |
SensitivityType | Recommended Exposure Index |
SerialNumber | 223072006208 |
Shadows2012 | +88 |
ShadowTint | 0 |
SharpenDetail | 25 |
SharpenEdgeMasking | 0 |
SharpenRadius | +1.0 |
Sharpness | 0 |
ShutterSpeed | 0.5 |
ShutterSpeedValue | 0.5 |
Software | Adobe Photoshop Lightroom Classic 9.0 (Windows) |
SplitToningBalance | +61 |
SplitToningHighlightHue | 238 |
SplitToningHighlightSaturation | 2 |
SplitToningShadowHue | 231 |
SplitToningShadowSaturation | 6 |
Texture | 0 |
ToneCurve | 0, 0, 255, 255 |
ToneCurveBlue | 0, 0, 255, 255 |
ToneCurveGreen | 0, 0, 255, 255 |
ToneCurveName | Linear |
ToneCurveName2012 | Custom |
ToneCurvePV2012 | 0, 43, 54, 56, 124, 127, 191, 196, 255, 248 |
ToneCurvePV2012Blue | 0, 4, 40, 30, 127, 127, 255, 255 |
ToneCurvePV2012Green | 0, 3, 51, 44, 126, 129, 198, 205, 255, 255 |
ToneCurvePV2012Red | 0, 3, 33, 27, 127, 130, 199, 203, 255, 255 |
ToneCurveRed | 0, 0, 255, 255 |
ToneMapStrength | 0 |
Version | 12.0 |
Vibrance | 0 |
VignetteAmount | 0 |
WhiteBalance (1) | As Shot |
WhiteBalance | Auto |
Whites2012 | +44 |