Felt | Verdi |
AlreadyApplied | True |
Aperture | 2.8 |
ApertureValue | 2.8 |
ApproximateFocusDistance | 0.78 |
AutoLateralCA | 0 |
BitsPerSample | 8 |
Blacks2012 | +25 |
BlueHue | 0 |
BlueSaturation | 0 |
CameraProfile | Adobe Standard |
CircleOfConfusion | 0.019 mm |
Clarity2012 | +16 |
ColorComponents | 3 |
ColorGradeBlending | 100 |
ColorGradeGlobalHue | 0 |
ColorGradeGlobalLum | 0 |
ColorGradeGlobalSat | 0 |
ColorGradeHighlightLum | 0 |
ColorGradeMidtoneHue | 0 |
ColorGradeMidtoneLum | 0 |
ColorGradeMidtoneSat | 0 |
ColorGradeShadowLum | 0 |
ColorNoiseReduction | 0 |
ColorSpace | Uncalibrated |
ColorTemperature | 5250 |
ColorTransform | YCbCr |
Contrast2012 | -18 |
CreateDate (1) | 2022:08:16 09:55:31.00 |
CreateDate | 2022:08:16 09:55:31 |
CreatorTool | Adobe Photoshop Lightroom Classic 10.3 (Macintosh) |
CropAngle | 0 |
CropBottom | 1 |
CropConstrainToWarp | 0 |
CropLeft | 0 |
CropRight | 1 |
CropTop | 0 |
CustomRendered | Normal |
DateCreated (1) | 2022:08:16 |
DateCreated | 2022:08:16 09:55:31.00 |
DateTimeOriginal | 2022:08:16 09:55:31 |
DefringeGreenAmount | 0 |
DefringeGreenHueHi | 60 |
DefringeGreenHueLo | 40 |
DefringePurpleAmount | 0 |
DefringePurpleHueHi | 70 |
DefringePurpleHueLo | 30 |
Dehaze | 0 |
DOF | 0.007 m (0.776 - 0.784 m) |
Exposure2012 | 0.00 |
ExposureCompensation | 0 |
ExposureMode | Manual |
ExposureProgram | Manual |
ExposureTime | 1/500 |
Firmware | 1.2.5 |
Flash | Off, Did not fire |
FlashCompensation | 0 |
FNumber | 2.8 |
FocalLength | 90.0 mm |
FocalLength35efl | 90.0 mm (35 mm equivalent: 141.3 mm) |
Format | image/jpeg |
FOV | 14.5 deg |
GrainAmount | 50 |
GrainFrequency | 40 |
GrainSize | 25 |
GreenHue | 0 |
GreenSaturation | 0 |
HasCrop | False |
HasSettings | True |
Highlights2012 | -1 |
HueAdjustmentAqua | +5 |
HueAdjustmentBlue | 0 |
HueAdjustmentGreen | +12 |
HueAdjustmentMagenta | +10 |
HueAdjustmentOrange | +4 |
HueAdjustmentPurple | +10 |
HueAdjustmentRed | +20 |
HueAdjustmentYellow | +10 |
HyperfocalDistance | 151.19 m |
ImageHeight | 3456 |
ImageNumber | 0 |
ImageSize | 5184x3456 |
ImageWidth | 5184 |
ISO | 100 |
Lens | TAMRON SP 90mm F/2.8 Di VC USD MACRO1:1 F004 |
LensID (1) | 254 |
LensID | Canon EF 100mm f/2.8L Macro IS USM |
LensInfo | 90mm f/? |
LensManualDistortionAmount | 0 |
LensModel | TAMRON SP 90mm F/2.8 Di VC USD MACRO1:1 F004 |
LensProfileEnable | 0 |
LightValue | 11.9 |
LookAmount | 1.000000 |
LookGroup | Profiles |
LookName | Adobe Color |
LookParametersCameraProfile | Adobe Standard |
LookParametersConvertToGrayscale | False |
LookParametersLookTable | E1095149FDB39D7A057BAB208837E2E1 |
LookParametersProcessVersion | 11.0 |
LookParametersToneCurvePV2012 | 0, 0, 22, 16, 40, 35, 127, 127, 224, 230, 240, 246, 255, 255 |
LookParametersToneCurvePV2012Blue | 0, 0, 255, 255 |
LookParametersToneCurvePV2012Green | 0, 0, 255, 255 |
LookParametersToneCurvePV2012Red | 0, 0, 255, 255 |
LookParametersVersion | 13.3 |
LookSupportsAmount | false |
LookSupportsMonochrome | false |
LookSupportsOutputReferred | false |
LuminanceAdjustmentAqua | 0 |
LuminanceAdjustmentBlue | -10 |
LuminanceAdjustmentGreen | -20 |
LuminanceAdjustmentMagenta | +10 |
LuminanceAdjustmentOrange | -5 |
LuminanceAdjustmentPurple | +10 |
LuminanceAdjustmentRed | +10 |
LuminanceAdjustmentYellow | 0 |
LuminanceSmoothing | 0 |
Make | Canon |
MaxApertureValue | 2.8 |
Megapixels | 17.9 |
MeteringMode | Multi-segment |
Model | Canon EOS 7D |
ModifyDate (1) | 2022:08:16 21:46:21+02:00 |
ModifyDate | 2022:08:16 21:46:21 |
OverrideLookVignette | False |
ParametricDarks | -20 |
ParametricHighlights | -10 |
ParametricHighlightSplit | 75 |
ParametricLights | +20 |
ParametricMidtoneSplit | 50 |
ParametricShadows | 0 |
ParametricShadowSplit | 25 |
PerspectiveAspect | 0 |
PerspectiveHorizontal | 0 |
PerspectiveRotate | 0.0 |
PerspectiveScale | 100 |
PerspectiveUpright | 0 |
PerspectiveVertical | 0 |
PerspectiveX | 0.00 |
PerspectiveY | 0.00 |
PostCropVignetteAmount | 0 |
PreservedFileName | IMG_1639.CR2 |
ProcessVersion | 11.0 |
ProfileDescription | Adobe RGB (1998) |
RawFileName | IMG_1639.CR2 |
RedHue | 0 |
RedSaturation | 0 |
Saturation | +5 |
SaturationAdjustmentAqua | -35 |
SaturationAdjustmentBlue | -10 |
SaturationAdjustmentGreen | -40 |
SaturationAdjustmentMagenta | +5 |
SaturationAdjustmentOrange | 0 |
SaturationAdjustmentPurple | -10 |
SaturationAdjustmentRed | -5 |
SaturationAdjustmentYellow | -3 |
ScaleFactor35efl | 1.6 |
SceneCaptureType | Standard |
SerialNumber | 3181219048 |
Shadows2012 | +15 |
ShadowTint | 0 |
SharpenDetail | 25 |
SharpenEdgeMasking | 0 |
SharpenRadius | +1.0 |
Sharpness | 25 |
ShutterSpeed | 1/500 |
ShutterSpeedValue | 1/500 |
Software | Adobe Photoshop Lightroom Classic 10.3 (Macintosh) |
SplitToningBalance | -88 |
SplitToningHighlightHue | 170 |
SplitToningHighlightSaturation | 6 |
SplitToningShadowHue | 0 |
SplitToningShadowSaturation | 0 |
Texture | 0 |
Tint | +27 |
ToneCurveName2012 | Custom |
ToneCurvePV2012 | 0, 3, 44, 61, 136, 181, 255, 255 |
ToneCurvePV2012Blue | 1, 26, 43, 47, 120, 128, 200, 213, 255, 255 |
ToneCurvePV2012Green | 0, 10, 46, 39, 121, 128, 176, 192, 255, 255 |
ToneCurvePV2012Red | 0, 0, 49, 37, 122, 127, 175, 192, 255, 255 |
Version | 13.3 |
Vibrance | 0 |
VignetteAmount | 0 |
WhiteBalance (1) | As Shot |
WhiteBalance | Auto |
Whites2012 | -10 |