Felt | Verdi |
AlreadyApplied | True |
Aperture | 8.0 |
ApertureValue | 8.0 |
ApproximateFocusDistance | 26.2 |
AutoLateralCA | 0 |
BitsPerSample | 8 |
Blacks2012 | -14 |
BlueHue | 0 |
BlueSaturation | 0 |
CameraProfile | Embedded |
CircleOfConfusion | 0.011 mm |
Clarity2012 | -9 |
ColorComponents | 3 |
ColorGradeBlending | 100 |
ColorGradeGlobalHue | 0 |
ColorGradeGlobalLum | 0 |
ColorGradeGlobalSat | 0 |
ColorGradeHighlightLum | +16 |
ColorGradeMidtoneHue | 215 |
ColorGradeMidtoneLum | +6 |
ColorGradeMidtoneSat | 7 |
ColorGradeShadowLum | +10 |
ColorMode | RGB |
ColorNoiseReduction | 0 |
ColorSpace | sRGB |
ColorTransform | YCbCr |
Contrast2012 | 0 |
ConvertToGrayscale | False |
CreateDate | 2023:10:01 14:37:44 |
CreatorTool | Adobe Photoshop Lightroom Classic 12.5 (Windows) |
CurveRefineSaturation | 100 |
CustomRendered | Normal |
DateCreated (1) | 2023:10:01 |
DateCreated | 2023:10:01 14:37:44.059+01:00 |
DateTimeOriginal | 2023:10:01 14:37:44 |
DefringeGreenAmount | 0 |
DefringeGreenHueHi | 60 |
DefringeGreenHueLo | 40 |
DefringePurpleAmount | 0 |
DefringePurpleHueHi | 70 |
DefringePurpleHueLo | 30 |
Dehaze | +10 |
DistortionCorrectionAlreadyApplied | True |
DOF | 95.90 m (14.86 - 110.75 m) |
EnhanceDenoiseAlreadyApplied | True |
EnhanceDenoiseLumaAmount | 50 |
EnhanceDenoiseVersion | 251658240 |
EnhanceDetailsAlreadyApplied | True |
EnhanceDetailsVersion | 218300416 |
ExifImageHeight | 1707 |
ExifImageWidth | 2560 |
Exposure2012 | 0.00 |
ExposureCompensation | -1 |
ExposureMode | Auto |
ExposureProgram | Aperture-priority AE |
ExposureTime | 1/60 |
Firmware | 1.8.0 |
Flash | No Flash |
FlashCompensation | 0 |
FNumber | 8.0 |
FocalLength | 56.0 mm |
FocalLength35efl | 56.0 mm (35 mm equivalent: 147.0 mm) |
Format | image/jpeg |
FOV | 14.0 deg |
GrainAmount | 8 |
GrainFrequency | 60 |
GrainSize | 48 |
GreenHue | 0 |
GreenSaturation | 0 |
HasCrop | False |
HasSettings | True |
Highlights2012 | 0 |
HueAdjustmentAqua | +9 |
HueAdjustmentBlue | +10 |
HueAdjustmentGreen | +8 |
HueAdjustmentMagenta | -3 |
HueAdjustmentOrange | -1 |
HueAdjustmentPurple | +1 |
HueAdjustmentRed | -11 |
HueAdjustmentYellow | -12 |
HyperfocalDistance | 34.25 m |
ICCProfileName | sRGB IEC61966-2.1 |
ImageHeight | 1707 |
ImageNumber | 0 |
ImageSize | 2560x1707 |
ImageWidth | 2560 |
IncrementalTemperature | 0 |
IncrementalTint | 0 |
ISO | 250 |
Label | |
LateralChromaticAberrationCorrectionAlreadyApplied | True |
Lens | EF24-105mm f/4L IS II USM |
LensID (1) | 752 |
LensID | Canon EF 24-105mm f/4L IS II USM |
LensInfo | 24-105mm f/? |
LensManualDistortionAmount | 0 |
LensModel | EF24-105mm f/4L IS II USM |
LensProfileEnable | 0 |
LensSerialNumber | 5213000952 |
LightValue | 10.6 |
LuminanceAdjustmentAqua | +14 |
LuminanceAdjustmentBlue | -6 |
LuminanceAdjustmentGreen | +15 |
LuminanceAdjustmentMagenta | +18 |
LuminanceAdjustmentOrange | +9 |
LuminanceAdjustmentPurple | +20 |
LuminanceAdjustmentRed | +10 |
LuminanceAdjustmentYellow | -15 |
LuminanceSmoothing | 0 |
Make | Canon |
MaxApertureValue | 4.0 |
Megapixels | 4.4 |
MeteringMode | Multi-segment |
Model | Canon EOS R |
ModifyDate (1) | 2023:10:02 22:26:58+02:00 |
ModifyDate | 2023:10:02 22:26:58 |
Orientation | Horizontal (normal) |
OverrideLookVignette | False |
ParametricDarks | 0 |
ParametricHighlights | 0 |
ParametricHighlightSplit | 75 |
ParametricLights | 0 |
ParametricMidtoneSplit | 50 |
ParametricShadows | 0 |
ParametricShadowSplit | 25 |
PerspectiveAspect | 0 |
PerspectiveHorizontal | 0 |
PerspectiveRotate | 0.0 |
PerspectiveScale | 100 |
PerspectiveUpright | 0 |
PerspectiveVertical | 0 |
PerspectiveX | 0.00 |
PerspectiveY | 0.00 |
PostCropVignetteAmount | 0 |
PreservedFileName | _V2A0129.CR3 |
ProcessVersion | 15.4 |
ProfileDescription | sRGB IEC61966-2.1 |
Rating | 0 |
RecommendedExposureIndex | 250 |
RedHue | 0 |
RedSaturation | 0 |
Saturation | -17 |
SaturationAdjustmentAqua | -14 |
SaturationAdjustmentBlue | -50 |
SaturationAdjustmentGreen | -42 |
SaturationAdjustmentMagenta | -15 |
SaturationAdjustmentOrange | +4 |
SaturationAdjustmentPurple | -42 |
SaturationAdjustmentRed | -15 |
SaturationAdjustmentYellow | -8 |
ScaleFactor35efl | 2.6 |
SceneCaptureType | Standard |
SensitivityType | Recommended Exposure Index |
SerialNumber | 292028002472 |
Shadows2012 | 0 |
ShadowTint | 0 |
Sharpness | 0 |
ShutterSpeed | 1/60 |
ShutterSpeedValue | 1/60 |
Software | Adobe Photoshop 25.0 (Windows) |
SplitToningBalance | 0 |
SplitToningHighlightHue | 210 |
SplitToningHighlightSaturation | 2 |
SplitToningShadowHue | 235 |
SplitToningShadowSaturation | 5 |
Texture | +3 |
ToneCurveName2012 | Custom |
ToneCurvePV2012 | 0, 6, 55, 48, 103, 103, 146, 144, 192, 187, 255, 250 |
ToneCurvePV2012Blue | 0, 0, 255, 255 |
ToneCurvePV2012Green | 0, 0, 255, 255 |
ToneCurvePV2012Red | 0, 0, 255, 255 |
URL_List | |
Version | 15.5.1 |
Vibrance | +53 |
VignetteAmount | 0 |
VignetteCorrectionAlreadyApplied | True |
WhiteBalance (1) | As Shot |
WhiteBalance | Manual |
Whites2012 | +29 |