Felt | Verdi |
AlreadyApplied | True |
Aperture | 16.0 |
ApertureValue | 16.0 |
AutoLateralCA | 0 |
BitsPerSample | 8 |
Blacks2012 | -18 |
BlueHue | 0 |
BlueSaturation | 0 |
BrightnessValue | 5.16 |
CameraProfile | Embedded |
CameraProfilesApertureValue | 8 |
CameraProfilesAuthor | Adobe |
CameraProfilesAutoScale | False |
CameraProfilesCameraPrettyName | Fujifilm GFX 100S |
CameraProfilesCameraRawProfile | True |
CameraProfilesFocalLength | 32 |
CameraProfilesFocusDistance | 10000 |
CameraProfilesLens | GF32-64mmF4 R LM WR |
CameraProfilesLensPrettyName | GF32-64mmF4 R LM WR |
CameraProfilesMake | FUJIFILM |
CameraProfilesModel | GFX100S |
CameraProfilesPerspectiveModelRadialDistortParam1 | 0.005094 |
CameraProfilesPerspectiveModelRadialDistortParam2 | -0.011585 |
CameraProfilesPerspectiveModelRadialDistortParam3 | 0.006311 |
CameraProfilesPerspectiveModelScaleFactor | 0.999321 |
CameraProfilesPerspectiveModelVersion | 2 |
CameraProfilesPerspectiveModelVignetteModelVignetteModelParam1 | 1 |
CameraProfilesPerspectiveModelVignetteModelVignetteModelPiecewiseParam | 0.000000, 1.000000, 0.322221, 0.971997, 0.455841, 0.949023, 0.558138, 0.924604, 0.644442, 0.905391, 0.720415, 0.882378, 0.789391, 0.854756, 0.852369, 0.821499, 0.911348, 0.762188, 0.966662, 0.762188 |
CameraProfilesProfileName | Camera Settings |
CameraProfilesSensorFormatFactor | 0.741803 |
CameraProfilesUniqueCameraModel | Fujifilm GFX 100S |
CircleOfConfusion | 0.038 mm |
Clarity2012 | -10 |
ColorComponents | 3 |
ColorGradeBlending | 84 |
ColorGradeGlobalHue | 0 |
ColorGradeGlobalLum | 0 |
ColorGradeGlobalSat | 0 |
ColorGradeHighlightLum | -20 |
ColorGradeMidtoneHue | 173 |
ColorGradeMidtoneLum | +2 |
ColorGradeMidtoneSat | 4 |
ColorGradeShadowLum | -25 |
ColorMode | RGB |
ColorNoiseReduction | 0 |
ColorSpace | sRGB |
ColorTransform | YCbCr |
Contrast2012 | 0 |
ConvertToGrayscale | False |
CreateDate | 2023:10:05 14:07:17 |
CreatorTool | Adobe Photoshop Lightroom Classic 12.5 (Windows) |
CurveRefineSaturation | 100 |
CustomRendered | Normal |
DateCreated (1) | 2023:10:05 |
DateCreated | 2023:10:05 14:07:17+02:00 |
DateTimeOriginal | 2023:10:05 14:07:17 |
DefringeGreenAmount | 0 |
DefringeGreenHueHi | 60 |
DefringeGreenHueLo | 40 |
DefringePurpleAmount | 0 |
DefringePurpleHueHi | 70 |
DefringePurpleHueLo | 30 |
Dehaze | +5 |
DistortionCorrectionAlreadyApplied | True |
ExifImageHeight | 2560 |
ExifImageWidth | 2048 |
Exposure2012 | 0.00 |
ExposureCompensation | -0.67 |
ExposureMode | Auto |
ExposureProgram | Aperture-priority AE |
ExposureTime | 1/4 |
Flash | No Flash |
FNumber | 16.0 |
FocalLength | 32.0 mm |
FocalLength35efl | 32.0 mm (35 mm equivalent: 25.0 mm) |
FocalLengthIn35mmFormat | 25 mm |
Format | image/jpeg |
FOV | 71.5 deg |
FujiRatingAlreadyApplied | True |
GrainAmount | 5 |
GrainFrequency | 35 |
GrainSize | 15 |
GreenHue | 0 |
GreenSaturation | 0 |
HasCrop | False |
HasSettings | True |
Highlights2012 | 0 |
HueAdjustmentAqua | +3 |
HueAdjustmentBlue | -5 |
HueAdjustmentGreen | +8 |
HueAdjustmentMagenta | -3 |
HueAdjustmentOrange | -3 |
HueAdjustmentPurple | -5 |
HueAdjustmentRed | -8 |
HueAdjustmentYellow | -7 |
HyperfocalDistance | 1.66 m |
ICCProfileName | sRGB IEC61966-2.1 |
ImageHeight | 2560 |
ImageSize | 2048x2560 |
ImageWidth | 2048 |
IncrementalTemperature | 0 |
IncrementalTint | 0 |
ISO | 100 |
Label | |
LateralChromaticAberrationCorrectionAlreadyApplied | True |
Lens | GF32-64mmF4 R LM WR |
LensInfo | 32-64mm f/4 |
LensMake | FUJIFILM |
LensManualDistortionAmount | 0 |
LensModel | GF32-64mmF4 R LM WR |
LensProfileEnable | 0 |
LensSerialNumber | 05C00654 |
LightSource | Unknown |
LightValue | 10.0 |
LuminanceAdjustmentAqua | +13 |
LuminanceAdjustmentBlue | +35 |
LuminanceAdjustmentGreen | +15 |
LuminanceAdjustmentMagenta | +16 |
LuminanceAdjustmentOrange | +14 |
LuminanceAdjustmentPurple | +19 |
LuminanceAdjustmentRed | +10 |
LuminanceAdjustmentYellow | -6 |
LuminanceSmoothing | 0 |
Make | FUJIFILM |
MaxApertureValue | 4.0 |
Megapixels | 5.2 |
MeteringMode | Multi-segment |
Model | GFX100S |
ModifyDate (1) | 2023:10:05 19:53:08+02:00 |
ModifyDate | 2023:10:05 19:53:08 |
Orientation | Horizontal (normal) |
OverrideLookVignette | False |
ParametricDarks | 0 |
ParametricHighlights | 0 |
ParametricHighlightSplit | 75 |
ParametricLights | 0 |
ParametricMidtoneSplit | 50 |
ParametricShadows | 0 |
ParametricShadowSplit | 25 |
PerspectiveAspect | 0 |
PerspectiveHorizontal | 0 |
PerspectiveRotate | 0.0 |
PerspectiveScale | 100 |
PerspectiveUpright | 0 |
PerspectiveVertical | 0 |
PerspectiveX | 0.00 |
PerspectiveY | 0.00 |
PostCropVignetteAmount | 0 |
PreservedFileName | _DSF0916.RAF |
ProcessVersion | 15.4 |
ProfileDescription | sRGB IEC61966-2.1 |
Rating | 0 |
RedHue | 0 |
RedSaturation | 0 |
Saturation | 0 |
SaturationAdjustmentAqua | -14 |
SaturationAdjustmentBlue | -37 |
SaturationAdjustmentGreen | -50 |
SaturationAdjustmentMagenta | -9 |
SaturationAdjustmentOrange | +2 |
SaturationAdjustmentPurple | -9 |
SaturationAdjustmentRed | -10 |
SaturationAdjustmentYellow | -10 |
ScaleFactor35efl | 0.8 |
SceneCaptureType | Standard |
SceneType | Directly photographed |
SensingMethod | One-chip color area |
SensitivityType | Standard Output Sensitivity |
SerialNumber | 11004639 |
Shadows2012 | 0 |
ShadowTint | 0 |
Sharpness (1) | 0 |
Sharpness | Normal |
ShutterSpeed | 1/4 |
ShutterSpeedValue | 1/4 |
Software | Adobe Photoshop 25.0 (Windows) |
SplitToningBalance | -20 |
SplitToningHighlightHue | 13 |
SplitToningHighlightSaturation | 2 |
SplitToningShadowHue | 235 |
SplitToningShadowSaturation | 13 |
StandardOutputSensitivity | 100 |
SubjectDistanceRange | Unknown |
Texture | -1 |
ToneCurveName2012 | Custom |
ToneCurvePV2012 | 0, 6, 43, 54, 81, 98, 115, 134, 150, 168, 190, 197, 255, 249 |
ToneCurvePV2012Blue | 0, 0, 132, 137, 255, 255 |
ToneCurvePV2012Green | 0, 0, 255, 255 |
ToneCurvePV2012Red | 0, 0, 135, 135, 255, 255 |
URL_List | |
Version | 15.5.1 |
Vibrance | +28 |
VignetteAmount | 0 |
VignetteCorrectionAlreadyApplied | True |
WhiteBalance (1) | As Shot |
WhiteBalance | Manual |
Whites2012 | +38 |