Felt | Verdi |
AlreadyApplied | True |
Aperture | 13.0 |
ApertureValue | 13.0 |
ApproximateFocusDistance | 6.75 |
AutoLateralCA | 1 |
BitsPerSample (2) | 8 8 8 |
BitsPerSample (4) | 16, 16, 16 |
BitsPerSample | 16 16 16 |
Blacks2012 | 0 |
BlueHue | 0 |
BlueSaturation | 0 |
CameraProfile | Adobe Standard |
ChromaticityChannel1 | 0.7347 0.2653 |
ChromaticityChannel2 | 0.15961 0.84039 |
ChromaticityChannel3 | 0.03661 0.00011 |
ChromaticityChannels | 3 |
ChromaticityColorant | Unknown (0) |
CircleOfConfusion | 0.005 mm |
Clarity2012 | +32 |
ColorGradeBlending | 50 |
ColorGradeGlobalHue | 0 |
ColorGradeGlobalLum | 0 |
ColorGradeGlobalSat | 0 |
ColorGradeHighlightLum | +78 |
ColorGradeMidtoneHue | 41 |
ColorGradeMidtoneLum | 0 |
ColorGradeMidtoneSat | 74 |
ColorGradeShadowLum | -14 |
ColorMode | RGB |
ColorNoiseReduction | 77 |
ColorNoiseReductionDetail | 50 |
ColorNoiseReductionSmoothness | 51 |
ColorSpace | Uncalibrated |
ColorTemperature | 5000 |
CompatibleVersion | 251854848 |
Contrast2012 | 0 |
CreateDate | 2024:01:10 15:16:48 |
CreatorTool | Adobe Photoshop Lightroom Classic 13.0.1 (Macintosh) |
CropAngle | 0.01 |
CropBottom | 0.933222 |
CropConstrainToWarp | 0 |
CropLeft | 0.000094 |
CropRight | 0.953813 |
CropTop | 0.128376 |
CustomRendered | Normal |
DateCreated (1) | 2024:01:10 15:16:48.003 |
DateCreated | 2024:01:10 |
DateTimeOriginal | 2024:01:10 15:16:48 |
DefringeGreenAmount | 0 |
DefringeGreenHueHi | 60 |
DefringeGreenHueLo | 40 |
DefringePurpleAmount | 0 |
DefringePurpleHueHi | 70 |
DefringePurpleHueLo | 30 |
Dehaze | 0 |
DistortionCorrectionAlreadyApplied | True |
DOF | 2.56 m (5.70 - 8.27 m) |
ExifImageHeight | 846 |
ExifImageWidth | 1500 |
Exposure2012 | -0.05 |
ExposureCompensation | -2/3 |
ExposureMode | Auto |
ExposureProgram | Aperture-priority AE |
ExposureTime | 1/60 |
Firmware | 1.2.0 |
Flash | No Flash |
FlashCompensation | 0 |
FlashFired | False |
FlashFunction | False |
FlashMode | Unknown |
FlashRedEyeMode | False |
FlashReturn | No return detection |
FNumber | 13.0 |
FocalLength | 50.0 mm |
FocalLength35efl | 50.0 mm (35 mm equivalent: 285.5 mm) |
Format | image/tiff |
FOV | 7.2 deg |
GrainAmount | 0 |
GreenHue | 0 |
GreenSaturation | 0 |
HasCrop | True |
HasSettings | True |
HDREditMode | 0 |
Highlights2012 | 0 |
HueAdjustmentAqua | 0 |
HueAdjustmentBlue | 0 |
HueAdjustmentGreen | 0 |
HueAdjustmentMagenta | 0 |
HueAdjustmentOrange | 0 |
HueAdjustmentPurple | 0 |
HueAdjustmentRed | 0 |
HueAdjustmentYellow | 0 |
HyperfocalDistance | 36.54 m |
ICCProfileName | ProPhoto |
ImageHeight (1) | 423 |
ImageHeight (2) | 212 |
ImageHeight (3) | 106 |
ImageHeight (4) | 4397 |
ImageHeight | 846 |
ImageNumber | 0 |
ImageSize | 1500x846 |
ImageWidth (1) | 750 |
ImageWidth (2) | 375 |
ImageWidth (3) | 188 |
ImageWidth (4) | 7814 |
ImageWidth | 1500 |
ISO | 1000 |
LateralChromaticAberrationCorrectionAlreadyApplied | True |
Lens | 50.0 mm |
LensID (1) | 180 |
LensID | Sigma 50mm f/1.4 DG HSM | A or Zeiss Milvus 50mm f/1.4 or Sigma 50mm f/1.5 FF High-Speed Prime | 017 or Tokina Opera 50mm f/1.4 FF |
LensInfo (1) | 50 |
LensInfo (2) | 50mm f/? |
LensInfo | 50mm f/0 |
LensManualDistortionAmount | 0 |
LensModel | 50.0 mm |
LensProfileDistortionScale | 100 |
LensProfileEnable | 1 |
LensProfileFilename | Canon (SIGMA 50mm F1.4 DG HSM A014) - RAW.lcp |
LensProfileIsEmbedded | False |
LensProfileName | Adobe (SIGMA 50mm F1.4 DG HSM A014, Canon) |
LensProfileSetup | LensDefaults |
LensProfileVignettingScale | 100 |
LensSerialNumber | 0000000000 |
LightValue | 10.0 |
LookAmount | 1 |
LookGroup | Profiles |
LookName | Adobe Color |
LookParametersCameraProfile | Adobe Standard |
LookParametersConvertToGrayscale | False |
LookParametersLookTable | E1095149FDB39D7A057BAB208837E2E1 |
LookParametersProcessVersion | 15.4 |
LookParametersToneCurvePV2012 | 0, 0, 22, 16, 40, 35, 127, 127, 224, 230, 240, 246, 255, 255 |
LookParametersToneCurvePV2012Blue | 0, 0, 255, 255 |
LookParametersToneCurvePV2012Green | 0, 0, 255, 255 |
LookParametersToneCurvePV2012Red | 0, 0, 255, 255 |
LookParametersVersion | 16.0 |
LookSupportsAmount | false |
LookSupportsMonochrome | false |
LookSupportsOutputReferred | false |
LuminanceAdjustmentAqua | 0 |
LuminanceAdjustmentBlue | 0 |
LuminanceAdjustmentGreen | 0 |
LuminanceAdjustmentMagenta | +1 |
LuminanceAdjustmentOrange | +1 |
LuminanceAdjustmentPurple | +1 |
LuminanceAdjustmentRed | 0 |
LuminanceAdjustmentYellow | +2 |
LuminanceNoiseReductionContrast | 0 |
LuminanceNoiseReductionDetail | 50 |
LuminanceSmoothing | 22 |
Make | Canon |
MaxApertureValue | 1.4 |
Megapixels | 1.3 |
MeteringMode | Multi-segment |
Model | Canon EOS R5 |
ModifyDate (1) | 2024:01:10 22:51:21+01:00 |
ModifyDate | 2024:01:10 22:51:21 |
Orientation | Horizontal (normal) |
OverrideLookVignette | False |
ParametricDarks | 0 |
ParametricHighlights | 0 |
ParametricHighlightSplit | 75 |
ParametricLights | 0 |
ParametricMidtoneSplit | 50 |
ParametricShadows | 0 |
ParametricShadowSplit | 25 |
PerspectiveAspect | 0 |
PerspectiveHorizontal | 0 |
PerspectiveRotate | 0.0 |
PerspectiveScale | 100 |
PerspectiveUpright | 0 |
PerspectiveVertical | 0 |
PerspectiveX | 0.00 |
PerspectiveY | 0.00 |
PhotometricInterpretation | RGB |
PlanarConfiguration | Chunky |
PostCropVignetteAmount | 0 |
PreservedFileName | 4J7A2331.CR3 |
ProcessVersion | 15.4 |
ProfileDescription | ProPhoto |
RawFileName | 4J7A2331.CR3 |
RecommendedExposureIndex | 1000 |
RedHue | 0 |
RedSaturation | 0 |
RowsPerStrip (1) | 423 |
RowsPerStrip (2) | 212 |
RowsPerStrip (3) | 106 |
RowsPerStrip | 846 |
SamplesPerPixel | 3 |
Saturation | +2 |
SaturationAdjustmentAqua | 0 |
SaturationAdjustmentBlue | 0 |
SaturationAdjustmentGreen | 0 |
SaturationAdjustmentMagenta | 0 |
SaturationAdjustmentOrange | -15 |
SaturationAdjustmentPurple | 0 |
SaturationAdjustmentRed | 0 |
SaturationAdjustmentYellow | 0 |
ScaleFactor35efl | 5.7 |
SceneCaptureType | Standard |
SensitivityType (1) | 2 |
SensitivityType | Recommended Exposure Index |
SerialNumber | 073021001637 |
Shadows2012 | 0 |
ShadowTint | 0 |
SharpenDetail | 25 |
SharpenEdgeMasking | 0 |
SharpenRadius | +1.0 |
Sharpness | 40 |
ShutterSpeed | 1/60 |
ShutterSpeedValue | 1/60 |
Software | Adobe Photoshop 25.0 (Macintosh) |
SplitToningBalance | +1 |
SplitToningHighlightHue | 239 |
SplitToningHighlightSaturation | 34 |
SplitToningShadowHue | 231 |
SplitToningShadowSaturation | 32 |
StripByteCounts (1) | 7614000 |
StripByteCounts (2) | 951750 |
StripByteCounts (3) | 238500 |
StripByteCounts | 59784 |
StripOffsets (1) | 40148 |
StripOffsets (2) | 7654924 |
StripOffsets (3) | 8606882 |
StripOffsets | 8845590 |
SubfileType (1) | Full-resolution Image |
SubfileType | Reduced-resolution image |
Texture | 0 |
This work is licensed under the Creative Commons Attribution-Share Alike 3.0 United States License. To view a copy of this license, visit http://creativecommons.org/licenses/by-sa/3.0/us/ or send a letter to Creative Commons, 171 Second Street, Suite 300, San Francisco, California, 94105, USA. |
Tint | +13 |
ToneCurveName2012 | Linear |
ToneCurvePV2012 | 0, 0, 255, 255 |
ToneCurvePV2012Blue | 0, 0, 255, 255 |
ToneCurvePV2012Green | 0, 0, 255, 255 |
ToneCurvePV2012Red | 0, 0, 255, 255 |
URL_List | |
Version | 16.0 |
Vibrance | +1 |
VignetteAmount | 0 |
VignetteCorrectionAlreadyApplied | True |
WhiteBalance (2) | Auto |
WhiteBalance | As Shot |
Whites2012 | 0 |