Felt | Verdi |
AlreadyApplied | True |
Aperture | 4.5 |
ApertureValue | 4.5 |
Artist | Eric M Fagerheim |
BitsPerSample | 8 |
BlueHue | 0 |
BlueSaturation | 0 |
Brightness | +23 |
By-line | Eric M Fagerheim |
CameraProfile | ACR 3.6 |
Caption-Abstract | Eric M Fagerheim |
Category | por |
CFAPattern | [Red,Green][Green,Blue] |
ChromaticAberrationB | 0 |
ChromaticAberrationR | 0 |
CircleOfConfusion | 0.020 mm |
Clarity | 0 |
ColorComponents | 3 |
ColorMode | RGB |
ColorNoiseReduction | 25 |
ColorSpace | sRGB |
ColorTemperature | 4471 |
Contrast (2) | +25 |
Contrast | High |
ConvertToGrayscale | False |
Copyright | Eric M Fagerheim |
CopyrightFlag | False |
CopyrightNotice | Eric M Fagerheim |
CreateDate (1) | 2007:12:02 22:06:08+01:00 |
CreateDate | 2007:12:02 16:34:26 |
Creator | Eric M Fagerheim |
CreatorAddress | Løkkjbakken 5 |
CreatorCity | 7232 Lundamo |
CreatorCountry | Norway |
CreatorTool | Adobe Photoshop CS2 Windows |
CreatorWorkEmail | devisor@dcpost.no |
CreatorWorkURL | http://www.tjukkband.no/devisor |
CustomRendered | Normal |
DateTimeDigitized | 2007:12:02 16:34:26+01:00 |
DateTimeOriginal (1) | 2007:12:02 16:34:26+01:00 |
DateTimeOriginal | 2007:12:02 16:34:26 |
Defringe | 0 |
Description | Eric M Fagerheim |
ExifImageHeight | 750 |
ExifImageWidth | 501 |
Exposure | +0.80 |
ExposureCompensation | 0 |
ExposureMode | Manual |
ExposureProgram | Manual |
ExposureTime | 1/90 |
FillLight | 16 |
Flash | Off, Did not fire |
FlashFired | False |
FlashFunction | False |
FlashMode | Off |
FlashRedEyeMode | False |
FlashReturn | No return detection |
FNumber | 4.5 |
FocalLength | 50.0 mm |
FocalLength35efl | 50.0 mm (35 mm equivalent: 75.0 mm) |
FocalLengthIn35mmFormat | 75 mm |
Format | image/jpeg |
FOV | 27.0 deg |
GreenHue | 0 |
GreenSaturation | 0 |
HasCrop | False |
HasSettings | True |
Headline | fotograf i Trondheim |
HierarchicalSubject | Yvonne_snø |
HighlightRecovery | 0 |
HueAdjustmentAqua | 0 |
HueAdjustmentBlue | 0 |
HueAdjustmentGreen | 0 |
HueAdjustmentMagenta | 0 |
HueAdjustmentOrange | 0 |
HueAdjustmentPurple | 0 |
HueAdjustmentRed | 0 |
HueAdjustmentYellow | 0 |
HyperfocalDistance | 27.74 m |
ICCProfileName | sRGB IEC61966-2.1 |
ImageDescription | Eric M Fagerheim |
ImageHeight (1) | 3008 |
ImageHeight | 750 |
ImageSize | 501x750 |
ImageWidth (1) | 2008 |
ImageWidth | 501 |
ISO | 200 |
Keywords | Yvonne_snø |
Label | emfphoto |
Lens | TAMRON SP AF 28-75mm F2.8 XR Di (A09) |
LensID (1) | 4 49 |
LensID | Tamron SP AF 28-75mm F2.8 XR Di LD Aspherical [IF] Macro |
LensInfo | 28-75mm f/2.8 |
LightValue | 9.8 |
LuminanceAdjustmentAqua | 0 |
LuminanceAdjustmentBlue | 0 |
LuminanceAdjustmentGreen | 0 |
LuminanceAdjustmentMagenta | 0 |
LuminanceAdjustmentOrange | 0 |
LuminanceAdjustmentPurple | 0 |
LuminanceAdjustmentRed | 0 |
LuminanceAdjustmentYellow | 0 |
LuminanceSmoothing | 0 |
Make | PENTAX Corporation |
Megapixels | 0.376 |
MeteringMode | Multi-segment |
Model | PENTAX K100D |
ModifyDate (1) | 2007:12:03 00:33+01:00 |
ModifyDate | 2007:12:03 00:33:00 |
Orientation | Horizontal (normal) |
ParametricDarks | 0 |
ParametricHighlights | 0 |
ParametricHighlightSplit | 75 |
ParametricLights | 0 |
ParametricMidtoneSplit | 50 |
ParametricShadows | 0 |
ParametricShadowSplit | 25 |
ProfileDescription | sRGB IEC61966-2.1 |
RedHue | 0 |
RedSaturation | 0 |
Rights | Eric M Fagerheim |
Saturation (2) | 0 |
Saturation | Normal |
SaturationAdjustmentAqua | 0 |
SaturationAdjustmentBlue | 0 |
SaturationAdjustmentGreen | 0 |
SaturationAdjustmentMagenta | 0 |
SaturationAdjustmentOrange | 0 |
SaturationAdjustmentPurple | 0 |
SaturationAdjustmentRed | 0 |
SaturationAdjustmentYellow | 0 |
ScaleFactor35efl | 1.5 |
SceneCaptureType | Standard |
SceneType | Directly photographed |
SensingMethod | One-chip color area |
Shadows | 5 |
ShadowTint | 0 |
SharpenDetail | 25 |
SharpenEdgeMasking | 0 |
SharpenRadius | +1.0 |
Sharpness (2) | 25 |
Sharpness | Hard |
ShutterSpeed | 1/90 |
ShutterSpeedValue | 1/90 |
Software | Adobe Photoshop CS2 Windows |
SplitToningBalance | 0 |
SplitToningHighlightHue | 0 |
SplitToningHighlightSaturation | 0 |
SplitToningShadowHue | 0 |
SplitToningShadowSaturation | 0 |
Subject | Yvonne_snø |
SubjectDistanceRange | Distant |
SupplementalCategories | Fotograf, konfirmasjon, portrett, bryllup |
Tint | 0 |
ToneCurve | 0, 0, 32, 22, 64, 56, 128, 128, 192, 196, 255, 255 |
ToneCurveName | Medium Contrast |
URL_List | |
UsageTerms | all right reserved |
Version | 1.0 |
Vibrance | 0 |
VignetteAmount | 0 |
WhiteBalance (2) | Custom |
WhiteBalance | Manual |