Felt | Verdi |
AlreadyApplied | True |
Aperture | 13.0 |
ApertureValue | 13.0 |
Artist | Svein O Jacobsen |
BitsPerSample | 8 |
BlueHue | 0 |
BlueSaturation | 0 |
Brightness | +42 |
CameraProfile | ACR 4.4 |
Caption-Abstract | Cuauhtemoc, from Mexico, arrival Bergen harbour during the Tall Ships' Races |
ChromaticAberrationB | 0 |
ChromaticAberrationR | 0 |
CircleOfConfusion | 0.019 mm |
City | Bergen |
Clarity | 0 |
ColorComponents | 3 |
ColorNoiseReduction | 69 |
ColorTemperature | 5700 |
Contrast | +32 |
ConvertToGrayscale | False |
Country | Norway |
Country-PrimaryLocationName | Norway |
CreateDate | 2008:08:09 10:50:58 |
CreatorTool | Adobe Photoshop Lightroom |
CustomRendered | Normal |
DateTimeDigitized | 2008:08:09 10:50:58+02:00 |
DateTimeOriginal (1) | 2008:08:09 10:50:58+02:00 |
DateTimeOriginal | 2008:08:09 10:50:58 |
Defringe | 0 |
Description | Cuauhtemoc, from Mexico, arrival Bergen harbour during the Tall Ships' Races |
Exposure | +0.20 |
ExposureCompensation | 0 |
ExposureMode | Auto |
ExposureProgram | Aperture-priority AE |
ExposureTime | 1/125 |
FillLight | 0 |
Firmware | 1.0.4 |
Flash | Off, Did not fire |
FlashCompensation | 0 |
FlashFired | False |
FlashFunction | False |
FlashMode | Off |
FlashRedEyeMode | False |
FlashReturn | No return detection |
FNumber | 13.0 |
FocalLength | 70.0 mm |
FocalLength35efl | 70.0 mm (35 mm equivalent: 113.3 mm) |
FOV | 18.1 deg |
GreenHue | 0 |
GreenSaturation | 0 |
HasCrop | False |
HasSettings | True |
HierarchicalSubject | Bergen, Cuauhtemoc, Europe, Harbour, Norway, Scandinavia, Tall Ship, Tall Ships' Races, Vacations, Water, bay, beautiful, big, blue, bow, clear, coast, coastal, color, colorfull, colour, colourfull, cruise, full, green, historic, historical, holiday, hordaland, horizon, hull, large, luxury, mariner, maritime, masts, men, moored, nautical, old, outdoors, peace, retro, rigging, sailboat, sailing, sailing-ship, sailship, sea, seaman, serene, shadow, ship, sky, summer, sun, tall, tranquil, transport, transportation, travel, trip, vessel, waves, white, wind, wooden |
HighlightRecovery | 0 |
HueAdjustmentAqua | 0 |
HueAdjustmentBlue | +17 |
HueAdjustmentGreen | 0 |
HueAdjustmentMagenta | 0 |
HueAdjustmentOrange | 0 |
HueAdjustmentPurple | 0 |
HueAdjustmentRed | 0 |
HueAdjustmentYellow | 0 |
HyperfocalDistance | 20.30 m |
ImageDescription | Cuauhtemoc, from Mexico, arrival Bergen harbour during the Tall Ships' Races |
ImageHeight | 3888 |
ImageNumber | 0 |
ImageSize | 2592x3888 |
ImageWidth | 2592 |
ISO | 100 |
Keywords | Bergen, Cuauhtemoc, Europe, Harbour, Norway, Scandinavia, Tall Ship, Tall Ships' Races, Vacations, Water, bay, beautiful, big, blue, bow, clear, coast, coastal, color, colorfull, colour, colourfull, cruise, full, green, historic, historical, holiday, hordaland, horizon, hull, large, luxury, mariner, maritime, masts, men, moored, nautical, old, outdoors, peace, retro, rigging, sailboat, sailing, sailing-ship, sailship, sea, seaman, serene, shadow, ship, sky, summer, sun, tall, tranquil, transport, transportation, travel, trip, vessel, waves, white, wind, wooden |
Label | CVAVATEMOC |
Lens | 70.0-200.0 mm |
LensInfo | 70-200mm f/? |
LightValue | 14.4 |
Location | Vågen |
LuminanceAdjustmentAqua | -18 |
LuminanceAdjustmentBlue | -37 |
LuminanceAdjustmentGreen | 0 |
LuminanceAdjustmentMagenta | 0 |
LuminanceAdjustmentOrange | 0 |
LuminanceAdjustmentPurple | 0 |
LuminanceAdjustmentRed | 0 |
LuminanceAdjustmentYellow | -13 |
LuminanceSmoothing | 93 |
Make | Canon |
MaxApertureValue | 2.8 |
Megapixels | 10.1 |
MeteringMode | Multi-segment |
Model | Canon EOS 400D DIGITAL |
ModifyDate (1) | 2008:08:20 10:01:31+02:00 |
ModifyDate | 2008:08:20 10:01:31 |
ObjectName | Cuauhtemoc |
OwnerName | Svein O Jacobsen |
ParametricDarks | 0 |
ParametricHighlights | 0 |
ParametricHighlightSplit | 75 |
ParametricLights | 0 |
ParametricMidtoneSplit | 50 |
ParametricShadows | 0 |
ParametricShadowSplit | 25 |
ProfileDescription | ProPhoto RGB |
Province-State | Hordaland |
RedHue | 0 |
RedSaturation | 0 |
Saturation | 0 |
SaturationAdjustmentAqua | 0 |
SaturationAdjustmentBlue | +25 |
SaturationAdjustmentGreen | 0 |
SaturationAdjustmentMagenta | 0 |
SaturationAdjustmentOrange | 0 |
SaturationAdjustmentPurple | 0 |
SaturationAdjustmentRed | 0 |
SaturationAdjustmentYellow | 0 |
ScaleFactor35efl | 1.6 |
Scene | CVAVATEMOC |
SceneCaptureType | Standard |
SerialNumber | 830415345 |
Shadows | 2 |
ShadowTint | 0 |
SharpenDetail | 25 |
SharpenEdgeMasking | 0 |
SharpenRadius | +1.0 |
Sharpness | 97 |
ShutterSpeed | 1/125 |
ShutterSpeedValue | 1/125 |
SplitToningBalance | 0 |
SplitToningHighlightHue | 0 |
SplitToningHighlightSaturation | 0 |
SplitToningShadowHue | 0 |
SplitToningShadowSaturation | 0 |
State | Hordaland |
Sub-location | Vågen |
Subject | Bergen, Cuauhtemoc, Europe, Harbour, Norway, Scandinavia, Tall Ship, Tall Ships' Races, Vacations, Water, bay, beautiful, big, blue, bow, clear, coast, coastal, color, colorfull, colour, colourfull, cruise, full, green, historic, historical, holiday, hordaland, horizon, hull, large, luxury, mariner, maritime, masts, men, moored, nautical, old, outdoors, peace, retro, rigging, sailboat, sailing, sailing-ship, sailship, sea, seaman, serene, shadow, ship, sky, summer, sun, tall, tranquil, transport, transportation, travel, trip, vessel, waves, white, wind, wooden |
Tint | +13 |
Title | Cuauhtemoc |
ToneCurve | 0, 0, 32, 22, 64, 56, 128, 128, 192, 196, 255, 255 |
ToneCurveName | Medium Contrast |
Version | 4.4.1 |
Vibrance | 0 |
VignetteAmount | 0 |
WhiteBalance (2) | As Shot |
WhiteBalance | Auto |