Felt | Verdi |
AlreadyApplied | True |
Aperture | 16.0 |
ApertureValue | 16.0 |
Artist | Lars Soe Eriksen |
BitsPerSample | 8 |
BlueHue | 0 |
BlueSaturation | 0 |
Brightness | +50 |
By-line | Lars Soe Eriksen |
CameraProfile | Adobe Standard |
ChromaticAberrationB | 0 |
ChromaticAberrationR | 0 |
CircleOfConfusion | 0.030 mm |
Clarity | +21 |
ColorComponents | 3 |
ColorNoiseReduction | 25 |
ColorTemperature | 4738 |
Contrast | -4 |
ConvertToGrayscale | True |
CreateDate (1) | 2009:01:26 20:20:58+01:00 |
CreateDate | 2009:01:26 20:20:58 |
Creator | Lars Soe Eriksen |
CreatorTool | Adobe Photoshop Lightroom |
CropAngle | 0 |
CropBottom | 0.972274 |
CropHeight | 2616 |
CropLeft | 0.029575 |
CropRight | 1 |
CropTop | 0.073937 |
CropUnit | pixels |
CropWidth | 4239 |
CustomRendered | Normal |
DateTimeDigitized | 2009:01:26 20:20:58+01:00 |
DateTimeOriginal (1) | 2009:01:26 20:20:58+01:00 |
DateTimeOriginal | 2009:01:26 20:20:58 |
Defringe | 0 |
ExifImageHeight | 2616 |
ExifImageWidth | 4239 |
Exposure | 0.00 |
ExposureCompensation | +1 |
ExposureMode | Auto |
ExposureProgram | Aperture-priority AE |
ExposureTime | 10 |
FillLight | 14 |
Firmware | 1.1.1 |
Flash | Off, Did not fire |
FlashCompensation | 0 |
FlashFired | False |
FlashFunction | False |
FlashMode | Off |
FlashRedEyeMode | False |
FlashReturn | No return detection |
FNumber | 16.0 |
FocalLength | 24.0 mm |
FocalLength35efl | 24.0 mm (35 mm equivalent: 24.0 mm) |
FOV | 73.6 deg |
GrayMixerAqua | -10 |
GrayMixerBlue | +20 |
GrayMixerGreen | -17 |
GrayMixerMagenta | +32 |
GrayMixerOrange | +12 |
GrayMixerPurple | +25 |
GrayMixerRed | +39 |
GrayMixerYellow | -9 |
GreenHue | 0 |
GreenSaturation | 0 |
HasCrop | True |
HasSettings | True |
HighlightRecovery | 24 |
HyperfocalDistance | 1.20 m |
ImageHeight | 2616 |
ImageNumber | 2 |
ImageSize | 4239x2616 |
ImageWidth | 4239 |
ISO | 500 |
Lens | EF24mm f/1.4L USM |
LensInfo | 24mm f/? |
LightValue | 2.4 |
Location | songsvann |
LuminanceSmoothing | 0 |
Make | Canon |
MaxApertureValue | 1.4 |
Megapixels | 11.1 |
MeteringMode | Multi-segment |
Model | Canon EOS 5D |
ModifyDate (1) | 2009:01:26 20:57:17+01:00 |
ModifyDate | 2009:01:26 20:57:17 |
OwnerName | Lars Soe Eriksen |
ParametricDarks | -52 |
ParametricHighlights | -62 |
ParametricHighlightSplit | 75 |
ParametricLights | -55 |
ParametricMidtoneSplit | 50 |
ParametricShadows | -43 |
ParametricShadowSplit | 25 |
PostCropVignetteAmount | -57 |
PostCropVignetteFeather | 76 |
PostCropVignetteMidpoint | 73 |
PostCropVignetteRoundness | 0 |
ProfileDescription | sRGB IEC61966-2.1 |
RedHue | 0 |
RedSaturation | 0 |
ScaleFactor35efl | 1.0 |
SceneCaptureType | Standard |
SerialNumber | 530206639 |
Shadows | 0 |
ShadowTint | 0 |
SharpenDetail | 25 |
SharpenEdgeMasking | 0 |
SharpenRadius | +1.0 |
Sharpness | 25 |
ShutterSpeed | 10 |
ShutterSpeedValue | 10 |
SplitToningBalance | 0 |
SplitToningHighlightHue | 51 |
SplitToningHighlightSaturation | 22 |
SplitToningShadowHue | 37 |
SplitToningShadowSaturation | 32 |
Sub-location | songsvann |
Tint | -21 |
ToneCurve | 0, 0, 32, 22, 64, 56, 128, 128, 192, 196, 255, 255 |
ToneCurveName | Medium Contrast |
Version | 5.2 |
VignetteAmount | 0 |
WhiteBalance (2) | Custom |
WhiteBalance | Auto |