Felt | Verdi |
AlreadyApplied | True |
Aperture | 5.6 |
ApertureValue | 5.6 |
BitsPerSample | 8 |
BlueHue | 0 |
BlueSaturation | 0 |
Brightness | +49 |
CameraProfile | Embedded |
ChromaticAberrationB | 0 |
ChromaticAberrationR | 0 |
CircleOfConfusion | 0.019 mm |
Clarity | +50 |
ColorComponents | 1 |
ColorNoiseReduction | 25 |
Contrast | -25 |
ConvertToGrayscale | True |
CreateDate (1) | 2009:03:29 17:39:40.02+02:00 |
CreateDate | 2009:03:29 17:39:40 |
CreatorTool | Adobe Photoshop Lightroom |
CustomRendered | Normal |
DateAcquired | 2009:03:29 16:39:56Z |
DateTimeDigitized | 2009:03:29 17:39:40.02+02:00 |
DateTimeOriginal (1) | 2009:03:29 17:39:40.02+02:00 |
DateTimeOriginal | 2009:03:29 17:39:40 |
Defringe | 0 |
ExifImageHeight | 2848 |
ExifImageWidth | 4272 |
Exposure | 0.00 |
ExposureCompensation | 0 |
ExposureMode | Auto |
ExposureProgram | Program AE |
ExposureTime | 1/30 |
FillLight | 0 |
Flash | Off, Did not fire |
FlashFired | False |
FlashFunction | False |
FlashMode | Off |
FlashRedEyeMode | False |
FlashReturn | No return detection |
FNumber | 5.6 |
FocalLength | 53.0 mm |
FocalLength35efl | 53.0 mm (35 mm equivalent: 85.6 mm) |
FOV | 23.7 deg |
GrayMixerAqua | -19 |
GrayMixerBlue | +7 |
GrayMixerGreen | -25 |
GrayMixerMagenta | +4 |
GrayMixerOrange | -16 |
GrayMixerPurple | +14 |
GrayMixerRed | -7 |
GrayMixerYellow | -20 |
GreenHue | 0 |
GreenSaturation | 0 |
HasCrop | False |
HasSettings | True |
HighlightRecovery | 5 |
HyperfocalDistance | 26.97 m |
ImageHeight | 2848 |
ImageSize | 4272x2848 |
ImageWidth | 4272 |
IncrementalTemperature | +9 |
IncrementalTint | 0 |
ISO | 800 |
Keywords | Canada skogen, Jeanette, Kunst |
LastKeywordXMP | Canada skogen |
LightValue | 6.9 |
LuminanceSmoothing | 0 |
Make | Canon |
Megapixels | 12.2 |
MeteringMode | Spot |
Model | Canon EOS 450D |
ModifyDate (1) | 2009:03:30 22:09:22+02:00 |
ModifyDate | 2009:03:30 22:09:22 |
ParametricDarks | 0 |
ParametricHighlights | 0 |
ParametricHighlightSplit | 75 |
ParametricLights | 0 |
ParametricMidtoneSplit | 50 |
ParametricShadows | 0 |
ParametricShadowSplit | 25 |
PostCropVignetteAmount | 0 |
ProfileDescription | sRGB IEC61966-2.1 |
RedHue | 0 |
RedSaturation | 0 |
ScaleFactor35efl | 1.6 |
SceneCaptureType | Standard |
Shadows | 0 |
ShadowTint | 0 |
SharpenDetail | 25 |
SharpenEdgeMasking | 0 |
SharpenRadius | +1.0 |
Sharpness | 25 |
ShutterSpeed | 1/30 |
ShutterSpeedValue | 1/30 |
SplitToningBalance | 0 |
SplitToningHighlightHue | 215 |
SplitToningHighlightSaturation | 0 |
SplitToningShadowHue | 240 |
SplitToningShadowSaturation | 0 |
Subject | Canada skogen, Jeanette, Kunst |
ToneCurve | 0, 0, 255, 255 |
ToneCurveName | Linear |
Version | 5.3 |
VignetteAmount | 0 |
WhiteBalance | Auto |