Felt | Verdi |
AlreadyApplied | True |
Aperture | 5.6 |
ApertureValue | 5.6 |
Artist | wenche@roro.no |
BitsPerSample | 8 |
BlueHue | 0 |
BlueSaturation | 0 |
Brightness | +25 |
By-line | wenche@roro.no |
CameraProfile | Adobe Standard |
CFAPattern | [Red,Green][Green,Blue] |
ChromaticAberrationB | 0 |
ChromaticAberrationR | 0 |
CircleOfConfusion | 0.030 mm |
Clarity | +29 |
ColorComponents | 3 |
ColorMode | RGB |
ColorNoiseReduction | 100 |
ColorSpace | sRGB |
ColorTemperature | 3200 |
Contrast (2) | 0 |
Contrast | Normal |
ConvertToGrayscale | False |
Copyright | Venche Jensen©2009 |
CopyrightNotice | Venche Jensen©2009 |
CreateDate (1) | 2009:11:27 14:44:35.90+01:00 |
CreateDate | 2009:11:27 14:44:35 |
Creator | wenche@roro.no, Venche Jensen |
CreatorTool | Ver.2.01 |
CustomRendered | Normal |
DateTimeDigitized | 2009:11:27 14:44:35.90+01:00 |
DateTimeOriginal (1) | 2009:11:27 14:44:35.90+01:00 |
DateTimeOriginal | 2009:11:27 14:44:35 |
Defringe | 0 |
DigitalZoomRatio | 1 |
ExifImageHeight | 759 |
ExifImageWidth | 1140 |
Exposure | 0.00 |
ExposureCompensation | 0 |
ExposureMode | Manual |
ExposureProgram | Manual |
ExposureTime | 1/25 |
FillLight | 0 |
Flash | No Flash |
FlashFired | False |
FlashFunction | False |
FlashMode | Unknown |
FlashRedEyeMode | False |
FlashReturn | No return detection |
FNumber | 5.6 |
FocalLength | 50.0 mm |
FocalLength35efl | 50.0 mm (35 mm equivalent: 50.0 mm) |
FocalLengthIn35mmFormat | 50 mm |
Format | image/jpeg |
FOV | 39.6 deg |
GainControl | High gain up |
GreenHue | 0 |
GreenSaturation | 0 |
HasCrop | False |
HasSettings | True |
HighlightRecovery | 14 |
HueAdjustmentAqua | 0 |
HueAdjustmentBlue | 0 |
HueAdjustmentGreen | 0 |
HueAdjustmentMagenta | 0 |
HueAdjustmentOrange | 0 |
HueAdjustmentPurple | 0 |
HueAdjustmentRed | 0 |
HueAdjustmentYellow | 0 |
HyperfocalDistance | 14.86 m |
ICCProfileName | sRGB IEC61966-2.1 |
ImageHeight (1) | 2832 |
ImageHeight | 759 |
ImageNumber | 21893 |
ImageSize | 1140x759 |
ImageWidth (1) | 4256 |
ImageWidth | 1140 |
ISO | 5000 |
Lens | 50.0 mm f/1.4 |
LensInfo | 50mm f/1.4 |
LightSource | Unknown |
LightValue | 4.0 |
LuminanceAdjustmentAqua | 0 |
LuminanceAdjustmentBlue | 0 |
LuminanceAdjustmentGreen | 0 |
LuminanceAdjustmentMagenta | 0 |
LuminanceAdjustmentOrange | 0 |
LuminanceAdjustmentPurple | 0 |
LuminanceAdjustmentRed | 0 |
LuminanceAdjustmentYellow | 0 |
LuminanceSmoothing | 52 |
Make | NIKON CORPORATION |
MaxApertureValue | 1.4 |
Megapixels | 0.865 |
MeteringMode | Multi-segment |
Model | NIKON D3 |
ModifyDate (1) | 2009:11:28 21:23:45+01:00 |
ModifyDate | 2009:11:28 21:23:45 |
Orientation | Horizontal (normal) |
ParametricDarks | 0 |
ParametricHighlights | 0 |
ParametricHighlightSplit | 75 |
ParametricLights | 0 |
ParametricMidtoneSplit | 50 |
ParametricShadows | 0 |
ParametricShadowSplit | 25 |
PostCropVignetteAmount | 0 |
ProfileDescription | sRGB IEC61966-2.1 |
Rating | 1 |
RawFileName | _VEJ1680.NEF |
RedHue | 0 |
RedSaturation | 0 |
Rights | Venche Jensen©2009 |
Saturation (2) | 0 |
Saturation | Normal |
SaturationAdjustmentAqua | 0 |
SaturationAdjustmentBlue | 0 |
SaturationAdjustmentGreen | 0 |
SaturationAdjustmentMagenta | 0 |
SaturationAdjustmentOrange | 0 |
SaturationAdjustmentPurple | 0 |
SaturationAdjustmentRed | 0 |
SaturationAdjustmentYellow | 0 |
ScaleFactor35efl | 1.0 |
SceneCaptureType | Standard |
SceneType | Directly photographed |
SensingMethod | One-chip color area |
SerialNumber | 2037256 |
Shadows | 0 |
ShadowTint | 0 |
SharpenDetail | 25 |
SharpenEdgeMasking | 0 |
SharpenRadius | +1.0 |
Sharpness (2) | 25 |
Sharpness | Normal |
ShutterSpeed | 1/25 |
ShutterSpeedValue | 1/25 |
Software | Adobe Photoshop CS4 Macintosh |
SplitToningBalance | 0 |
SplitToningHighlightHue | 0 |
SplitToningHighlightSaturation | 0 |
SplitToningShadowHue | 0 |
SplitToningShadowSaturation | 0 |
SubjectDistanceRange | Unknown |
Tint | +2 |
ToneCurve | 0, 0, 32, 22, 64, 56, 128, 128, 192, 196, 255, 255 |
ToneCurveName | Medium Contrast |
URL_List | |
Version | 5.5 |
Vibrance | -22 |
VignetteAmount | 0 |
WhiteBalance (2) | Custom |
WhiteBalance | Manual |