Felt | Verdi |
AlreadyApplied | True |
Aperture | 6.3 |
ApertureValue | 6.3 |
Artist | ODD LIE 2009 |
BitsPerSample | 8 |
BlueHue | 0 |
BlueSaturation | 0 |
Brightness | +57 |
By-line | ODD LIE 2009 |
CameraProfile | Camera D2X Mode 2 |
CFAPattern | [Red,Green][Green,Blue] |
ChromaticAberrationB | 0 |
ChromaticAberrationR | 0 |
CircleOfConfusion | 0.020 mm |
Clarity | +47 |
ColorComponents | 3 |
ColorNoiseReduction | 48 |
ColorNoiseReductionDetail | 61 |
ColorTemperature | 5500 |
Contrast (2) | +33 |
Contrast | Normal |
ConvertToGrayscale | False |
Copyright | ODD LIE@ |
CopyrightNotice | ODD LIE@ |
CreateDate (1) | 2010:04:02 08:23:36.08+02:00 |
CreateDate | 2010:04:02 08:23:36 |
Creator | ODD LIE 2009 |
CreatorTool | Adobe Photoshop Lightroom |
CropAngle | 0 |
CropBottom | 0.613445 |
CropHeight | 957 |
CropLeft | 0.277209 |
CropRight | 0.556279 |
CropTop | 0.27731 |
CropUnit | pixels |
CropWidth | 1197 |
CustomRendered | Normal |
DateTimeDigitized | 2010:04:02 08:23:36.08+02:00 |
DateTimeOriginal (1) | 2010:04:02 08:23:36.08+02:00 |
DateTimeOriginal | 2010:04:02 08:23:36 |
Defringe | 0 |
DigitalZoomRatio | 1 |
DOF | 1.23 m (31.00 - 32.23 m) |
ExifImageHeight | 957 |
ExifImageWidth | 1197 |
Exposure | +0.32 |
ExposureCompensation | -13/3 |
ExposureMode | Manual |
ExposureProgram | Manual |
ExposureTime | 1/200 |
FillLight | 0 |
Flash | No Flash |
FlashFired | False |
FlashFunction | False |
FlashMode | Unknown |
FlashRedEyeMode | False |
FlashReturn | No return detection |
FNumber | 6.3 |
FocalLength | 450.0 mm |
FocalLength35efl | 450.0 mm (35 mm equivalent: 675.0 mm) |
FocalLengthIn35mmFormat | 675 mm |
FOV | 3.1 deg |
GainControl | None |
GrainAmount | 0 |
GreenHue | 0 |
GreenSaturation | 0 |
HasCrop | True |
HasSettings | True |
HighlightRecovery | 24 |
HueAdjustmentAqua | +66 |
HueAdjustmentBlue | +77 |
HueAdjustmentGreen | +40 |
HueAdjustmentMagenta | 0 |
HueAdjustmentOrange | +17 |
HueAdjustmentPurple | +49 |
HueAdjustmentRed | 0 |
HueAdjustmentYellow | +77 |
HyperfocalDistance | 1604.67 m |
ImageHeight | 957 |
ImageNumber | 25750 |
ImageSize | 1197x957 |
ImageWidth | 1197 |
ISO | 100 |
Lens | 150.0-500.0 mm f/5.0-6.3 |
LensID (1) | 206 |
LensID | Sigma 150-500mm F5-6.3 DG OS APO HSM |
LensInfo | 150-500mm f/5-6.3 |
LightSource | Unknown |
LightValue | 13.0 |
LuminanceAdjustmentAqua | 0 |
LuminanceAdjustmentBlue | 0 |
LuminanceAdjustmentGreen | 0 |
LuminanceAdjustmentMagenta | 0 |
LuminanceAdjustmentOrange | 0 |
LuminanceAdjustmentPurple | 0 |
LuminanceAdjustmentRed | 0 |
LuminanceAdjustmentYellow | 0 |
LuminanceNoiseReductionContrast | 0 |
LuminanceNoiseReductionDetail | 50 |
LuminanceSmoothing | 21 |
Make | NIKON CORPORATION |
MaxApertureValue | 6.3 |
Megapixels | 1.1 |
MeteringMode | Spot |
Model | NIKON D300 |
ModifyDate (1) | 2010:04:05 18:45:07+02:00 |
ModifyDate | 2010:04:05 18:45:07 |
ParametricDarks | 0 |
ParametricHighlights | +40 |
ParametricHighlightSplit | 75 |
ParametricLights | +23 |
ParametricMidtoneSplit | 50 |
ParametricShadows | +12 |
ParametricShadowSplit | 25 |
PostCropVignetteAmount | 0 |
ProcessVersion | 5.7 |
ProfileDescription | sRGB IEC61966-2.1 |
RedHue | 0 |
RedSaturation | 0 |
Rights | ODD LIE@ |
Saturation (2) | 0 |
Saturation | Normal |
SaturationAdjustmentAqua | 0 |
SaturationAdjustmentBlue | 0 |
SaturationAdjustmentGreen | 0 |
SaturationAdjustmentMagenta | 0 |
SaturationAdjustmentOrange | 0 |
SaturationAdjustmentPurple | 0 |
SaturationAdjustmentRed | 0 |
SaturationAdjustmentYellow | 0 |
ScaleFactor35efl | 1.5 |
SceneCaptureType | Standard |
SceneType | Directly photographed |
SensingMethod | One-chip color area |
SerialNumber | 4122933 |
Shadows | 0 |
ShadowTint | 0 |
SharpenDetail | 53 |
SharpenEdgeMasking | 0 |
SharpenRadius | +1.6 |
Sharpness (2) | 81 |
Sharpness | Normal |
ShutterSpeed | 1/200 |
ShutterSpeedValue | 1/200 |
Software | Ver.1.10 |
SplitToningBalance | 0 |
SplitToningHighlightHue | 0 |
SplitToningHighlightSaturation | 0 |
SplitToningShadowHue | 58 |
SplitToningShadowSaturation | 6 |
SubjectDistance | 31.6 m |
SubjectDistanceRange | Unknown |
Tint | +10 |
ToneCurve | 0, 0, 32, 22, 64, 56, 128, 128, 192, 196, 255, 255 |
ToneCurveName | Medium Contrast |
Version | 6.0 |
Vibrance | +33 |
VignetteAmount | 0 |
WhiteBalance (2) | Daylight |
WhiteBalance | Auto |