Felt | Verdi |
AlreadyApplied | True |
Aperture | 22.0 |
ApertureValue | 22.0 |
Artist | Morten Tøraasen |
BitsPerSample | 8 |
BlueHue | 0 |
BlueSaturation | 0 |
Brightness | +55 |
By-line | Morten Tøraasen |
CameraProfile | ACR 4.4 |
ChromaticAberrationB | 0 |
ChromaticAberrationR | 0 |
CircleOfConfusion | 0.019 mm |
Clarity | 0 |
ColorComponents | 3 |
ColorMode | RGB |
ColorNoiseReduction | 25 |
ColorSpace (1) | Unknown (-1) |
ColorSpace | Uncalibrated |
ColorTemperature | 5700 |
Contrast | +38 |
ConvertToGrayscale | False |
Copyright | ©2010 Morten Tøraasen ALL RIGHTS RESERVED |
CopyrightFlag | False |
CopyrightNotice | ©2010 Morten Tøraasen ALL RIGHTS RESERVED |
CreateDate (1) | 2010:05:08 11:27:30+02:00 |
CreateDate | 2010:04:03 18:47:52 |
Creator | Morten Tøraasen |
CreatorTool | Adobe Photoshop CS3 Windows |
CropAngle | -0.17961 |
CropBottom | 0.99532 |
CropLeft | 0.0013 |
CropRight | 0.9987 |
CropTop | 0.00468 |
CustomRendered | Normal |
DateTimeDigitized | 2010:04:03 18:47:52.00+02:00 |
DateTimeOriginal (1) | 2010:04:03 18:47:52.00+02:00 |
DateTimeOriginal | 2010:04:03 18:47:52 |
Defringe | 0 |
DerivedFrom | |
ExifImageHeight | 2500 |
ExifImageWidth | 3837 |
Exposure | +0.80 |
ExposureCompensation | -2/3 |
ExposureMode | Auto |
ExposureProgram | Aperture-priority AE |
ExposureTime | 2 |
FillLight | 43 |
Firmware | 1.1.1 |
Flash | Off, Did not fire |
FlashCompensation | 0 |
FlashFired | False |
FlashFunction | False |
FlashMode | Off |
FlashRedEyeMode | False |
FlashReturn | No return detection |
FNumber | 22.0 |
FocalLength | 19.0 mm |
FocalLength35efl | 19.0 mm (35 mm equivalent: 30.8 mm) |
Format | image/jpeg |
FOV | 60.7 deg |
GreenHue | 0 |
GreenSaturation | 0 |
HasCrop | True |
HasSettings | True |
HighlightRecovery | 53 |
HueAdjustmentAqua | 0 |
HueAdjustmentBlue | 0 |
HueAdjustmentGreen | 0 |
HueAdjustmentMagenta | 0 |
HueAdjustmentOrange | 0 |
HueAdjustmentPurple | 0 |
HueAdjustmentRed | 0 |
HueAdjustmentYellow | 0 |
HyperfocalDistance | 0.88 m |
ICCProfileName | Adobe RGB (1998) |
ImageHeight | 2500 |
ImageNumber | 0 |
ImageSize | 3837x2500 |
ImageWidth | 3837 |
ISO | 100 |
Lens | EF17-40mm f/4L USM |
LensInfo | 17-40mm f/? |
LightValue | 7.9 |
LuminanceAdjustmentAqua | 0 |
LuminanceAdjustmentBlue | 0 |
LuminanceAdjustmentGreen | 0 |
LuminanceAdjustmentMagenta | 0 |
LuminanceAdjustmentOrange | 0 |
LuminanceAdjustmentPurple | 0 |
LuminanceAdjustmentRed | 0 |
LuminanceAdjustmentYellow | 0 |
LuminanceSmoothing | 74 |
Make | Canon |
MaxApertureValue | 4.0 |
Megapixels | 9.6 |
MeteringMode | Partial |
Model | Canon EOS 40D |
ModifyDate (1) | 2010:05:08 11:27:30+02:00 |
ModifyDate | 2010:05:08 11:27:30 |
Orientation | Horizontal (normal) |
ParametricDarks | -24 |
ParametricHighlights | -3 |
ParametricHighlightSplit | 75 |
ParametricLights | +13 |
ParametricMidtoneSplit | 50 |
ParametricShadows | +18 |
ParametricShadowSplit | 25 |
PostCropVignetteAmount | 0 |
PreservedFileName | _MG_0863.CR2 |
ProfileDescription | Adobe RGB (1998) |
Rating | 0 |
RawFileName | 20100403_1650.dng |
RedHue | 0 |
RedSaturation | 0 |
Rights | ©2010 Morten Tøraasen ALL RIGHTS RESERVED |
Saturation | 0 |
SaturationAdjustmentAqua | 0 |
SaturationAdjustmentBlue | 0 |
SaturationAdjustmentGreen | 0 |
SaturationAdjustmentMagenta | 0 |
SaturationAdjustmentOrange | 0 |
SaturationAdjustmentPurple | 0 |
SaturationAdjustmentRed | 0 |
SaturationAdjustmentYellow | 0 |
ScaleFactor35efl | 1.6 |
SceneCaptureType | Standard |
SerialNumber | 2431201535 |
Shadows | 7 |
ShadowTint | 0 |
SharpenDetail | 51 |
SharpenEdgeMasking | 30 |
SharpenRadius | +1.1 |
Sharpness | 73 |
ShutterSpeed | 2 |
ShutterSpeedValue | 2 |
Software | Adobe Photoshop CS3 Windows |
SplitToningBalance | 0 |
SplitToningHighlightHue | 0 |
SplitToningHighlightSaturation | 0 |
SplitToningShadowHue | 0 |
SplitToningShadowSaturation | 0 |
Tint | -7 |
ToneCurve | 0, 0, 32, 22, 64, 56, 128, 128, 192, 196, 255, 255 |
ToneCurveName | Medium Contrast |
URL_List | |
Version | 4.6 |
Vibrance | 0 |
VignetteAmount | +22 |
VignetteMidpoint | 50 |
WhiteBalance (2) | As Shot |
WhiteBalance | Auto |