Felt | Verdi |
AlreadyApplied | True |
Aperture | 8.0 |
ApertureValue | 8.0 |
ApproximateFocusDistance | 4294967295 |
BitsPerSample | 8 |
BlueHue | 0 |
BlueSaturation | 0 |
Brightness | +50 |
By-line | Robin Strand |
CameraProfile | Camera Landscape |
Caption-Abstract | Tyin i Jotunheimen |
CFAPattern | [Red,Green][Green,Blue] |
ChromaticAberrationB | 0 |
ChromaticAberrationR | -33 |
CircleOfConfusion | 0.030 mm |
Clarity | +45 |
ColorComponents | 3 |
ColorNoiseReduction | 25 |
ColorNoiseReductionDetail | 50 |
ColorTemperature | 5404 |
Contrast (2) | +25 |
Contrast | Normal |
ConvertToGrayscale | False |
Copyright | ROBIN STRAND / NORPHOTO AS |
CopyrightFlag | True |
CopyrightNotice | ROBIN STRAND / NORPHOTO AS |
Country | Norway |
Country-PrimaryLocationName | Norway |
CreateDate (1) | 2010:09:29 10:21:05.16+02:00 |
CreateDate | 2010:09:29 10:21:05 |
Creator | Robin Strand |
CreatorAddress | Porsveien 23 |
CreatorCity | Bergen |
CreatorCountry | Norway |
CreatorPostalCode | 5142 |
CreatorRegion | Fyllingsdalen |
CreatorTool | Adobe Photoshop Lightroom |
CreatorWorkEmail | robinstrand56@gmail.com |
CreatorWorkTelephone | 0047 90764724 |
CreatorWorkURL | www.norphoto.no and http://norphoto.smugmug.com |
CropAngle | -1.49002 |
CropBottom | 0.96238 |
CropConstrainToWarp | 0 |
CropHeight | 798 |
CropLeft | 0.010481 |
CropRight | 0.989519 |
CropTop | 0.03762 |
CropUnit | pixels |
CropWidth | 1200 |
CustomRendered | Normal |
DateTimeDigitized | 2010:09:29 10:21:05.16+02:00 |
DateTimeOriginal (1) | 2010:09:29 10:21:05.16+02:00 |
DateTimeOriginal | 2010:09:29 10:21:05 |
Defringe | 0 |
Description | Tyin i Jotunheimen |
DigitalZoomRatio | 1 |
DOF | inf (11.25 m - inf) |
ExifImageHeight | 798 |
ExifImageWidth | 1200 |
Exposure | +0.17 |
ExposureCompensation | 0 |
ExposureMode | Auto |
ExposureProgram | Aperture-priority AE |
ExposureTime | 1/180 |
FillLight | 0 |
Flash | No Flash |
FlashFired | False |
FlashFunction | False |
FlashMode | Unknown |
FlashRedEyeMode | False |
FlashReturn | No return detection |
FNumber | 8.0 |
FocalLength | 52.0 mm |
FocalLength35efl | 52.0 mm (35 mm equivalent: 52.0 mm) |
FocalLengthIn35mmFormat | 52 mm |
FOV | 38.2 deg |
GainControl | Low gain up |
GPSAltitude (2) | 1117 m |
GPSAltitude | 1117 m Above Sea Level |
GPSAltitudeRef | Above Sea Level |
GPSDateStamp | 2010:09:29 |
GPSDateTime | 2010:09:29 08:21:06Z |
GPSLatitude (2) | 61 deg 16' 53.06" |
GPSLatitude | 61 deg 16' 53.06" N |
GPSLatitudeRef | North |
GPSLongitude (2) | 8 deg 14' 5.49" |
GPSLongitude | 8 deg 14' 5.49" E |
GPSLongitudeRef | East |
GPSMapDatum | WGS 84 |
GPSPosition | 61 deg 16' 53.06" N, 8 deg 14' 5.49" E |
GPSSatellites | 06 |
GPSTimeStamp | 08:21:06 |
GPSVersionID | 2.2.0.0 |
GradientBasedCorrActive | true |
GradientBasedCorrAmount | 1.000000 |
GradientBasedCorrBrightness | 0.000000 |
GradientBasedCorrClarity | 0.000000 |
GradientBasedCorrContrast | 0.000000 |
GradientBasedCorrExposure (1) | 0.000000 |
GradientBasedCorrExposure | -0.213000 |
GradientBasedCorrHue | 0.000000 |
GradientBasedCorrMaskFullX (1) | 0.382167 |
GradientBasedCorrMaskFullX | 0.193421 |
GradientBasedCorrMaskFullY (1) | 0.033912 |
GradientBasedCorrMaskFullY | 0.057861 |
GradientBasedCorrMaskValue | 1.000000 |
GradientBasedCorrMaskWhat | Mask/Gradient |
GradientBasedCorrMaskZeroX (1) | 0.420102 |
GradientBasedCorrMaskZeroX | 0.323192 |
GradientBasedCorrMaskZeroY (1) | 0.668370 |
GradientBasedCorrMaskZeroY | 0.528431 |
GradientBasedCorrSaturation (3) | 0.000000 |
GradientBasedCorrSaturation | 0.010000 |
GradientBasedCorrSharpness | 0.000000 |
GradientBasedCorrWhat | Correction |
GrainAmount | 0 |
GreenHue | 0 |
GreenSaturation | 0 |
HasCrop | True |
HasSettings | True |
HighlightRecovery | 0 |
HueAdjustmentAqua | 0 |
HueAdjustmentBlue | 0 |
HueAdjustmentGreen | 0 |
HueAdjustmentMagenta | 0 |
HueAdjustmentOrange | 0 |
HueAdjustmentPurple | 0 |
HueAdjustmentRed | 0 |
HueAdjustmentYellow | 0 |
HyperfocalDistance | 11.25 m |
ImageDescription | Tyin i Jotunheimen |
ImageHeight | 798 |
ImageNumber | 9010 |
ImageSize | 1200x798 |
ImageWidth | 1200 |
ISO | 400 |
Keywords | autumn, autumn colours, cabin, fall, fjellbilder, fjellet, hoest, hostbilder, hytte, høst, høst i fjellet, høstbilder, høstfarger, jotunheimen, mountain photos, norge, norway, tyin, tyinvannet |
Lens | 24.0-70.0 mm f/2.8 |
LensID (1) | 147 |
LensID | AF-S Zoom-Nikkor 24-70mm f/2.8G ED |
LensInfo | 24-70mm f/2.8 |
LensManualDistortionAmount | 0 |
LensModel | 24.0-70.0 mm f/2.8 |
LensProfileChromaticAberrationScale | 100 |
LensProfileDistortionScale | 100 |
LensProfileEnable | 1 |
LensProfileFilename | NIKON D3X (Nikon FX 24-70mm f2.8 G ED) - RAW.lcp |
LensProfileName | Adobe (Nikon AF-S NIKKOR 24-70mm f/2.8G ED) |
LensProfileSetup | Auto |
LensProfileVignettingScale | 100 |
LightSource | Unknown |
LightValue | 11.5 |
LuminanceAdjustmentAqua | 0 |
LuminanceAdjustmentBlue | -45 |
LuminanceAdjustmentGreen | 0 |
LuminanceAdjustmentMagenta | 0 |
LuminanceAdjustmentOrange | 0 |
LuminanceAdjustmentPurple | 0 |
LuminanceAdjustmentRed | 0 |
LuminanceAdjustmentYellow | 0 |
LuminanceSmoothing | 0 |
Make | NIKON CORPORATION |
Marked | True |
MaxApertureValue | 2.8 |
Megapixels | 0.958 |
MeteringMode | Multi-segment |
Model | NIKON D700 |
ModifyDate (1) | 2010:10:05 21:41:05+02:00 |
ModifyDate | 2010:10:05 21:41:05 |
PaintCorrectionActive | true |
PaintCorrectionAmount | 1.000000 |
PaintCorrectionBrightness | 0.000000 |
PaintCorrectionClarity | 0.393000 |
PaintCorrectionContrast | 0.101000 |
PaintCorrectionExposure | -0.011000 |
PaintCorrectionHue | 0.000000 |
PaintCorrectionMaskCenterWeight | 0.000000 |
PaintCorrectionMaskFlow | 0.445000 |
PaintCorrectionMaskRadius (1) | 0.101252 |
PaintCorrectionMaskRadius (2) | 0.102800 |
PaintCorrectionMaskRadius | 0.099802 |
PaintCorrectionMaskValue | 1.000000 |
PaintCorrectionMaskWhat | Mask/Paint |
PaintCorrectionSaturation (1) | 0.483000 |
PaintCorrectionSaturation | 0.010000 |
PaintCorrectionSharpness | 0.483000 |
PaintCorrectionWhat | Correction |
ParametricDarks | 0 |
ParametricHighlights | 0 |
ParametricHighlightSplit | 75 |
ParametricLights | 0 |
ParametricMidtoneSplit | 50 |
ParametricShadows | +6 |
ParametricShadowSplit | 25 |
PerspectiveHorizontal | 0 |
PerspectiveRotate | 0.0 |
PerspectiveScale | 100 |
PerspectiveVertical | 0 |
PostCropVignetteAmount | 0 |
ProcessVersion | 5.7 |
ProfileDescription | sRGB IEC61966-2.1 |
Rating | 5 |
RedHue | 0 |
RedSaturation | 0 |
Rights | ROBIN STRAND / NORPHOTO AS |
Saturation (2) | +15 |
Saturation | Normal |
SaturationAdjustmentAqua | 0 |
SaturationAdjustmentBlue | +16 |
SaturationAdjustmentGreen | 0 |
SaturationAdjustmentMagenta | 0 |
SaturationAdjustmentOrange | 0 |
SaturationAdjustmentPurple | 0 |
SaturationAdjustmentRed | 0 |
SaturationAdjustmentYellow | 0 |
ScaleFactor35efl | 1.0 |
SceneCaptureType | Standard |
SceneType | Directly photographed |
SensingMethod | One-chip color area |
SensitivityType | Unknown |
SerialNumber | 2121873 |
Shadows | 10 |
ShadowTint | 0 |
SharpenDetail | 38 |
SharpenEdgeMasking | 35 |
SharpenRadius | +0.8 |
Sharpness (2) | 26 |
Sharpness | Normal |
ShutterSpeed | 1/180 |
ShutterSpeedValue | 1/180 |
Software | Ver.1.02 |
SplitToningBalance | 0 |
SplitToningHighlightHue | 0 |
SplitToningHighlightSaturation | 0 |
SplitToningShadowHue | 0 |
SplitToningShadowSaturation | 0 |
Subject | autumn, autumn colours, cabin, fall, fjellbilder, fjellet, hoest, hostbilder, hytte, høst, høst i fjellet, høstbilder, høstfarger, jotunheimen, mountain photos, norge, norway, tyin, tyinvannet |
SubjectDistance | 4294967295 m |
SubjectDistanceRange | Unknown |
Tint | 0 |
ToneCurve | 0, 0, 32, 16, 64, 50, 128, 128, 192, 202, 255, 255 |
ToneCurveName | Strong Contrast |
UsageTerms | Single time use unless otherwise stated |
Version | 6.2 |
Vibrance | +60 |
VignetteAmount | 0 |
WhiteBalance (2) | Custom |
WhiteBalance | Auto |