Felt | Verdi |
AlreadyApplied | True |
Aperture | 2.8 |
ApertureValue | 2.8 |
Artist | Georg Panzer |
BitsPerSample | 8 |
BlueHue | 0 |
BlueSaturation | 0 |
Brightness | +50 |
By-line | Georg Panzer |
CameraProfile | Adobe Standard |
CFAPattern | [Red,Green][Green,Blue] |
ChromaticAberrationB | 0 |
ChromaticAberrationR | 0 |
CircleOfConfusion | 0.030 mm |
Clarity | 0 |
ColorComponents | 1 |
ColorNoiseReduction | 25 |
ColorTemperature | 5691 |
Contrast (2) | +70 |
Contrast | Normal |
ConvertToGrayscale | True |
CreateDate (1) | 2011:01:14 20:43:36.14+01:00 |
CreateDate | 2011:01:14 20:43:36 |
Creator | Georg Panzer |
CreatorTool | Adobe Photoshop Lightroom |
CustomRendered | Normal |
DateTimeDigitized | 2011:01:14 20:43:36.14+01:00 |
DateTimeOriginal (1) | 2011:01:14 20:43:36.14+01:00 |
DateTimeOriginal | 2011:01:14 20:43:36 |
Defringe | 0 |
DigitalZoomRatio | 1 |
DOF | 0.001 m (0.059 - 0.061 m) |
ExifImageHeight | 4256 |
ExifImageWidth | 2832 |
Exposure | +0.67 |
ExposureCompensation | 0 |
ExposureMode | Manual |
ExposureProgram | Manual |
ExposureTime | 1/30 |
FillLight | 39 |
Flash | No Flash |
FlashFired | False |
FlashFunction | False |
FlashMode | Unknown |
FlashRedEyeMode | False |
FlashReturn | No return detection |
FNumber | 2.8 |
FocalLength | 20.0 mm |
FocalLength35efl | 20.0 mm (35 mm equivalent: 20.0 mm) |
FocalLengthIn35mmFormat | 20 mm |
FOV | 84.0 deg |
GainControl | High gain up |
GrayMixerAqua | -21 |
GrayMixerBlue | +1 |
GrayMixerGreen | -20 |
GrayMixerMagenta | +7 |
GrayMixerOrange | -8 |
GrayMixerPurple | +11 |
GrayMixerRed | 0 |
GrayMixerYellow | -12 |
GreenHue | 0 |
GreenSaturation | 0 |
HasCrop | False |
HasSettings | True |
HighlightRecovery | 0 |
HyperfocalDistance | 4.75 m |
ImageHeight | 4256 |
ImageNumber | 13213 |
ImageSize | 2832x4256 |
ImageWidth | 2832 |
ISO | 3200 |
Lens | 20.0 mm f/2.8 |
LensID (1) | 28 |
LensID | AF Nikkor 20mm f/2.8 |
LensInfo | 20mm f/2.8 |
LightSource | Unknown |
LightValue | 2.9 |
LuminanceSmoothing | 81 |
Make | NIKON CORPORATION |
MaxApertureValue | 2.8 |
Megapixels | 12.1 |
MeteringMode | Multi-segment |
Model | NIKON D700 |
ModifyDate (1) | 2011:01:17 20:16:57+01:00 |
ModifyDate | 2011:01:17 20:16:57 |
ParametricDarks | +2 |
ParametricHighlights | 0 |
ParametricHighlightSplit | 75 |
ParametricLights | +40 |
ParametricMidtoneSplit | 50 |
ParametricShadows | 0 |
ParametricShadowSplit | 25 |
PostCropVignetteAmount | 0 |
ProfileDescription | sRGB IEC61966-2.1 |
RedHue | 0 |
RedSaturation | 0 |
Saturation | Normal |
ScaleFactor35efl | 1.0 |
SceneCaptureType | Standard |
SceneType | Directly photographed |
SensingMethod | One-chip color area |
SerialNumber | 2116671 |
Shadows | 10 |
ShadowTint | 0 |
SharpenDetail | 60 |
SharpenEdgeMasking | 23 |
SharpenRadius | +1.2 |
Sharpness (2) | 70 |
Sharpness | Normal |
ShutterSpeed | 1/30 |
ShutterSpeedValue | 1/30 |
Software | Ver.1.02 |
SplitToningBalance | 0 |
SplitToningHighlightHue | 0 |
SplitToningHighlightSaturation | 0 |
SplitToningShadowHue | 0 |
SplitToningShadowSaturation | 0 |
SubjectDistance | 0.06 m |
SubjectDistanceRange | Unknown |
Tint | -15 |
ToneCurve | 0, 0, 32, 22, 64, 56, 128, 128, 192, 196, 255, 255 |
ToneCurveName | Medium Contrast |
Version | 5.7 |
VignetteAmount | 0 |
WhiteBalance (2) | Custom |
WhiteBalance | Auto |