Felt | Verdi |
AlreadyApplied | True |
Aperture | 16.0 |
ApertureValue | 16.0 |
ApproximateFocusDistance | 0.4 |
Artist | Photographer:Dirk Rosin |
BitsPerSample | 8 |
BlueHue | 0 |
BlueSaturation | 0 |
Brightness | 0 |
By-line | Photographer:Dirk Rosin |
CameraProfile | Embedded |
ChromaticAberrationB | 0 |
ChromaticAberrationR | 0 |
CircleOfConfusion | 0.019 mm |
Clarity | +1 |
ColorComponents | 3 |
ColorNoiseReduction | 59 |
ColorNoiseReductionDetail | 50 |
Contrast | +6 |
ConvertToGrayscale | False |
Copyright | (C) 2010 Dirk Rosin |
CopyrightFlag | True |
CopyrightNotice | © 2010 Dirk Rosin |
CreateDate (1) | 2011:02:07 22:39:04.94+01:00 |
CreateDate | 2011:02:07 22:39:04 |
Creator | Photographer:Dirk Rosin |
CreatorCountry | Norway |
CreatorTool | Adobe Photoshop Lightroom 3.3 |
CreatorWorkEmail | dirkrosin@msn.com |
CreatorWorkURL | http://dirkrosin.blogspot.com |
CustomRendered | Normal |
DateCreated (1) | 2011:02:07 |
DateCreated | 2011:02:07 22:39:04.094 |
DateTimeDigitized | 2011:02:07 22:39:04.94+01:00 |
DateTimeOriginal (1) | 2011:02:07 22:39:04.94+01:00 |
DateTimeOriginal | 2011:02:07 22:39:04 |
Defringe | 0 |
DOF | 0.007 m (0.396 - 0.404 m) |
ExifImageHeight | 533 |
ExifImageWidth | 800 |
Exposure | +0.10 |
ExposureCompensation | 0 |
ExposureMode | Manual |
ExposureProgram | Manual |
ExposureTime | 1/20 |
FillLight | 0 |
Firmware | 1.0.7 |
Flash | On, Fired |
FlashCompensation | 0 |
FlashFired | True |
FlashFunction | False |
FlashMode | On |
FlashRedEyeMode | False |
FlashReturn | No return detection |
FNumber | 16.0 |
FocalLength | 100.0 mm |
FocalLength35efl | 100.0 mm (35 mm equivalent: 158.5 mm) |
Format | image/tiff |
FOV | 13.0 deg |
GrainAmount | 0 |
GreenHue | 0 |
GreenSaturation | 0 |
HasCrop | False |
HasSettings | True |
HighlightRecovery | 0 |
HueAdjustmentAqua | 0 |
HueAdjustmentBlue | 0 |
HueAdjustmentGreen | 0 |
HueAdjustmentMagenta | 0 |
HueAdjustmentOrange | 0 |
HueAdjustmentPurple | 0 |
HueAdjustmentRed | 0 |
HueAdjustmentYellow | 0 |
HyperfocalDistance | 32.96 m |
ImageHeight | 533 |
ImageNumber | 0 |
ImageSize | 800x533 |
ImageWidth | 800 |
IncrementalTemperature | 0 |
IncrementalTint | 0 |
ISO | 100 |
Lens | 100mm |
LensID (1) | 161 |
LensID | Unknown (161) 100mm |
LensInfo | 100mm f/? |
LensManualDistortionAmount | 0 |
LensModel | 100mm |
LensProfileEnable | 0 |
LensProfileSetup | LensDefaults |
LightValue | 12.3 |
LuminanceAdjustmentAqua | 0 |
LuminanceAdjustmentBlue | 0 |
LuminanceAdjustmentGreen | 0 |
LuminanceAdjustmentMagenta | 0 |
LuminanceAdjustmentOrange | 0 |
LuminanceAdjustmentPurple | 0 |
LuminanceAdjustmentRed | 0 |
LuminanceAdjustmentYellow | 0 |
LuminanceNoiseReductionContrast | 48 |
LuminanceNoiseReductionDetail | 50 |
LuminanceSmoothing | 54 |
Make | Canon |
Marked | True |
MaxApertureValue | 2.8 |
Megapixels | 0.426 |
MeteringMode | Center-weighted average |
Model | Canon EOS 50D |
ModifyDate (1) | 2011:02:08 00:20:49+01:00 |
ModifyDate | 2011:02:08 00:20:49 |
OwnerName | Dirk Rosin |
ParametricDarks | +6 |
ParametricHighlights | +10 |
ParametricHighlightSplit | 75 |
ParametricLights | +6 |
ParametricMidtoneSplit | 50 |
ParametricShadows | +16 |
ParametricShadowSplit | 25 |
PerspectiveHorizontal | 0 |
PerspectiveRotate | 0.0 |
PerspectiveScale | 100 |
PerspectiveVertical | 0 |
PLUSVersion | 1.2.0 |
PostCropVignetteAmount | 0 |
ProcessVersion | 5.7 |
ProfileDescription | sRGB IEC61966-2.1 |
RedHue | 0 |
RedSaturation | 0 |
Rights | © 2010 Dirk Rosin |
Saturation | 0 |
SaturationAdjustmentAqua | 0 |
SaturationAdjustmentBlue | -14 |
SaturationAdjustmentGreen | -3 |
SaturationAdjustmentMagenta | -16 |
SaturationAdjustmentOrange | -42 |
SaturationAdjustmentPurple | -40 |
SaturationAdjustmentRed | -23 |
SaturationAdjustmentYellow | -16 |
ScaleFactor35efl | 1.6 |
SceneCaptureType | Standard |
SensitivityType | Unknown |
SerialNumber | 730401017 |
Shadows | 23 |
ShadowTint | 0 |
SharpenDetail | 25 |
SharpenEdgeMasking | 0 |
SharpenRadius | +1.0 |
Sharpness | 0 |
ShutterSpeed | 1/20 |
ShutterSpeedValue | 1/20 |
Software | Adobe Photoshop CS5 Windows |
SplitToningBalance | -100 |
SplitToningHighlightHue | 0 |
SplitToningHighlightSaturation | 0 |
SplitToningShadowHue | 0 |
SplitToningShadowSaturation | 0 |
SubjectDistance | 0.4 m |
ToneCurve | 0, 0, 255, 255 |
ToneCurveName | Linear |
Version | 6.3 |
Vibrance | 0 |
VignetteAmount | 0 |
WhiteBalance (2) | As Shot |
WhiteBalance | Auto |