Felt | Verdi |
AlreadyApplied | True |
Aperture | 5.6 |
ApertureValue | 5.6 |
Artist | Morten Lindberg |
BitsPerSample | 8 |
BlueHue | +31 |
BlueSaturation | +24 |
Brightness | +25 |
By-line | Morten Lindberg |
CameraProfile | Adobe Standard |
ChromaticAberrationB | 0 |
ChromaticAberrationR | 0 |
CircleOfConfusion | 0.031 mm |
Clarity | +20 |
ColorComponents | 3 |
ColorNoiseReduction | 15 |
ColorNoiseReductionDetail | 50 |
ColorTemperature | 5691 |
Contrast | +45 |
ConvertToGrayscale | False |
Copyright | Morten Lindberg |
CopyrightFlag | True |
CopyrightNotice | Morten Lindberg |
CreateDate (1) | 2011:04:03 00:10:04.76+02:00 |
CreateDate | 2011:04:03 00:10:04 |
Creator | Morten Lindberg |
CreatorAddress | Box 56 Bogerud |
CreatorCity | Oslo |
CreatorCountry | Norway |
CreatorPostalCode | 0621 |
CreatorTool | Adobe Photoshop Lightroom 3.3 |
CreatorWorkEmail | morten@lindberg.no |
CreatorWorkTelephone | +47 91538 155 |
CreatorWorkURL | photo.lindberg.no |
CropAngle | -9.643 |
CropBottom | 0.82243 |
CropConstrainToWarp | 0 |
CropHeight | 695 |
CropLeft | 0.129569 |
CropRight | 0.895973 |
CropTop | 0.209856 |
CropUnit | pixels |
CropWidth | 900 |
CustomRendered | Normal |
DateTimeDigitized | 2011:04:03 00:10:04.76+02:00 |
DateTimeOriginal (1) | 2011:04:03 00:10:04.76+02:00 |
DateTimeOriginal | 2011:04:03 00:10:04 |
Defringe | 2 |
DigitalSourceType | http://cv.iptc.org/newscodes/digitalsourcetype/digitalCapture |
ExifImageHeight | 900 |
ExifImageWidth | 695 |
Exposure | +0.10 |
ExposureCompensation | 0 |
ExposureMode | Manual |
ExposureProgram | Manual |
ExposureTime | 1/125 |
FillLight | 57 |
Firmware | 2.0.8 |
Flash | On, Fired |
FlashCompensation | 0 |
FlashFired | True |
FlashFunction | False |
FlashMode | On |
FlashRedEyeMode | False |
FlashReturn | No return detection |
FNumber | 5.6 |
FocalLength | 50.0 mm |
FocalLength35efl | 50.0 mm (35 mm equivalent: 48.8 mm) |
FOV | 40.5 deg |
GrainAmount | 0 |
GreenHue | +100 |
GreenSaturation | +50 |
HasCrop | True |
HasSettings | True |
HighlightRecovery | 100 |
HueAdjustmentAqua | -12 |
HueAdjustmentBlue | -33 |
HueAdjustmentGreen | -100 |
HueAdjustmentMagenta | 0 |
HueAdjustmentOrange | -5 |
HueAdjustmentPurple | -52 |
HueAdjustmentRed | 0 |
HueAdjustmentYellow | +10 |
HyperfocalDistance | 14.50 m |
ImageHeight | 900 |
ImageNumber | 0 |
ImageSize | 695x900 |
ImageWidth | 695 |
ISO | 640 |
Keywords | Morten Lindberg |
Lens | EF50mm f/1.4 USM |
LensID (1) | 198 |
LensID | Canon EF 50mm f/1.4 USM |
LensInfo | 50mm f/? |
LensManualDistortionAmount | 0 |
LensModel | EF50mm f/1.4 USM |
LensProfileChromaticAberrationScale | 100 |
LensProfileDistortionScale | 100 |
LensProfileEnable | 1 |
LensProfileFilename | Canon EOS-1Ds Mark III (Canon EF 50mm f1.4 USM) - RAW.lcp |
LensProfileName | Adobe (Canon EF 50mm f/1.4 USM) |
LensProfileSetup | LensDefaults |
LensProfileVignettingScale | 100 |
LightValue | 9.3 |
LuminanceAdjustmentAqua | +100 |
LuminanceAdjustmentBlue | -100 |
LuminanceAdjustmentGreen | +100 |
LuminanceAdjustmentMagenta | 0 |
LuminanceAdjustmentOrange | +19 |
LuminanceAdjustmentPurple | +48 |
LuminanceAdjustmentRed | 0 |
LuminanceAdjustmentYellow | +100 |
LuminanceSmoothing | 0 |
Make | Canon |
Marked | True |
MaxApertureValue | 1.4 |
Megapixels | 0.625 |
MeteringMode | Multi-segment |
Model | Canon EOS 5D Mark II |
ModifyDate (1) | 2011:04:03 23:25:35+02:00 |
ModifyDate | 2011:04:03 23:25:35 |
OwnerName | Morten Lindberg |
PaintCorrectionActive | true |
PaintCorrectionAmount | 1.000000 |
PaintCorrectionBrightness (2) | -0.122000 |
PaintCorrectionBrightness | 0.000000 |
PaintCorrectionClarity (1) | 0.317000 |
PaintCorrectionClarity (2) | -0.293000 |
PaintCorrectionClarity | 0.000000 |
PaintCorrectionContrast (2) | -0.195000 |
PaintCorrectionContrast | 0.000000 |
PaintCorrectionExposure (1) | 0.098000 |
PaintCorrectionExposure (2) | 0.000000 |
PaintCorrectionExposure (3) | -0.049000 |
PaintCorrectionExposure (4) | -0.171000 |
PaintCorrectionExposure | -0.122000 |
PaintCorrectionHue | 240.000000 |
PaintCorrectionMaskCenterWeight | 0.000000 |
PaintCorrectionMaskFlow | 1.000000 |
PaintCorrectionMaskRadius (1) | 0.025369 |
PaintCorrectionMaskRadius (10) | 0.016071 |
PaintCorrectionMaskRadius (11) | 0.015792 |
PaintCorrectionMaskRadius (12) | 0.015785 |
PaintCorrectionMaskRadius (2) | 0.025358 |
PaintCorrectionMaskRadius (3) | 0.047686 |
PaintCorrectionMaskRadius (4) | 0.047668 |
PaintCorrectionMaskRadius (5) | 0.047144 |
PaintCorrectionMaskRadius (6) | 0.047627 |
PaintCorrectionMaskRadius (7) | 0.047354 |
PaintCorrectionMaskRadius (8) | 0.047584 |
PaintCorrectionMaskRadius (9) | 0.016109 |
PaintCorrectionMaskRadius | 0.015934 |
PaintCorrectionMaskValue | 1.000000 |
PaintCorrectionMaskWhat | Mask/Paint |
PaintCorrectionSaturation (3) | -0.268000 |
PaintCorrectionSaturation | 0.000000 |
PaintCorrectionSharpness (1) | 0.341000 |
PaintCorrectionSharpness (2) | -0.195000 |
PaintCorrectionSharpness | 0.000000 |
PaintCorrectionWhat | Correction |
ParametricDarks | +62 |
ParametricHighlights | -2 |
ParametricHighlightSplit | 75 |
ParametricLights | +100 |
ParametricMidtoneSplit | 50 |
ParametricShadows | -31 |
ParametricShadowSplit | 25 |
PerspectiveHorizontal | 0 |
PerspectiveRotate | 0.0 |
PerspectiveScale | 100 |
PerspectiveVertical | 0 |
PostCropVignetteAmount | -20 |
PostCropVignetteFeather | 75 |
PostCropVignetteHighlightContrast | 0 |
PostCropVignetteMidpoint | 74 |
PostCropVignetteRoundness | -20 |
PostCropVignetteStyle | 1 |
ProcessVersion | 5.7 |
ProfileDescription | sRGB IEC61966-2.1 |
RedHue | -100 |
RedSaturation | +100 |
Rights | Morten Lindberg |
Saturation | -79 |
SaturationAdjustmentAqua | +14 |
SaturationAdjustmentBlue | +100 |
SaturationAdjustmentGreen | +29 |
SaturationAdjustmentMagenta | -100 |
SaturationAdjustmentOrange | +93 |
SaturationAdjustmentPurple | -93 |
SaturationAdjustmentRed | 0 |
SaturationAdjustmentYellow | +69 |
ScaleFactor35efl | 1.0 |
SceneCaptureType | Standard |
SensitivityType | Unknown |
SerialNumber | 1721002101 |
Shadows | 5 |
ShadowTint | -100 |
SharpenDetail | 25 |
SharpenEdgeMasking | 0 |
SharpenRadius | +1.0 |
Sharpness | 25 |
ShutterSpeed | 1/125 |
ShutterSpeedValue | 1/125 |
SplitToningBalance | 0 |
SplitToningHighlightHue | 39 |
SplitToningHighlightSaturation | 45 |
SplitToningShadowHue | 86 |
SplitToningShadowSaturation | 23 |
Subject | Morten Lindberg |
Tint | +118 |
ToneCurve | 0, 0, 255, 255 |
ToneCurveName | Linear |
URL | photo.lindberg.no |
Version | 6.3 |
Vibrance | +43 |
VignetteAmount | -75 |
VignetteMidpoint | 0 |
WebStatement | photo.lindberg.no |
WhiteBalance (2) | Custom |
WhiteBalance | Manual |