Felt | Verdi |
AlreadyApplied | True |
Aperture | 8.0 |
ApertureValue | 8.0 |
BitsPerSample | 8 |
BlueHue | 0 |
BlueSaturation | 0 |
Brightness | 0 |
CameraProfile | Embedded |
ChromaticAberrationB | 0 |
ChromaticAberrationR | 0 |
CircleOfConfusion | 0.030 mm |
Clarity | +100 |
ColorComponents | 3 |
ColorNoiseReduction | 0 |
ColorSpace | sRGB |
Contrast | +27 |
ConvertToGrayscale | False |
Copyright | Stale Nilsen |
CopyrightFlag | True |
CopyrightNotice | StŒle Nilsen |
CreateDate (1) | 2011:05:09 11:52:12+02:00 |
CreateDate | 2011:05:09 11:52:12 |
CreatorTool | Adobe Photoshop Lightroom |
CropAngle | 0.613901 |
CropBottom | 0.965774 |
CropHeight | 800 |
CropLeft | 0.083855 |
CropRight | 0.983584 |
CropTop | 0.199307 |
CropUnit | pixels |
CropWidth | 640 |
CustomRendered | Normal |
DateTimeDigitized | 2011:05:09 11:52:12+02:00 |
DateTimeOriginal (1) | 2011:05:09 11:52:12+02:00 |
DateTimeOriginal | 2011:05:09 11:52:12 |
Defringe | 0 |
ExifImageHeight | 800 |
ExifImageWidth | 640 |
Exposure | +0.17 |
ExposureCompensation | 0 |
ExposureMode | Manual |
ExposureProgram | Manual |
ExposureTime | 1/160 |
FillLight | 10 |
Firmware | 1.1.6 |
Flash | Off, Did not fire |
FlashCompensation | 0 |
FlashFired | False |
FlashFunction | False |
FlashMode | Off |
FlashRedEyeMode | False |
FlashReturn | No return detection |
FNumber | 8.0 |
FocalLength | 14.0 mm |
FocalLength35efl | 14.0 mm (35 mm equivalent: 14.0 mm) |
Format | application/vnd.adobe.photoshop |
FOV | 104.3 deg |
GreenHue | -19 |
GreenSaturation | 0 |
HasCrop | True |
HasSettings | True |
HighlightRecovery | 44 |
HueAdjustmentAqua | 0 |
HueAdjustmentBlue | -2 |
HueAdjustmentGreen | 0 |
HueAdjustmentMagenta | 0 |
HueAdjustmentOrange | +56 |
HueAdjustmentPurple | 0 |
HueAdjustmentRed | +52 |
HueAdjustmentYellow | 0 |
HyperfocalDistance | 0.81 m |
ImageHeight | 800 |
ImageNumber | 18271 |
ImageSize | 640x800 |
ImageWidth | 640 |
IncrementalTemperature | -21 |
IncrementalTint | -8 |
ISO | 100 |
Keywords | Canon EOS 1ds Mark II |
Label | Yellow |
Lens | 14.0 mm |
LensInfo | 14mm f/? |
LightValue | 13.3 |
LuminanceAdjustmentAqua | 0 |
LuminanceAdjustmentBlue | 0 |
LuminanceAdjustmentGreen | 0 |
LuminanceAdjustmentMagenta | 0 |
LuminanceAdjustmentOrange | 0 |
LuminanceAdjustmentPurple | 0 |
LuminanceAdjustmentRed | 0 |
LuminanceAdjustmentYellow | 0 |
LuminanceSmoothing | 0 |
Make | Canon |
Marked | True |
MaxApertureValue | 2.8 |
Megapixels | 0.512 |
MeteringMode | Multi-segment |
Model | Canon EOS-1Ds Mark II |
ModifyDate (1) | 2011:06:08 22:45:14+02:00 |
ModifyDate | 2011:06:08 22:45:14 |
ParametricDarks | 0 |
ParametricHighlights | 0 |
ParametricHighlightSplit | 75 |
ParametricLights | 0 |
ParametricMidtoneSplit | 50 |
ParametricShadows | 0 |
ParametricShadowSplit | 25 |
PostCropVignetteAmount | +13 |
PostCropVignetteFeather | 67 |
PostCropVignetteMidpoint | 50 |
PostCropVignetteRoundness | 0 |
ProfileDescription | sRGB IEC61966-2.1 |
RedHue | +2 |
RedSaturation | -17 |
Rights | Ståle Nilsen |
Saturation | -46 |
SaturationAdjustmentAqua | 0 |
SaturationAdjustmentBlue | +48 |
SaturationAdjustmentGreen | 0 |
SaturationAdjustmentMagenta | 0 |
SaturationAdjustmentOrange | +33 |
SaturationAdjustmentPurple | 0 |
SaturationAdjustmentRed | +42 |
SaturationAdjustmentYellow | +35 |
ScaleFactor35efl | 1.0 |
SceneCaptureType | Standard |
SerialNumber | 316015 |
Shadows | 0 |
ShadowTint | -35 |
SharpenDetail | 25 |
SharpenEdgeMasking | 0 |
SharpenRadius | +1.0 |
Sharpness | 0 |
ShutterSpeed | 1/160 |
ShutterSpeedValue | 1/160 |
Software | Adobe Photoshop CS3 Macintosh |
SplitToningBalance | +79 |
SplitToningHighlightHue | 60 |
SplitToningHighlightSaturation | 21 |
SplitToningShadowHue | 255 |
SplitToningShadowSaturation | 34 |
Subject | Canon EOS 1ds Mark II |
ToneCurve | 0, 0, 255, 255 |
ToneCurveName | Linear |
Version | 5.6 |
Vibrance | +40 |
VignetteAmount | 0 |
WhiteBalance (2) | Custom |
WhiteBalance | Auto |