Felt | Verdi |
AlreadyApplied | True |
Aperture | 16.0 |
ApertureValue | 16.0 |
Artist | Dag Frode Holm |
BitsPerSample | 8 |
BlueHue | 0 |
BlueSaturation | 0 |
Brightness | +50 |
By-line | Dag Frode Holm |
CameraProfile | Adobe Standard |
ChromaticAberrationB | 0 |
ChromaticAberrationR | 0 |
CircleOfConfusion | 0.019 mm |
Clarity | 0 |
ColorComponents | 3 |
ColorMode | RGB |
ColorNoiseReduction | 25 |
ColorNoiseReductionDetail | 50 |
ColorSpace | Uncalibrated |
ColorTemperature | 7200 |
Contrast | +25 |
ConvertToGrayscale | False |
Copyright | Tlf 41418669 Vestre Totenveg 1230 2846 BOVRBRU. |
CopyrightNotice | Tlf 41418669 Vestre Totenveg 1230 2846 BOVRBRU. |
CreateDate (1) | 2011:07:02 20:26:27.00+02:00 |
CreateDate | 2011:07:02 20:26:27 |
Creator | Dag Frode Holm |
CustomRendered | Normal |
DateCreated (1) | 2011:07:02 |
DateCreated | 2011:07:02 20:26:27 |
DateTimeOriginal | 2011:07:02 20:26:27 |
Defringe | 0 |
ExifImageHeight | 2323 |
ExifImageWidth | 3484 |
Exposure | +0.25 |
ExposureCompensation | -1 |
ExposureMode | Auto |
ExposureProgram | Aperture-priority AE |
ExposureTime | 1/250 |
FillLight | 0 |
Firmware | 1.2.5 |
Flash | On, Fired |
FlashCompensation | 0 |
FNumber | 16.0 |
FocalLength | 105.0 mm |
FocalLength35efl | 105.0 mm (35 mm equivalent: 164.9 mm) |
Format | image/jpeg |
FOV | 12.5 deg |
GrainAmount | 0 |
GreenHue | 0 |
GreenSaturation | 0 |
HasCrop | False |
HasSettings | True |
HighlightRecovery | 78 |
HueAdjustmentAqua | 0 |
HueAdjustmentBlue | 0 |
HueAdjustmentGreen | 0 |
HueAdjustmentMagenta | 0 |
HueAdjustmentOrange | 0 |
HueAdjustmentPurple | 0 |
HueAdjustmentRed | 0 |
HueAdjustmentYellow | 0 |
HyperfocalDistance | 36.01 m |
ICCProfileName | Adobe RGB (1998) |
ImageHeight | 2323 |
ImageNumber | 0 |
ImageSize | 3484x2323 |
ImageWidth | 3484 |
ISO | 100 |
Lens | 105mm |
LensID (1) | 169 |
LensID | Unknown (169) 105mm |
LensInfo | 105mm f/? |
LightValue | 16.0 |
LuminanceAdjustmentAqua | 0 |
LuminanceAdjustmentBlue | 0 |
LuminanceAdjustmentGreen | 0 |
LuminanceAdjustmentMagenta | 0 |
LuminanceAdjustmentOrange | 0 |
LuminanceAdjustmentPurple | 0 |
LuminanceAdjustmentRed | 0 |
LuminanceAdjustmentYellow | 0 |
LuminanceNoiseReductionContrast | 0 |
LuminanceNoiseReductionDetail | 50 |
LuminanceSmoothing | 40 |
Make | Canon |
MaxApertureValue | 2.8 |
Megapixels | 8.1 |
MeteringMode | Multi-segment |
Model | Canon EOS 7D |
ModifyDate (1) | 2011:07:03 11:24:16+02:00 |
ModifyDate | 2011:07:03 11:24:16 |
Orientation | Horizontal (normal) |
ParametricDarks | -11 |
ParametricHighlights | +10 |
ParametricHighlightSplit | 75 |
ParametricLights | +3 |
ParametricMidtoneSplit | 50 |
ParametricShadows | -3 |
ParametricShadowSplit | 25 |
PostCropVignetteAmount | 0 |
ProcessVersion | 5.7 |
ProfileDescription | Adobe RGB (1998) |
Rating | 0 |
RawFileName | _MG_2031.CR2 |
RedHue | 0 |
RedSaturation | 0 |
Rights | Tlf 41418669 Vestre Totenveg 1230 2846 BOVRBRU. |
Saturation | 0 |
SaturationAdjustmentAqua | 0 |
SaturationAdjustmentBlue | 0 |
SaturationAdjustmentGreen | 0 |
SaturationAdjustmentMagenta | 0 |
SaturationAdjustmentOrange | 0 |
SaturationAdjustmentPurple | 0 |
SaturationAdjustmentRed | 0 |
SaturationAdjustmentYellow | 0 |
ScaleFactor35efl | 1.6 |
SceneCaptureType | Standard |
SerialNumber | 1680802343 |
Shadows | 38 |
ShadowTint | 0 |
SharpenDetail | 25 |
SharpenEdgeMasking | 48 |
SharpenRadius | +1.8 |
Sharpness | 25 |
ShutterSpeed | 1/250 |
ShutterSpeedValue | 1/250 |
Software | Adobe Photoshop CS5 Windows |
SplitToningBalance | 0 |
SplitToningHighlightHue | 0 |
SplitToningHighlightSaturation | 0 |
SplitToningShadowHue | 0 |
SplitToningShadowSaturation | 0 |
Tint | +12 |
ToneCurve | 0, 0, 32, 22, 64, 56, 128, 128, 192, 196, 255, 255 |
ToneCurveName | Medium Contrast |
URL_List | |
Version | 6.0 |
Vibrance | 0 |
VignetteAmount | 0 |
WhiteBalance (1) | As Shot |
WhiteBalance | Manual |