Felt | Verdi |
AlreadyApplied | True |
Aperture | 8.0 |
ApertureValue | 8.0 |
ApproximateFocusDistance | 4294967295 |
BitsPerSample | 8 |
BlueHue | 0 |
BlueSaturation | 0 |
Brightness | -5 |
CameraProfile | Adobe Standard |
CFAPattern | [Green,Blue][Red,Green] |
ChromaticAberrationB | 0 |
ChromaticAberrationR | 0 |
CircleOfConfusion | 0.020 mm |
Clarity | +31 |
ColorComponents | 3 |
ColorNoiseReduction | 25 |
ColorNoiseReductionDetail | 50 |
ColorTemperature | 5218 |
Contrast (1) | +25 |
Contrast | Normal |
ConvertToGrayscale | False |
Copyright | Geir Stian Altmann Larsen |
CopyrightFlag | True |
CopyrightNotice | Geir Stian Altmann Larsen |
CreateDate (1) | 2011:07:22 21:25:02.00 |
CreateDate | 2011:07:22 21:25:02 |
CreatorTool | Adobe Photoshop Lightroom 3.4.1 |
CropAngle | 8.19692 |
CropBottom | 1 |
CropConstrainToWarp | 0 |
CropHeight | 332 |
CropLeft | 0.128424 |
CropRight | 0.871576 |
CropTop | 0 |
CropUnit | pixels |
CropWidth | 500 |
CustomRendered | Normal |
DateCreated (1) | 2011:07:22 |
DateCreated | 2011:07:22 21:25:02.00 |
DateTimeOriginal | 2011:07:22 21:25:02 |
Defringe | 0 |
DigitalZoomRatio | 1 |
DOF | inf (4.22 m - inf) |
Exposure | -1.06 |
ExposureCompensation | -1/3 |
ExposureMode | Manual |
ExposureProgram | Manual |
ExposureTime | 1/250 |
FillLight | 0 |
Flash | No Flash |
FNumber | 8.0 |
FocalLength | 26.0 mm |
FocalLength35efl | 26.0 mm (35 mm equivalent: 39.0 mm) |
FocalLengthIn35mmFormat | 39 mm |
FOV | 49.6 deg |
GainControl | None |
GrainAmount | 0 |
GreenHue | 0 |
GreenSaturation | 0 |
HasCrop | True |
HasSettings | True |
HighlightRecovery | 38 |
HueAdjustmentAqua | 0 |
HueAdjustmentBlue | 0 |
HueAdjustmentGreen | 0 |
HueAdjustmentMagenta | 0 |
HueAdjustmentOrange | 0 |
HueAdjustmentPurple | 0 |
HueAdjustmentRed | 0 |
HueAdjustmentYellow | 0 |
HyperfocalDistance | 4.22 m |
ImageHeight | 500 |
ImageNumber | 6439 |
ImageSize | 332x500 |
ImageWidth | 332 |
ISO | 320 |
Label | Yellow |
Lens | 18.0-105.0 mm f/3.5-5.6 |
LensID (1) | 158 |
LensID | AF-S DX VR Zoom-Nikkor 18-105mm f/3.5-5.6G ED |
LensInfo | 18-105mm f/3.5-5.6 |
LensManualDistortionAmount | 0 |
LensModel | 18.0-105.0 mm f/3.5-5.6 |
LensProfileEnable | 0 |
LensProfileSetup | LensDefaults |
LightSource | Unknown |
LightValue | 12.3 |
LuminanceAdjustmentAqua | 0 |
LuminanceAdjustmentBlue | 0 |
LuminanceAdjustmentGreen | 0 |
LuminanceAdjustmentMagenta | 0 |
LuminanceAdjustmentOrange | 0 |
LuminanceAdjustmentPurple | 0 |
LuminanceAdjustmentRed | 0 |
LuminanceAdjustmentYellow | 0 |
LuminanceSmoothing | 0 |
Make | NIKON CORPORATION |
Marked | True |
MaxApertureValue | 4.0 |
Megapixels | 0.166 |
MeteringMode | Center-weighted average |
Model | NIKON D90 |
ModifyDate (1) | 2011:08:09 04:51:39+02:00 |
ModifyDate | 2011:08:09 04:51:39 |
ParametricDarks | -14 |
ParametricHighlights | +43 |
ParametricHighlightSplit | 75 |
ParametricLights | +49 |
ParametricMidtoneSplit | 50 |
ParametricShadows | -12 |
ParametricShadowSplit | 25 |
PerspectiveHorizontal | 0 |
PerspectiveRotate | 0.0 |
PerspectiveScale | 100 |
PerspectiveVertical | 0 |
PostCropVignetteAmount | -26 |
PostCropVignetteFeather | 47 |
PostCropVignetteHighlightContrast | 0 |
PostCropVignetteMidpoint | 44 |
PostCropVignetteRoundness | 0 |
PostCropVignetteStyle | 1 |
ProcessVersion | 5.7 |
ProfileDescription | Adobe RGB (1998) |
Rating | 3 |
RedHue | 0 |
RedSaturation | 0 |
Rights | Geir Stian Altmann Larsen |
Saturation (1) | -40 |
Saturation | Normal |
SaturationAdjustmentAqua | 0 |
SaturationAdjustmentBlue | 0 |
SaturationAdjustmentGreen | 0 |
SaturationAdjustmentMagenta | 0 |
SaturationAdjustmentOrange | 0 |
SaturationAdjustmentPurple | 0 |
SaturationAdjustmentRed | 0 |
SaturationAdjustmentYellow | 0 |
ScaleFactor35efl | 1.5 |
SceneCaptureType | Standard |
SceneType | Directly photographed |
SensingMethod | One-chip color area |
SerialNumber | 6653606 |
Shadows | 57 |
ShadowTint | 0 |
SharpenDetail | 25 |
SharpenEdgeMasking | 0 |
SharpenRadius | +1.0 |
Sharpness (1) | 25 |
Sharpness | Normal |
ShutterSpeed | 1/250 |
ShutterSpeedValue | 1/250 |
Software | Adobe Photoshop Lightroom 3.4.1 |
SplitToningBalance | 0 |
SplitToningHighlightHue | 0 |
SplitToningHighlightSaturation | 0 |
SplitToningShadowHue | 0 |
SplitToningShadowSaturation | 0 |
SubjectDistance | 4294967295 m |
SubjectDistanceRange | Unknown |
Tint | -33 |
ToneCurve | 0, 0, 32, 22, 64, 56, 128, 128, 192, 196, 255, 255 |
ToneCurveName | Medium Contrast |
URL | gsal1978@gmail.com |
Version | 6.4.1 |
Vibrance | -31 |
VignetteAmount | 0 |
WebStatement | gsal1978@gmail.com |
WhiteBalance (1) | Custom |
WhiteBalance | Auto |