Felt | Verdi |
AlreadyApplied | True |
Aperture | 14.0 |
ApertureValue | 14.0 |
ApproximateFocusDistance | 2.57 |
BitsPerSample | 8 |
BlueHue | 0 |
BlueSaturation | 0 |
Brightness | +4 |
CameraProfile | Embedded |
ChromaticAberrationB | 0 |
ChromaticAberrationR | 0 |
CircleOfConfusion | 0.019 mm |
Clarity | 0 |
ColorComponents | 3 |
ColorNoiseReduction | 0 |
Contrast | 0 |
ConvertToGrayscale | False |
CreateDate (1) | 2011:11:05 14:40:23.00+01:00 |
CreateDate | 2011:11:05 14:40:23 |
CreatorTool | Adobe Photoshop Lightroom 3.5 (Macintosh) |
CustomRendered | Normal |
DateCreated (1) | 2011:11:05 |
DateCreated | 2011:11:05 14:40:23.00+01:00 |
DateTimeOriginal | 2011:11:05 14:40:23 |
Defringe | 0 |
DigitalSourceType | nil |
DOF | inf (0.84 m - inf) |
Exposure | 0.00 |
ExposureCompensation | -2 |
ExposureMode | Auto |
ExposureProgram | Shutter speed priority AE |
ExposureTime | 0.5 |
FillLight | 11 |
Firmware | 1.0.8 |
Flash | Off, Did not fire |
FlashCompensation | 0 |
FNumber | 14.0 |
FocalLength | 18.0 mm |
FocalLength35efl | 18.0 mm (35 mm equivalent: 29.1 mm) |
FOV | 63.4 deg |
GrainAmount | 0 |
GreenHue | 0 |
GreenSaturation | 0 |
HasCrop | False |
HasSettings | True |
HighlightRecovery | 0 |
HueAdjustmentAqua | 0 |
HueAdjustmentBlue | 0 |
HueAdjustmentGreen | 0 |
HueAdjustmentMagenta | 0 |
HueAdjustmentOrange | 0 |
HueAdjustmentPurple | 0 |
HueAdjustmentRed | 0 |
HueAdjustmentYellow | 0 |
HyperfocalDistance | 1.25 m |
ImageHeight | 2592 |
ImageNumber | 0 |
ImageSize | 3888x2592 |
ImageWidth | 3888 |
IncrementalTemperature | 0 |
IncrementalTint | 0 |
ISO | 160 |
Lens | 18-50mm |
LensID (1) | 169 |
LensID | Sigma 18-50mm f/2.8 Macro |
LensInfo | 18-50mm f/? |
LensManualDistortionAmount | 0 |
LensModel | 18-50mm |
LensProfileEnable | 0 |
LensProfileSetup | LensDefaults |
LightValue | 7.9 |
LuminanceAdjustmentAqua | 0 |
LuminanceAdjustmentBlue | 0 |
LuminanceAdjustmentGreen | 0 |
LuminanceAdjustmentMagenta | 0 |
LuminanceAdjustmentOrange | 0 |
LuminanceAdjustmentPurple | 0 |
LuminanceAdjustmentRed | 0 |
LuminanceAdjustmentYellow | 0 |
LuminanceSmoothing | 0 |
Make | Canon |
MaxApertureValue | 2.8 |
Megapixels | 10.1 |
MeteringMode | Multi-segment |
MinorModelAgeDisclosure | Unknown (nil) |
Model | Canon EOS 40D |
ModelReleaseStatus | Unknown (nil) |
ModifyDate (1) | 2011:11:14 11:35:56+01:00 |
ModifyDate | 2011:11:14 11:35:56 |
PaintCorrectionActive | true |
PaintCorrectionAmount | 1.000000 |
PaintCorrectionBrightness (1) | 1.000000 |
PaintCorrectionBrightness | -0.717647 |
PaintCorrectionClarity | 0.000000 |
PaintCorrectionContrast (1) | 0.098162 |
PaintCorrectionContrast | 0.000000 |
PaintCorrectionExposure (1) | 0.097518 |
PaintCorrectionExposure | 0.000000 |
PaintCorrectionHue | 2.000000 |
PaintCorrectionMaskCenterWeight | 0.254326 |
PaintCorrectionMaskFlow | 0.505978 |
PaintCorrectionMaskRadius | 0.029261 |
PaintCorrectionMaskValue | 0.733477 |
PaintCorrectionMaskWhat | Mask/Paint |
PaintCorrectionSaturation (1) | -0.568750 |
PaintCorrectionSaturation | 0.000000 |
PaintCorrectionSharpness (1) | 0.179504 |
PaintCorrectionSharpness | 0.000000 |
PaintCorrectionWhat | Correction |
ParametricDarks | 0 |
ParametricHighlights | 0 |
ParametricHighlightSplit | 75 |
ParametricLights | 0 |
ParametricMidtoneSplit | 50 |
ParametricShadows | 0 |
ParametricShadowSplit | 25 |
PerspectiveHorizontal | 0 |
PerspectiveRotate | 0.0 |
PerspectiveScale | 100 |
PerspectiveVertical | 0 |
PLUSVersion | 1.2.0 |
PostCropVignetteAmount | 0 |
ProcessVersion | 5.7 |
ProfileDescription | sRGB IEC61966-2.1 |
PropertyReleaseStatus | Unknown (nil) |
RedHue | 0 |
RedSaturation | 0 |
Saturation | 0 |
SaturationAdjustmentAqua | 0 |
SaturationAdjustmentBlue | 0 |
SaturationAdjustmentGreen | 0 |
SaturationAdjustmentMagenta | 0 |
SaturationAdjustmentOrange | 0 |
SaturationAdjustmentPurple | 0 |
SaturationAdjustmentRed | 0 |
SaturationAdjustmentYellow | 0 |
ScaleFactor35efl | 1.6 |
SceneCaptureType | Standard |
SerialNumber | 730531447 |
Shadows | 0 |
ShadowTint | 0 |
SharpenDetail | 25 |
SharpenEdgeMasking | 0 |
SharpenRadius | +1.0 |
Sharpness | 0 |
ShutterSpeed | 0.5 |
ShutterSpeedValue | 0.5 |
Software | Adobe Photoshop Lightroom 3.5 (Macintosh) |
SplitToningBalance | 0 |
SplitToningHighlightHue | 0 |
SplitToningHighlightSaturation | 0 |
SplitToningShadowHue | 0 |
SplitToningShadowSaturation | 0 |
SubjectDistance | 2.57 m |
ToneCurve | 0, 0, 255, 255 |
ToneCurveName | Linear |
Version | 6.5 |
Vibrance | 0 |
VignetteAmount | 0 |
WhiteBalance (1) | As Shot |
WhiteBalance | Auto |