Felt | Verdi |
AlreadyApplied | True |
Aperture | 5.6 |
ApertureValue | 5.6 |
Artist | Rune Sandvik |
BitsPerSample | 8 |
BlueHue | 0 |
BlueSaturation | 0 |
Brightness | +39 |
By-line | Rune Sandvik |
CameraProfile | Adobe Standard |
ChromaticAberrationB | 0 |
ChromaticAberrationR | 0 |
CircleOfConfusion | 0.019 mm |
Clarity | 0 |
ColorComponents | 3 |
ColorMode | RGB |
ColorNoiseReduction | 25 |
ColorSpace | Uncalibrated |
ColorTemperature | 5900 |
Contrast | +26 |
ConvertToGrayscale | False |
CreateDate (1) | 2011:12:29 13:33:24+01:00 |
CreateDate | 2011:12:29 13:33:24 |
Creator | Rune Sandvik |
CustomRendered | Normal |
DateAcquired | 2012:01:01 15:43:11 |
DateTimeDigitized | 2011:12:29 13:33:24+01:00 |
DateTimeOriginal (1) | 2011:12:29 13:33:24+01:00 |
DateTimeOriginal | 2011:12:29 13:33:24 |
Defringe | 0 |
ExifImageHeight | 2045 |
ExifImageWidth | 2960 |
Exposure | +0.35 |
ExposureCompensation | 0 |
ExposureMode | Auto |
ExposureProgram | Aperture-priority AE |
ExposureTime | 1/800 |
FillLight | 0 |
Firmware | 1.0.3 |
Flash | Off, Did not fire |
FlashCompensation | 0 |
FlashFired | False |
FlashFunction | False |
FlashMode | Off |
FlashRedEyeMode | False |
FlashReturn | No return detection |
FNumber | 5.6 |
FocalLength | 33.0 mm |
FocalLength35efl | 33.0 mm (35 mm equivalent: 53.5 mm) |
Format | image/jpeg |
FOV | 37.2 deg |
GreenHue | 0 |
GreenSaturation | 0 |
HasCrop | False |
HasSettings | True |
HighlightRecovery | 0 |
HueAdjustmentAqua | 0 |
HueAdjustmentBlue | 0 |
HueAdjustmentGreen | 0 |
HueAdjustmentMagenta | 0 |
HueAdjustmentOrange | 0 |
HueAdjustmentPurple | 0 |
HueAdjustmentRed | 0 |
HueAdjustmentYellow | 0 |
HyperfocalDistance | 10.50 m |
ICCProfileName | Adobe RGB (1998) |
ImageHeight | 2045 |
ImageNumber | 66 |
ImageSize | 2960x2045 |
ImageWidth | 2960 |
ISO | 400 |
Lens | 28.0-135.0 mm |
LensID (1) | 65535 |
LensID | Unknown 28-135mm |
LensInfo | 28-135mm f/? |
LightValue | 12.6 |
LuminanceAdjustmentAqua | 0 |
LuminanceAdjustmentBlue | 0 |
LuminanceAdjustmentGreen | 0 |
LuminanceAdjustmentMagenta | 0 |
LuminanceAdjustmentOrange | 0 |
LuminanceAdjustmentPurple | 0 |
LuminanceAdjustmentRed | 0 |
LuminanceAdjustmentYellow | 0 |
LuminanceSmoothing | 0 |
Make | Canon |
MaxApertureValue | 3.5 |
Megapixels | 6.1 |
MeteringMode | Partial |
Model | Canon EOS 350D DIGITAL |
ModifyDate (1) | 2011:12:30 16:34:17+01:00 |
ModifyDate | 2011:12:30 16:34:17 |
Orientation | Horizontal (normal) |
OwnerName | Rune Sandvik |
ParametricDarks | +3 |
ParametricHighlights | +15 |
ParametricHighlightSplit | 75 |
ParametricLights | -3 |
ParametricMidtoneSplit | 50 |
ParametricShadows | -1 |
ParametricShadowSplit | 25 |
PostCropVignetteAmount | 0 |
ProfileDescription | Adobe RGB (1998) |
Rating | 2 |
RatingPercent | 25 |
RawFileName | IMG_9282.CR2 |
RedHue | 0 |
RedSaturation | 0 |
Saturation | 0 |
SaturationAdjustmentAqua | +28 |
SaturationAdjustmentBlue | +18 |
SaturationAdjustmentGreen | 0 |
SaturationAdjustmentMagenta | -12 |
SaturationAdjustmentOrange | +28 |
SaturationAdjustmentPurple | -34 |
SaturationAdjustmentRed | -8 |
SaturationAdjustmentYellow | +16 |
ScaleFactor35efl | 1.6 |
SceneCaptureType | Standard |
SerialNumber | 930537627 |
Shadows | 5 |
ShadowTint | 0 |
SharpenDetail | 47 |
SharpenEdgeMasking | 0 |
SharpenRadius | +1.5 |
Sharpness | 63 |
ShutterSpeed | 1/800 |
ShutterSpeedValue | 1/800 |
SidecarForExtension | CR2 |
Software | Adobe Photoshop CS4 Windows |
SplitToningBalance | 0 |
SplitToningHighlightHue | 0 |
SplitToningHighlightSaturation | 0 |
SplitToningShadowHue | 0 |
SplitToningShadowSaturation | 0 |
Tint | +11 |
ToneCurve | 0, 0, 32, 22, 64, 56, 128, 128, 192, 196, 255, 255 |
ToneCurveName | Medium Contrast |
URL_List | |
Version | 5.6 |
Vibrance | 0 |
VignetteAmount | 0 |
WhiteBalance (2) | Custom |
WhiteBalance | Auto |