Felt | Verdi |
AlreadyApplied | True |
Aperture | 18.0 |
ApertureValue | 18.0 |
ApproximateFocusDistance | 8.58 |
Artist | kenneth_enstad |
AutoLateralCA | 0 |
BitsPerSample | 8 |
Blacks2012 | +30 |
BlueHue | 0 |
BlueSaturation | 0 |
Brightness | 0 |
By-line | kenneth_enstad |
CameraProfile | Embedded |
CircleOfConfusion | 0.019 mm |
Clarity | 0 |
Clarity2012 | +31 |
ColorComponents | 3 |
ColorNoiseReduction | 0 |
Contrast | 0 |
Contrast2012 | +54 |
ConvertToGrayscale | True |
CopyrightFlag | False |
CreateDate | 2012:06:25 15:12:36.47 |
Creator | kenneth_enstad |
CreatorTool | Snapseed |
DateCreated (1) | 2012:06:25 |
DateCreated | 2012:06:25 15:12:36.47 |
DateTimeOriginal | 2012:06:25 15:12:36 |
Defringe | 0 |
DOF | inf (3.94 m - inf) |
ExifImageHeight | 3456 |
ExifImageWidth | 5184 |
Exposure | 0.00 |
Exposure2012 | +0.15 |
ExposureCompensation | -3 |
ExposureMode | Auto |
ExposureProgram | Program AE |
ExposureTime | 1/800 |
FillLight | 0 |
Firmware | 1.2.1 |
Flash | Off, Did not fire |
FlashCompensation | 0 |
FNumber | 18.0 |
FocalLength | 50.0 mm |
FocalLength35efl | 50.0 mm (35 mm equivalent: 78.5 mm) |
Format | image/jpeg |
FOV | 25.8 deg |
GrainAmount | 0 |
GrayMixerAqua | -17 |
GrayMixerBlue | +12 |
GrayMixerGreen | -15 |
GrayMixerMagenta | +4 |
GrayMixerOrange | +7 |
GrayMixerPurple | +17 |
GrayMixerRed | -11 |
GrayMixerYellow | +5 |
GreenHue | 0 |
GreenSaturation | 0 |
HasCrop | False |
HasSettings | True |
HighlightRecovery | 0 |
Highlights2012 | -57 |
HyperfocalDistance | 7.26 m |
ImageHeight | 3456 |
ImageNumber | 0 |
ImageSize | 5184x3456 |
ImageWidth | 5184 |
IncrementalTemperature | 0 |
IncrementalTint | 0 |
ISO | 200 |
Keywords | ISLAND 2012 7D JPEG |
Lens | EF-S18-200mm f/3.5-5.6 IS |
LensID (1) | 50 |
LensID | Canon EF-S 18-200mm f/3.5-5.6 IS |
LensInfo | 18-200mm f/? |
LensManualDistortionAmount | 0 |
LensProfileEnable | 0 |
LensProfileSetup | LensDefaults |
LightValue | 17.0 |
LuminanceNoiseReductionContrast | 0 |
LuminanceNoiseReductionDetail | 50 |
LuminanceSmoothing | 13 |
Make | Canon |
MaxApertureValue | 4.8 |
Megapixels | 17.9 |
MeteringMode | Multi-segment |
Model | Canon EOS 7D |
ModifyDate (1) | 2012:07:02 20:10:48+02:00 |
ModifyDate | 2012:07:02 20:10:48 |
Orientation | Horizontal (normal) |
ParametricDarks | 0 |
ParametricHighlights | 0 |
ParametricHighlightSplit | 75 |
ParametricLights | 0 |
ParametricMidtoneSplit | 50 |
ParametricShadows | 0 |
ParametricShadowSplit | 25 |
PerspectiveHorizontal | 0 |
PerspectiveRotate | 0.0 |
PerspectiveScale | 100 |
PerspectiveVertical | 0 |
PostCropVignetteAmount | -25 |
PostCropVignetteFeather | 50 |
PostCropVignetteHighlightContrast | 0 |
PostCropVignetteMidpoint | 50 |
PostCropVignetteRoundness | 0 |
PostCropVignetteStyle | 1 |
ProcessVersion | 6.7 |
ProfileDescription | sRGB IEC61966-2.1 |
RedHue | 0 |
RedSaturation | 0 |
ScaleFactor35efl | 1.6 |
SceneCaptureType | Standard |
SerialNumber | 1080707168 |
Shadows | 0 |
Shadows2012 | +43 |
ShadowTint | 0 |
SharpenDetail | 25 |
SharpenEdgeMasking | 0 |
SharpenRadius | +1.0 |
Sharpness | 22 |
ShutterSpeed | 1/800 |
ShutterSpeedValue | 1/800 |
Software | Snapseed |
SplitToningBalance | 0 |
SplitToningHighlightHue | 0 |
SplitToningHighlightSaturation | 0 |
SplitToningShadowHue | 0 |
SplitToningShadowSaturation | 0 |
Subject | ISLAND 2012 7D JPEG |
ToneCurve | 0, 0, 255, 255 |
ToneCurveBlue | 0, 0, 255, 255 |
ToneCurveGreen | 0, 0, 255, 255 |
ToneCurveName | Linear |
ToneCurveName2012 | Linear |
ToneCurvePV2012 | 0, 0, 255, 255 |
ToneCurvePV2012Blue | 0, 0, 255, 255 |
ToneCurvePV2012Green | 0, 0, 255, 255 |
ToneCurvePV2012Red | 0, 0, 255, 255 |
ToneCurveRed | 0, 0, 255, 255 |
Version | 7.0 |
VignetteAmount | 0 |
WhiteBalance (1) | As Shot |
WhiteBalance | Auto |
Whites2012 | 0 |