Felt | Verdi |
AlreadyApplied | True |
Aperture | 8.0 |
ApertureValue | 8.0 |
BitsPerSample | 8 |
BlueHue | 0 |
BlueSaturation | 0 |
BrightnessValue | 11.01328125 |
CameraProfile | Adobe Standard |
CircleOfConfusion | 0.020 mm |
ColorComponents | 1 |
ColorNoiseReduction | 25 |
ColorNoiseReductionDetail | 50 |
ColorSpace | Uncalibrated |
ColorTemperature | 4857 |
Contrast | Normal |
ConvertToGrayscale | False |
CopyrightFlag | False |
CreateDate | 2012:12:01 11:14:38 |
CreatorTool | Adobe Photoshop Lightroom 4.1 (Windows) |
CropAngle | 0 |
CropBottom | 0.893887 |
CropConstrainToWarp | 0 |
CropHeight | 2730 |
CropLeft | 0.002546 |
CropRight | 0.997735 |
CropTop | 0.057595 |
CropUnit | pixels |
CropWidth | 4888 |
DateCreated (1) | 2012:12:01 |
DateCreated | 2012:12:01 11:14:38 |
DateTimeOriginal | 2012:12:01 11:14:38 |
ExposureCompensation | 0 |
ExposureMode | Auto |
ExposureProgram | Aperture-priority AE |
ExposureTime | 1/4000 |
Flash | Off, Did not fire |
FNumber | 8.0 |
FocalLength | 27.0 mm |
FocalLength35efl | 27.0 mm (35 mm equivalent: 40.0 mm) |
FocalLengthIn35mmFormat | 40 mm |
Format | image/jpeg |
FOV | 48.5 deg |
GradientBasedCorrections | True, 1.000000, 0.540050, 0.112561, 1.000000, Mask/Gradient, 0.543618, 0.740462, 0.000000, 0.000000, 0.000000, 0.000000, 0.000000, Correction |
GrainAmount | 0 |
GreenHue | 0 |
GreenSaturation | 0 |
HasCrop | True |
HasSettings | True |
HueAdjustmentAqua | +8 |
HueAdjustmentBlue | +17 |
HueAdjustmentGreen | 0 |
HueAdjustmentMagenta | 0 |
HueAdjustmentOrange | 0 |
HueAdjustmentPurple | 0 |
HueAdjustmentRed | 0 |
HueAdjustmentYellow | 0 |
HyperfocalDistance | 4.49 m |
ImageHeight | 2820 |
ImageSize | 4978x2820 |
ImageWidth | 4978 |
ISO | 100 |
Lens | E 18-55mm F3.5-5.6 OSS |
LensInfo | 18-55mm f/3.5-5.6 |
LensManualDistortionAmount | 0 |
LensProfileChromaticAberrationScale | 100 |
LensProfileDistortionScale | 100 |
LensProfileEnable | 0 |
LensProfileFilename | Sony NEX-5 (Sony E 18-55mm F3.5-5.6 OSS) - RAW.lcp |
LensProfileName | Adobe (Sony E 18-55mm F3.5-5.6 OSS) |
LensProfileSetup | LensDefaults |
LensProfileVignettingScale | 100 |
LightSource | Unknown |
LightValue | 18.0 |
LuminanceAdjustmentAqua | -16 |
LuminanceAdjustmentBlue | -34 |
LuminanceAdjustmentGreen | 0 |
LuminanceAdjustmentMagenta | 0 |
LuminanceAdjustmentOrange | 0 |
LuminanceAdjustmentPurple | 0 |
LuminanceAdjustmentRed | 0 |
LuminanceAdjustmentYellow | 0 |
LuminanceNoiseReductionContrast | 0 |
LuminanceNoiseReductionDetail | 50 |
LuminanceSmoothing | 11 |
Make | SONY |
MaxApertureValue | 4.0 |
Megapixels | 14.0 |
MeteringMode | Center-weighted average |
Model | NEX-5N |
ModifyDate (1) | 2012:12:01 13:43:08+01:00 |
ModifyDate | 2012:12:01 13:43:08 |
Orientation | Horizontal (normal) |
ParametricDarks | 0 |
ParametricHighlights | 0 |
ParametricHighlightSplit | 75 |
ParametricLights | 0 |
ParametricMidtoneSplit | 50 |
ParametricShadows | 0 |
ParametricShadowSplit | 25 |
PerspectiveHorizontal | 0 |
PerspectiveRotate | +1.2 |
PerspectiveScale | 100 |
PerspectiveVertical | 0 |
PostCropVignetteAmount | 0 |
ProcessVersion | 6.7 |
ProfileDescription | sRGB IEC61966-2.1 |
RedHue | 0 |
RedSaturation | 0 |
Saturation | Normal |
SaturationAdjustmentAqua | +20 |
SaturationAdjustmentBlue | +38 |
SaturationAdjustmentGreen | 0 |
SaturationAdjustmentMagenta | 0 |
SaturationAdjustmentOrange | 0 |
SaturationAdjustmentPurple | 0 |
SaturationAdjustmentRed | 0 |
SaturationAdjustmentYellow | 0 |
ScaleFactor35efl | 1.5 |
SceneCaptureType | Standard |
SceneType | Directly photographed |
ShadowTint | 0 |
SharpenDetail | 25 |
SharpenEdgeMasking | 0 |
SharpenRadius | +1.0 |
Sharpness | Normal |
ShutterSpeed | 1/4000 |
ShutterSpeedValue | 1/4000 |
Software | Adobe Photoshop Lightroom 4.1 (Windows) |
SplitToningBalance | 0 |
SplitToningHighlightHue | 0 |
SplitToningHighlightSaturation | 0 |
SplitToningShadowHue | 0 |
SplitToningShadowSaturation | 0 |
Tint | +7 |
Version | 7.1 |
Vibrance | +14 |
VignetteAmount | 0 |
WhiteBalance | Auto |