Felt | Verdi |
AlreadyApplied | True |
Aperture | 3.5 |
ApertureValue | 3.5 |
ApproximateFocusDistance | 9.44 |
AutoLateralCA | 1 |
BitsPerSample | 8 |
Blacks2012 | -26 |
BlueHue | 0 |
BlueSaturation | 0 |
CameraProfile | Adobe Standard |
CircGradBasedCorrActive | true |
CircGradBasedCorrAmount | 1.000000 |
CircGradBasedCorrBrightness | 0.000000 |
CircGradBasedCorrClarity2012 | 0.000000 |
CircGradBasedCorrContrast2012 | 0.000000 |
CircGradBasedCorrDefringe | 0.000000 |
CircGradBasedCorrExposure2012 | -0.103500 |
CircGradBasedCorrHighlights2012 | 0.000000 |
CircGradBasedCorrHue | 228.000000 |
CircGradBasedCorrLuminanceNoise | 0.000000 |
CircGradBasedCorrMaskAngle (8) | -0.000022 |
CircGradBasedCorrMaskAngle | 0.000000 |
CircGradBasedCorrMaskBottom (1) | 0.765139 |
CircGradBasedCorrMaskBottom (2) | 0.692960 |
CircGradBasedCorrMaskBottom (3) | 0.703039 |
CircGradBasedCorrMaskBottom (4) | 0.728657 |
CircGradBasedCorrMaskBottom (5) | 0.493258 |
CircGradBasedCorrMaskBottom (6) | 0.520669 |
CircGradBasedCorrMaskBottom (7) | 0.517240 |
CircGradBasedCorrMaskBottom (8) | 0.489940 |
CircGradBasedCorrMaskBottom (9) | 0.782791 |
CircGradBasedCorrMaskBottom | 0.426349 |
CircGradBasedCorrMaskFeather | +79 |
CircGradBasedCorrMaskFlipped (1) | false |
CircGradBasedCorrMaskFlipped | true |
CircGradBasedCorrMaskLeft (1) | 0.072299 |
CircGradBasedCorrMaskLeft (2) | 0.064663 |
CircGradBasedCorrMaskLeft (3) | 0.669765 |
CircGradBasedCorrMaskLeft (4) | 0.651784 |
CircGradBasedCorrMaskLeft (5) | 0.622663 |
CircGradBasedCorrMaskLeft (6) | 0.425459 |
CircGradBasedCorrMaskLeft (7) | 0.414497 |
CircGradBasedCorrMaskLeft (8) | 0.506452 |
CircGradBasedCorrMaskLeft (9) | 0.813177 |
CircGradBasedCorrMaskLeft | 0.108380 |
CircGradBasedCorrMaskMidpoint | +50 |
CircGradBasedCorrMaskRight (1) | 0.831837 |
CircGradBasedCorrMaskRight (2) | 0.838395 |
CircGradBasedCorrMaskRight (3) | 0.845965 |
CircGradBasedCorrMaskRight (4) | 0.762591 |
CircGradBasedCorrMaskRight (5) | 0.681756 |
CircGradBasedCorrMaskRight (6) | 0.499804 |
CircGradBasedCorrMaskRight (7) | 0.484404 |
CircGradBasedCorrMaskRight (8) | 0.551308 |
CircGradBasedCorrMaskRight (9) | 0.872720 |
CircGradBasedCorrMaskRight | 0.288882 |
CircGradBasedCorrMaskRoundness | 0 |
CircGradBasedCorrMaskTop (1) | 0.421383 |
CircGradBasedCorrMaskTop (2) | 0.482125 |
CircGradBasedCorrMaskTop (3) | 0.505526 |
CircGradBasedCorrMaskTop (4) | 0.642247 |
CircGradBasedCorrMaskTop (5) | 0.404571 |
CircGradBasedCorrMaskTop (6) | 0.422218 |
CircGradBasedCorrMaskTop (7) | 0.495929 |
CircGradBasedCorrMaskTop (8) | 0.453817 |
CircGradBasedCorrMaskTop (9) | 0.620318 |
CircGradBasedCorrMaskTop | 0.343120 |
CircGradBasedCorrMaskValue | 1.000000 |
CircGradBasedCorrMaskVersion | +2 |
CircGradBasedCorrMaskWhat | Mask/CircularGradient |
CircGradBasedCorrMoire | 0.000000 |
CircGradBasedCorrSaturation (17) | -1.000000 |
CircGradBasedCorrSaturation (7) | 1.000000 |
CircGradBasedCorrSaturation | 0.010000 |
CircGradBasedCorrShadows2012 | 0.000000 |
CircGradBasedCorrSharpness | 0.060000 |
CircGradBasedCorrTemperature | -0.057470 |
CircGradBasedCorrTint | -0.028510 |
CircGradBasedCorrWhat | Correction |
CircleOfConfusion | 0.019 mm |
Clarity2012 | +26 |
ColorComponents | 3 |
ColorNoiseReduction | 25 |
ColorNoiseReductionDetail | 50 |
ColorTemperature | 5150 |
Contrast2012 | +1 |
ConvertToGrayscale | False |
CreateDate (1) | 2013:06:18 15:04:04.73 |
CreateDate | 2013:06:18 15:04:04 |
CreatorTool | Adobe Photoshop Lightroom 5.0 (Windows) |
CropAngle | 0 |
CropBottom | 0.736232 |
CropConstrainToWarp | 0 |
CropLeft | 0.247343 |
CropRight | 0.559421 |
CropTop | 0.405797 |
CustomRendered | Normal |
DateCreated (1) | 2013:06:18 |
DateCreated | 2013:06:18 15:04:04.73 |
DateTimeOriginal | 2013:06:18 15:04:04 |
DefringeGreenAmount | 0 |
DefringeGreenHueHi | 60 |
DefringeGreenHueLo | 40 |
DefringePurpleAmount | 0 |
DefringePurpleHueHi | 70 |
DefringePurpleHueLo | 30 |
DOF | 2.45 m (8.37 - 10.82 m) |
Exposure2012 | +0.71 |
ExposureCompensation | 0 |
ExposureMode | Manual |
ExposureProgram | Manual |
ExposureTime | 1/2000 |
Firmware | 1.0.8 |
Flash | Off, Did not fire |
FlashCompensation | 0 |
FNumber | 3.5 |
FocalLength | 70.0 mm |
FocalLength35efl | 70.0 mm (35 mm equivalent: 110.1 mm) |
Format | image/jpeg |
FOV | 18.6 deg |
GrainAmount | 80 |
GrainFrequency | 90 |
GrainSize | 0 |
GreenHue | 0 |
GreenSaturation | 0 |
HasCrop | True |
HasSettings | True |
Highlights2012 | -33 |
HueAdjustmentAqua | 0 |
HueAdjustmentBlue | 0 |
HueAdjustmentGreen | 0 |
HueAdjustmentMagenta | 0 |
HueAdjustmentOrange | 0 |
HueAdjustmentPurple | 0 |
HueAdjustmentRed | 0 |
HueAdjustmentYellow | 0 |
HyperfocalDistance | 73.28 m |
ImageHeight | 723 |
ImageNumber | 0 |
ImageSize | 1024x723 |
ImageWidth | 1024 |
ISO | 160 |
Lens | 70-200mm |
LensID (1) | 174 |
LensID | Sigma 70-200mm f/2.8 EX DG APO OS HSM |
LensInfo | 70-200mm f/? |
LensManualDistortionAmount | 0 |
LensModel | 70-200mm |
LensProfileChromaticAberrationScale | 100 |
LensProfileDistortionScale | 100 |
LensProfileEnable | 1 |
LensProfileFilename | Canon (SIGMA APO 70-200mm F2.8 EX DG OS HSM) - RAW.lcp |
LensProfileName | Adobe (SIGMA APO 70-200mm F2.8 EX DG OS HSM, Canon) |
LensProfileSetup | Custom |
LensProfileVignettingScale | 100 |
LensSerialNumber | 0000000000 |
LightValue | 13.9 |
LuminanceAdjustmentAqua | 0 |
LuminanceAdjustmentBlue | 0 |
LuminanceAdjustmentGreen | 0 |
LuminanceAdjustmentMagenta | 0 |
LuminanceAdjustmentOrange | 0 |
LuminanceAdjustmentPurple | 0 |
LuminanceAdjustmentRed | 0 |
LuminanceAdjustmentYellow | 0 |
LuminanceSmoothing | 0 |
Make | Canon |
MaxApertureValue | 2.8 |
Megapixels | 0.740 |
MeteringMode | Spot |
Model | Canon EOS 60D |
ModifyDate (1) | 2013:06:29 22:43:14+02:00 |
ModifyDate | 2013:06:29 22:43:14 |
ParametricDarks | 0 |
ParametricHighlights | 0 |
ParametricHighlightSplit | 75 |
ParametricLights | 0 |
ParametricMidtoneSplit | 50 |
ParametricShadows | 0 |
ParametricShadowSplit | 25 |
PerspectiveAspect | 0 |
PerspectiveHorizontal | 0 |
PerspectiveRotate | 0.0 |
PerspectiveScale | 100 |
PerspectiveUpright | 1 |
PerspectiveVertical | 0 |
PostCropVignetteAmount | +45 |
PostCropVignetteFeather | 27 |
PostCropVignetteMidpoint | 50 |
PostCropVignetteRoundness | -14 |
PostCropVignetteStyle | 1 |
ProcessVersion | 6.7 |
ProfileDescription | sRGB IEC61966-2.1 |
RecommendedExposureIndex | 160 |
RedHue | 0 |
RedSaturation | 0 |
Saturation | 0 |
SaturationAdjustmentAqua | 0 |
SaturationAdjustmentBlue | 0 |
SaturationAdjustmentGreen | 0 |
SaturationAdjustmentMagenta | 0 |
SaturationAdjustmentOrange | 0 |
SaturationAdjustmentPurple | 0 |
SaturationAdjustmentRed | 0 |
SaturationAdjustmentYellow | 0 |
ScaleFactor35efl | 1.6 |
SceneCaptureType | Standard |
SensitivityType | Recommended Exposure Index |
SerialNumber | 0780445231 |
Shadows2012 | +33 |
ShadowTint | 0 |
SharpenDetail | 25 |
SharpenEdgeMasking | 0 |
SharpenRadius | +1.0 |
Sharpness | 25 |
ShutterSpeed | 1/2000 |
ShutterSpeedValue | 1/2000 |
Software | Adobe Photoshop Lightroom 5.0 (Windows) |
SplitToningBalance | 0 |
SplitToningHighlightHue | 0 |
SplitToningHighlightSaturation | 0 |
SplitToningShadowHue | 0 |
SplitToningShadowSaturation | 0 |
Tint | +6 |
ToneCurveName2012 | Linear |
ToneCurvePV2012 | 0, 0, 255, 255 |
ToneCurvePV2012Blue | 0, 0, 255, 255 |
ToneCurvePV2012Green | 0, 0, 255, 255 |
ToneCurvePV2012Red | 0, 0, 255, 255 |
Version | 8.1 |
Vibrance | 0 |
VignetteAmount | 0 |
WhiteBalance (1) | As Shot |
WhiteBalance | Manual |
Whites2012 | -5 |