Felt | Verdi |
AlreadyApplied | True |
Aperture | 8.0 |
ApertureValue | 8.0 |
BitsPerSample | 8 |
BlueHue | 0 |
BlueSaturation | 0 |
Brightness | +50 |
BrightnessValue | -5.13 |
CameraProfile | Adobe Standard |
ChromaticAberrationB | 0 |
ChromaticAberrationR | 0 |
Clarity | -11 |
ColorComponents | 1 |
ColorNoiseReduction | 25 |
ColorNoiseReductionDetail | 50 |
ColorTemperature | 4201 |
Contrast | +25 |
ConvertToGrayscale | True |
CreateDate | 2014:01:30 19:00:11 |
CreatorTool | Adobe Photoshop Lightroom 3.6 (Macintosh) |
CropAngle | -0.837844 |
CropBottom | 0.666442 |
CropConstrainToWarp | 0 |
CropHeight | 1898 |
CropLeft | 0 |
CropRight | 1 |
CropTop | 0.021876 |
CropUnit | pixels |
CropWidth | 4260 |
CustomRendered | Custom |
DateCreated (1) | 2014:01:30 |
DateCreated | 2014:01:30 19:00:11 |
DateTimeOriginal | 2014:01:30 19:00:11 |
Defringe | 0 |
Exposure | +3.10 |
ExposureCompensation | 0 |
ExposureMode | Auto |
ExposureProgram | Aperture-priority AE |
ExposureTime | 1/30 |
FillLight | 9 |
Flash | On, Fired |
FNumber | 8.0 |
FocalLength | 23.0 mm |
FocalLength35efl | 23.0 mm |
Format | image/jpeg |
GradientBasedCorrActive | true |
GradientBasedCorrAmount | 1.000000 |
GradientBasedCorrBrightness | 0.521140 |
GradientBasedCorrClarity | 0.989246 |
GradientBasedCorrContrast | 1.000000 |
GradientBasedCorrExposure | 0.474632 |
GradientBasedCorrHue | 233.000000 |
GradientBasedCorrMaskFullX | 0.522812 |
GradientBasedCorrMaskFullY | 0.224836 |
GradientBasedCorrMaskValue | 1.000000 |
GradientBasedCorrMaskWhat | Mask/Gradient |
GradientBasedCorrMaskZeroX | 0.529219 |
GradientBasedCorrMaskZeroY | 0.804419 |
GradientBasedCorrSaturation (1) | -0.672518 |
GradientBasedCorrSaturation | 0.000000 |
GradientBasedCorrSharpness | 0.000000 |
GradientBasedCorrWhat | Correction |
GrainAmount | 0 |
GrayMixerAqua | +7 |
GrayMixerBlue | -2 |
GrayMixerGreen | +3 |
GrayMixerMagenta | +4 |
GrayMixerOrange | +3 |
GrayMixerPurple | +17 |
GrayMixerRed | -23 |
GrayMixerYellow | +55 |
GreenHue | 0 |
GreenSaturation | 0 |
HasCrop | True |
HasSettings | True |
HighlightRecovery | 100 |
ImageHeight | 1898 |
ImageSize | 4260x1898 |
ImageWidth | 4260 |
ISO | 320 |
LensManualDistortionAmount | 0 |
LensProfileEnable | 0 |
LensProfileSetup | LensDefaults |
LightSource | Unknown |
LightValue | 9.2 |
LuminanceNoiseReductionContrast | 0 |
LuminanceNoiseReductionDetail | 50 |
LuminanceSmoothing | 35 |
Make | FUJIFILM |
MaxApertureValue | 2.0 |
Megapixels | 8.1 |
MeteringMode | Multi-segment |
Model | FinePix X100 |
ModifyDate (1) | 2014:02:04 07:20:02+01:00 |
ModifyDate | 2014:02:04 07:20:02 |
ParametricDarks | -76 |
ParametricHighlights | -1 |
ParametricHighlightSplit | 75 |
ParametricLights | +21 |
ParametricMidtoneSplit | 50 |
ParametricShadows | -96 |
ParametricShadowSplit | 25 |
PerspectiveHorizontal | 0 |
PerspectiveRotate | 0.0 |
PerspectiveScale | 100 |
PerspectiveVertical | 0 |
PostCropVignetteAmount | 0 |
ProcessVersion | 5.7 |
ProfileDescription | sRGB IEC61966-2.1 |
RedHue | 0 |
RedSaturation | 0 |
SceneCaptureType | Standard |
SceneType | Directly photographed |
SensingMethod | One-chip color area |
SensitivityType | Standard Output Sensitivity |
Shadows | 5 |
ShadowTint | 0 |
SharpenDetail | 25 |
SharpenEdgeMasking | 24 |
SharpenRadius | +1.0 |
Sharpness (1) | 105 |
Sharpness | Normal |
ShutterSpeed | 1/30 |
ShutterSpeedValue | 1/30 |
Software | Adobe Photoshop Lightroom 3.6 (Macintosh) |
SplitToningBalance | 0 |
SplitToningHighlightHue | 0 |
SplitToningHighlightSaturation | 0 |
SplitToningShadowHue | 0 |
SplitToningShadowSaturation | 0 |
SubjectDistanceRange | Unknown |
Tint | +96 |
ToneCurve | 0, 0, 32, 22, 64, 56, 128, 128, 192, 196, 255, 255 |
ToneCurveName | Medium Contrast |
Version | 6.6 |
VignetteAmount | 0 |
WhiteBalance (1) | Custom |
WhiteBalance | Auto |